| Back to Multiple platform build/check report for BioC 3.14 |
|
This page was generated on 2022-04-13 12:05:57 -0400 (Wed, 13 Apr 2022).
| Hostname | OS | Arch (*) | R version | Installed pkgs |
|---|---|---|---|---|
| nebbiolo2 | Linux (Ubuntu 20.04.4 LTS) | x86_64 | 4.1.3 (2022-03-10) -- "One Push-Up" | 4324 |
| tokay2 | Windows Server 2012 R2 Standard | x64 | 4.1.3 (2022-03-10) -- "One Push-Up" | 4077 |
| machv2 | macOS 10.14.6 Mojave | x86_64 | 4.1.3 (2022-03-10) -- "One Push-Up" | 4137 |
| Click on any hostname to see more info about the system (e.g. compilers) (*) as reported by 'uname -p', except on Windows and Mac OS X | ||||
|
To the developers/maintainers of the SIAMCAT package: - Please allow up to 24 hours (and sometimes 48 hours) for your latest push to git@git.bioconductor.org:packages/SIAMCAT.git to reflect on this report. See How and When does the builder pull? When will my changes propagate? for more information. - Make sure to use the following settings in order to reproduce any error or warning you see on this page. |
| Package 1784/2083 | Hostname | OS / Arch | INSTALL | BUILD | CHECK | BUILD BIN | ||||||||
| SIAMCAT 1.14.0 (landing page) Jakob Wirbel
| nebbiolo2 | Linux (Ubuntu 20.04.4 LTS) / x86_64 | OK | OK | OK | |||||||||
| tokay2 | Windows Server 2012 R2 Standard / x64 | OK | OK | OK | OK | |||||||||
| machv2 | macOS 10.14.6 Mojave / x86_64 | OK | OK | OK | OK | |||||||||
| Package: SIAMCAT |
| Version: 1.14.0 |
| Command: /home/biocbuild/bbs-3.14-bioc/R/bin/R CMD check --install=check:SIAMCAT.install-out.txt --library=/home/biocbuild/bbs-3.14-bioc/R/library --no-vignettes --timings SIAMCAT_1.14.0.tar.gz |
| StartedAt: 2022-04-12 09:22:08 -0400 (Tue, 12 Apr 2022) |
| EndedAt: 2022-04-12 09:24:59 -0400 (Tue, 12 Apr 2022) |
| EllapsedTime: 170.2 seconds |
| RetCode: 0 |
| Status: OK |
| CheckDir: SIAMCAT.Rcheck |
| Warnings: 0 |
##############################################################################
##############################################################################
###
### Running command:
###
### /home/biocbuild/bbs-3.14-bioc/R/bin/R CMD check --install=check:SIAMCAT.install-out.txt --library=/home/biocbuild/bbs-3.14-bioc/R/library --no-vignettes --timings SIAMCAT_1.14.0.tar.gz
###
##############################################################################
##############################################################################
* using log directory ‘/home/biocbuild/bbs-3.14-bioc/meat/SIAMCAT.Rcheck’
* using R version 4.1.3 (2022-03-10)
* using platform: x86_64-pc-linux-gnu (64-bit)
* using session charset: UTF-8
* using option ‘--no-vignettes’
* checking for file ‘SIAMCAT/DESCRIPTION’ ... OK
* checking extension type ... Package
* this is package ‘SIAMCAT’ version ‘1.14.0’
* checking package namespace information ... OK
* checking package dependencies ... OK
* checking if this is a source package ... OK
* checking if there is a namespace ... OK
* checking for hidden files and directories ... NOTE
Found the following hidden files and directories:
.travis.yml
These were most likely included in error. See section ‘Package
structure’ in the ‘Writing R Extensions’ manual.
* checking for portable file names ... OK
* checking for sufficient/correct file permissions ... OK
* checking whether package ‘SIAMCAT’ can be installed ... OK
* checking installed package size ... NOTE
installed size is 5.5Mb
sub-directories of 1Mb or more:
extdata 2.1Mb
help 1.9Mb
* checking package directory ... OK
* checking ‘build’ directory ... OK
* checking DESCRIPTION meta-information ... OK
* checking top-level files ... OK
* checking for left-over files ... OK
* checking index information ... OK
* checking package subdirectories ... OK
* checking R files for non-ASCII characters ... OK
* checking R files for syntax errors ... OK
* checking whether the package can be loaded ... OK
* checking whether the package can be loaded with stated dependencies ... OK
* checking whether the package can be unloaded cleanly ... OK
* checking whether the namespace can be loaded with stated dependencies ... OK
* checking whether the namespace can be unloaded cleanly ... OK
* checking dependencies in R code ... OK
* checking S3 generic/method consistency ... OK
* checking replacement functions ... OK
* checking foreign function calls ... OK
* checking R code for possible problems ... OK
* checking Rd files ... OK
* checking Rd metadata ... OK
* checking Rd cross-references ... OK
* checking for missing documentation entries ... OK
* checking for code/documentation mismatches ... OK
* checking Rd \usage sections ... OK
* checking Rd contents ... OK
* checking for unstated dependencies in examples ... OK
* checking contents of ‘data’ directory ... OK
* checking data for non-ASCII characters ... NOTE
Note: found 10 marked UTF-8 strings
* checking LazyData ... OK
* checking data for ASCII and uncompressed saves ... OK
* checking files in ‘vignettes’ ... OK
* checking examples ... OK
Examples with CPU (user + system) or elapsed time > 5s
user system elapsed
train.model 17.027 0.16 17.188
* checking for unstated dependencies in vignettes ... OK
* checking package vignettes in ‘inst/doc’ ... OK
* checking running R code from vignettes ... SKIPPED
* checking re-building of vignette outputs ... SKIPPED
* checking PDF version of manual ... OK
* DONE
Status: 3 NOTEs
See
‘/home/biocbuild/bbs-3.14-bioc/meat/SIAMCAT.Rcheck/00check.log’
for details.
SIAMCAT.Rcheck/00install.out
############################################################################## ############################################################################## ### ### Running command: ### ### /home/biocbuild/bbs-3.14-bioc/R/bin/R CMD INSTALL SIAMCAT ### ############################################################################## ############################################################################## * installing to library ‘/home/biocbuild/bbs-3.14-bioc/R/library’ * installing *source* package ‘SIAMCAT’ ... ** using staged installation ** R ** data *** moving datasets to lazyload DB ** inst ** byte-compile and prepare package for lazy loading ** help *** installing help indices *** copying figures ** building package indices ** installing vignettes ** testing if installed package can be loaded from temporary location ** testing if installed package can be loaded from final location ** testing if installed package keeps a record of temporary installation path * DONE (SIAMCAT)
SIAMCAT.Rcheck/SIAMCAT-Ex.timings
| name | user | system | elapsed | |
| accessSlot | 0.027 | 0.004 | 0.031 | |
| add.meta.pred | 0.089 | 0.000 | 0.089 | |
| assign-associations | 0.02 | 0.00 | 0.02 | |
| assign-data_split | 0.675 | 0.024 | 0.699 | |
| assign-eval_data | 0.017 | 0.000 | 0.018 | |
| assign-filt_feat | 0.019 | 0.000 | 0.019 | |
| assign-label | 0.019 | 0.000 | 0.020 | |
| assign-meta | 0.039 | 0.000 | 0.039 | |
| assign-model_list | 0.028 | 0.000 | 0.028 | |
| assign-norm_feat | 0.017 | 0.000 | 0.017 | |
| assign-orig_feat | 0.021 | 0.000 | 0.021 | |
| assign-physeq | 0.018 | 0.000 | 0.018 | |
| assign-pred_matrix | 0.017 | 0.000 | 0.017 | |
| assoc_param-methods | 0.025 | 0.001 | 0.025 | |
| associations-methods | 0.015 | 0.003 | 0.019 | |
| check.associations | 0.255 | 0.008 | 0.263 | |
| check.confounders | 0.423 | 0.024 | 0.447 | |
| create.data.split | 0.035 | 0.000 | 0.035 | |
| create.label | 0.000 | 0.004 | 0.004 | |
| data_split-methods | 0.052 | 0.008 | 0.061 | |
| eval_data-methods | 0.017 | 0.000 | 0.018 | |
| evaluate.predictions | 0.030 | 0.004 | 0.034 | |
| feature_type-methods | 0.018 | 0.000 | 0.019 | |
| feature_weights-methods | 0.034 | 0.000 | 0.035 | |
| filt_feat-methods | 0.018 | 0.000 | 0.017 | |
| filt_params-methods | 0.017 | 0.000 | 0.017 | |
| filter.features | 0.022 | 0.000 | 0.022 | |
| filter.label | 0.028 | 0.000 | 0.029 | |
| get.filt_feat.matrix | 0.017 | 0.000 | 0.017 | |
| get.norm_feat.matrix | 0.017 | 0.000 | 0.017 | |
| get.orig_feat.matrix | 0.025 | 0.004 | 0.029 | |
| label-methods | 0.017 | 0.000 | 0.018 | |
| make.predictions | 0.169 | 0.000 | 0.170 | |
| meta-methods | 0.034 | 0.000 | 0.034 | |
| model.evaluation.plot | 0.029 | 0.000 | 0.029 | |
| model.interpretation.plot | 0.070 | 0.000 | 0.071 | |
| model_list-methods | 0.031 | 0.000 | 0.031 | |
| model_type-methods | 0.016 | 0.000 | 0.016 | |
| models-methods | 0.018 | 0.000 | 0.018 | |
| norm_feat-methods | 0.016 | 0.000 | 0.016 | |
| norm_params-methods | 0.024 | 0.004 | 0.028 | |
| normalize.features | 0.028 | 0.003 | 0.031 | |
| orig_feat-methods | 0.026 | 0.000 | 0.026 | |
| physeq-methods | 0.022 | 0.000 | 0.022 | |
| pred_matrix-methods | 0.029 | 0.000 | 0.029 | |
| read.label | 0.009 | 0.000 | 0.009 | |
| read.lefse | 1.260 | 0.064 | 1.325 | |
| select.samples | 0.064 | 0.000 | 0.064 | |
| siamcat | 0.259 | 0.000 | 0.259 | |
| siamcat.to.lefse | 0.050 | 0.000 | 0.051 | |
| siamcat.to.maaslin | 0.032 | 0.000 | 0.033 | |
| summarize.features | 2.419 | 0.096 | 2.516 | |
| train.model | 17.027 | 0.160 | 17.188 | |
| validate.data | 0.036 | 0.000 | 0.035 | |
| weight_matrix-methods | 0.015 | 0.004 | 0.018 | |