| Back to Multiple platform build/check report for BioC 3.14 |
|
This page was generated on 2022-04-13 12:07:21 -0400 (Wed, 13 Apr 2022).
| Hostname | OS | Arch (*) | R version | Installed pkgs |
|---|---|---|---|---|
| nebbiolo2 | Linux (Ubuntu 20.04.4 LTS) | x86_64 | 4.1.3 (2022-03-10) -- "One Push-Up" | 4324 |
| tokay2 | Windows Server 2012 R2 Standard | x64 | 4.1.3 (2022-03-10) -- "One Push-Up" | 4077 |
| machv2 | macOS 10.14.6 Mojave | x86_64 | 4.1.3 (2022-03-10) -- "One Push-Up" | 4137 |
| Click on any hostname to see more info about the system (e.g. compilers) (*) as reported by 'uname -p', except on Windows and Mac OS X | ||||
|
To the developers/maintainers of the SEtools package: - Please allow up to 24 hours (and sometimes 48 hours) for your latest push to git@git.bioconductor.org:packages/SEtools.git to reflect on this report. See How and When does the builder pull? When will my changes propagate? for more information. - Make sure to use the following settings in order to reproduce any error or warning you see on this page. |
| Package 1776/2083 | Hostname | OS / Arch | INSTALL | BUILD | CHECK | BUILD BIN | ||||||||
| SEtools 1.8.0 (landing page) Pierre-Luc Germain
| nebbiolo2 | Linux (Ubuntu 20.04.4 LTS) / x86_64 | OK | OK | WARNINGS | |||||||||
| tokay2 | Windows Server 2012 R2 Standard / x64 | OK | OK | WARNINGS | OK | |||||||||
| machv2 | macOS 10.14.6 Mojave / x86_64 | OK | OK | WARNINGS | OK | |||||||||
| Package: SEtools |
| Version: 1.8.0 |
| Command: C:\cygwin\bin\curl.exe -O http://155.52.207.166/BBS/3.14/bioc/src/contrib/SEtools_1.8.0.tar.gz && rm -rf SEtools.buildbin-libdir && mkdir SEtools.buildbin-libdir && C:\Users\biocbuild\bbs-3.14-bioc\R\bin\R.exe CMD INSTALL --merge-multiarch --build --library=SEtools.buildbin-libdir SEtools_1.8.0.tar.gz && C:\Users\biocbuild\bbs-3.14-bioc\R\bin\R.exe CMD INSTALL SEtools_1.8.0.zip && rm SEtools_1.8.0.tar.gz SEtools_1.8.0.zip |
| StartedAt: 2022-04-12 06:01:11 -0400 (Tue, 12 Apr 2022) |
| EndedAt: 2022-04-12 06:02:20 -0400 (Tue, 12 Apr 2022) |
| EllapsedTime: 69.8 seconds |
| RetCode: 0 |
| Status: OK |
##############################################################################
##############################################################################
###
### Running command:
###
### C:\cygwin\bin\curl.exe -O http://155.52.207.166/BBS/3.14/bioc/src/contrib/SEtools_1.8.0.tar.gz && rm -rf SEtools.buildbin-libdir && mkdir SEtools.buildbin-libdir && C:\Users\biocbuild\bbs-3.14-bioc\R\bin\R.exe CMD INSTALL --merge-multiarch --build --library=SEtools.buildbin-libdir SEtools_1.8.0.tar.gz && C:\Users\biocbuild\bbs-3.14-bioc\R\bin\R.exe CMD INSTALL SEtools_1.8.0.zip && rm SEtools_1.8.0.tar.gz SEtools_1.8.0.zip
###
##############################################################################
##############################################################################
% Total % Received % Xferd Average Speed Time Time Time Current
Dload Upload Total Spent Left Speed
0 0 0 0 0 0 0 0 --:--:-- --:--:-- --:--:-- 0
3 312k 3 11961 0 0 144k 0 0:00:02 --:--:-- 0:00:02 144k
100 312k 100 312k 0 0 1023k 0 --:--:-- --:--:-- --:--:-- 1023k
install for i386
* installing *source* package 'SEtools' ...
** using staged installation
** R
** data
** inst
** byte-compile and prepare package for lazy loading
** help
*** installing help indices
converting help for package 'SEtools'
finding HTML links ... done
SE-heatmap html
aggSE html
castSE html
crossHm html
data html
flattenPB html
getBreaks html
log2FC html
meltSE html
mergeSEs html
qualitativeColors html
resetAllSEtoolsOptions html
scale2 html
se2xls html
sortRows html
svacor html
finding level-2 HTML links ... done
** building package indices
** installing vignettes
** testing if installed package can be loaded from temporary location
** testing if installed package can be loaded from final location
** testing if installed package keeps a record of temporary installation path
install for x64
* installing *source* package 'SEtools' ...
** testing if installed package can be loaded
* MD5 sums
packaged installation of 'SEtools' as SEtools_1.8.0.zip
* DONE (SEtools)
* installing to library 'C:/Users/biocbuild/bbs-3.14-bioc/R/library'
package 'SEtools' successfully unpacked and MD5 sums checked