| Back to Multiple platform build/check report for BioC 3.14 |
|
This page was generated on 2022-04-13 12:07:20 -0400 (Wed, 13 Apr 2022).
| Hostname | OS | Arch (*) | R version | Installed pkgs |
|---|---|---|---|---|
| nebbiolo2 | Linux (Ubuntu 20.04.4 LTS) | x86_64 | 4.1.3 (2022-03-10) -- "One Push-Up" | 4324 |
| tokay2 | Windows Server 2012 R2 Standard | x64 | 4.1.3 (2022-03-10) -- "One Push-Up" | 4077 |
| machv2 | macOS 10.14.6 Mojave | x86_64 | 4.1.3 (2022-03-10) -- "One Push-Up" | 4137 |
| Click on any hostname to see more info about the system (e.g. compilers) (*) as reported by 'uname -p', except on Windows and Mac OS X | ||||
|
To the developers/maintainers of the SEPIRA package: - Please allow up to 24 hours (and sometimes 48 hours) for your latest push to git@git.bioconductor.org:packages/SEPIRA.git to reflect on this report. See How and When does the builder pull? When will my changes propagate? for more information. - Make sure to use the following settings in order to reproduce any error or warning you see on this page. |
| Package 1760/2083 | Hostname | OS / Arch | INSTALL | BUILD | CHECK | BUILD BIN | ||||||||
| SEPIRA 1.14.0 (landing page) Yuting Chen
| nebbiolo2 | Linux (Ubuntu 20.04.4 LTS) / x86_64 | OK | OK | OK | |||||||||
| tokay2 | Windows Server 2012 R2 Standard / x64 | OK | OK | OK | OK | |||||||||
| machv2 | macOS 10.14.6 Mojave / x86_64 | OK | OK | OK | OK | |||||||||
| Package: SEPIRA |
| Version: 1.14.0 |
| Command: C:\cygwin\bin\curl.exe -O http://155.52.207.166/BBS/3.14/bioc/src/contrib/SEPIRA_1.14.0.tar.gz && rm -rf SEPIRA.buildbin-libdir && mkdir SEPIRA.buildbin-libdir && C:\Users\biocbuild\bbs-3.14-bioc\R\bin\R.exe CMD INSTALL --merge-multiarch --build --library=SEPIRA.buildbin-libdir SEPIRA_1.14.0.tar.gz && C:\Users\biocbuild\bbs-3.14-bioc\R\bin\R.exe CMD INSTALL SEPIRA_1.14.0.zip && rm SEPIRA_1.14.0.tar.gz SEPIRA_1.14.0.zip |
| StartedAt: 2022-04-12 04:13:16 -0400 (Tue, 12 Apr 2022) |
| EndedAt: 2022-04-12 04:14:24 -0400 (Tue, 12 Apr 2022) |
| EllapsedTime: 68.0 seconds |
| RetCode: 0 |
| Status: OK |
##############################################################################
##############################################################################
###
### Running command:
###
### C:\cygwin\bin\curl.exe -O http://155.52.207.166/BBS/3.14/bioc/src/contrib/SEPIRA_1.14.0.tar.gz && rm -rf SEPIRA.buildbin-libdir && mkdir SEPIRA.buildbin-libdir && C:\Users\biocbuild\bbs-3.14-bioc\R\bin\R.exe CMD INSTALL --merge-multiarch --build --library=SEPIRA.buildbin-libdir SEPIRA_1.14.0.tar.gz && C:\Users\biocbuild\bbs-3.14-bioc\R\bin\R.exe CMD INSTALL SEPIRA_1.14.0.zip && rm SEPIRA_1.14.0.tar.gz SEPIRA_1.14.0.zip
###
##############################################################################
##############################################################################
% Total % Received % Xferd Average Speed Time Time Time Current
Dload Upload Total Spent Left Speed
0 0 0 0 0 0 0 0 --:--:-- --:--:-- --:--:-- 0
5 5868k 5 328k 0 0 489k 0 0:00:11 --:--:-- 0:00:11 489k
27 5868k 27 1608k 0 0 963k 0 0:00:06 0:00:01 0:00:05 963k
64 5868k 64 3794k 0 0 1422k 0 0:00:04 0:00:02 0:00:02 1422k
100 5868k 100 5868k 0 0 1758k 0 0:00:03 0:00:03 --:--:-- 1759k
install for i386
* installing *source* package 'SEPIRA' ...
** using staged installation
** R
** data
** inst
** byte-compile and prepare package for lazy loading
** help
*** installing help indices
converting help for package 'SEPIRA'
finding HTML links ... done
ComputePCOR html
GeneExp html
InferTFact html
InferTFactPRL html
LUSCexp html
LUSCmeth html
LimmaFn html
TFeid html
VALexp html
sepiraInfNet html
sepiraRegAct html
** building package indices
** installing vignettes
** testing if installed package can be loaded from temporary location
** testing if installed package can be loaded from final location
** testing if installed package keeps a record of temporary installation path
install for x64
* installing *source* package 'SEPIRA' ...
** testing if installed package can be loaded
* MD5 sums
packaged installation of 'SEPIRA' as SEPIRA_1.14.0.zip
* DONE (SEPIRA)
* installing to library 'C:/Users/biocbuild/bbs-3.14-bioc/R/library'
package 'SEPIRA' successfully unpacked and MD5 sums checked