| Back to Multiple platform build/check report for BioC 3.14 |
|
This page was generated on 2022-04-13 12:07:20 -0400 (Wed, 13 Apr 2022).
| Hostname | OS | Arch (*) | R version | Installed pkgs |
|---|---|---|---|---|
| nebbiolo2 | Linux (Ubuntu 20.04.4 LTS) | x86_64 | 4.1.3 (2022-03-10) -- "One Push-Up" | 4324 |
| tokay2 | Windows Server 2012 R2 Standard | x64 | 4.1.3 (2022-03-10) -- "One Push-Up" | 4077 |
| machv2 | macOS 10.14.6 Mojave | x86_64 | 4.1.3 (2022-03-10) -- "One Push-Up" | 4137 |
| Click on any hostname to see more info about the system (e.g. compilers) (*) as reported by 'uname -p', except on Windows and Mac OS X | ||||
|
To the developers/maintainers of the SELEX package: - Please allow up to 24 hours (and sometimes 48 hours) for your latest push to git@git.bioconductor.org:packages/SELEX.git to reflect on this report. See How and When does the builder pull? When will my changes propagate? for more information. - Make sure to use the following settings in order to reproduce any error or warning you see on this page. |
| Package 1757/2083 | Hostname | OS / Arch | INSTALL | BUILD | CHECK | BUILD BIN | ||||||||
| SELEX 1.26.0 (landing page) Harmen J. Bussemaker
| nebbiolo2 | Linux (Ubuntu 20.04.4 LTS) / x86_64 | OK | OK | OK | |||||||||
| tokay2 | Windows Server 2012 R2 Standard / x64 | OK | OK | OK | OK | |||||||||
| machv2 | macOS 10.14.6 Mojave / x86_64 | OK | OK | OK | OK | |||||||||
| Package: SELEX |
| Version: 1.26.0 |
| Command: C:\Users\biocbuild\bbs-3.14-bioc\R\bin\R.exe --arch x64 CMD INSTALL --no-multiarch SELEX |
| StartedAt: 2022-04-12 04:48:25 -0400 (Tue, 12 Apr 2022) |
| EndedAt: 2022-04-12 04:49:25 -0400 (Tue, 12 Apr 2022) |
| EllapsedTime: 60.0 seconds |
| RetCode: 0 |
| Status: OK |
##############################################################################
##############################################################################
###
### Running command:
###
### C:\Users\biocbuild\bbs-3.14-bioc\R\bin\R.exe --arch x64 CMD INSTALL --no-multiarch SELEX
###
##############################################################################
##############################################################################
* installing to library 'C:/Users/biocbuild/bbs-3.14-bioc/R/library'
* installing *source* package 'SELEX' ...
** using staged installation
** R
** inst
** byte-compile and prepare package for lazy loading
** help
*** installing help indices
converting help for package 'SELEX'
finding HTML links ... done
SELEX html
REDIRECT:topic Previous alias or file overwritten by alias: C:/Users/biocbuild/bbs-3.14-bioc/R/library/00LOCK-SELEX/00new/SELEX/help/selex.html
selex.affinities html
selex.config html
selex.countSummary html
selex.counts html
selex.defineSample html
selex.exampledata html
selex.fastqPSFM html
selex.getAttributes html
selex.getRound0 html
selex.getSeqfilter html
selex.infogain html
selex.infogainSummary html
selex.jvmStatus html
selex.kmax html
selex.kmerPSFM html
selex.loadAnnotation html
selex.mm html
selex.mmProb html
selex.mmSummary html
selex.revcomp html
selex.run html
selex.sample html
selex.samplePSFM html
selex.sampleSummary html
selex.saveAnnotation html
selex.seqfilter html
selex.setwd html
selex.split html
selex.summary html
** building package indices
** installing vignettes
** testing if installed package can be loaded from temporary location
** testing if installed package can be loaded from final location
** testing if installed package keeps a record of temporary installation path
* DONE (SELEX)
Making 'packages.html' ... done