| Back to Multiple platform build/check report for BioC 3.14 | 
  | 
This page was generated on 2022-04-13 12:07:16 -0400 (Wed, 13 Apr 2022).
| Hostname | OS | Arch (*) | R version | Installed pkgs | 
|---|---|---|---|---|
| nebbiolo2 | Linux (Ubuntu 20.04.4 LTS) | x86_64 | 4.1.3 (2022-03-10) -- "One Push-Up" | 4324 | 
| tokay2 | Windows Server 2012 R2 Standard | x64 | 4.1.3 (2022-03-10) -- "One Push-Up" | 4077 | 
| machv2 | macOS 10.14.6 Mojave | x86_64 | 4.1.3 (2022-03-10) -- "One Push-Up" | 4137 | 
| Click on any hostname to see more info about the system (e.g. compilers) (*) as reported by 'uname -p', except on Windows and Mac OS X | ||||
| 
To the developers/maintainers of the Rtpca package: - Please allow up to 24 hours (and sometimes 48 hours) for your latest push to git@git.bioconductor.org:packages/Rtpca.git to reflect on this report. See How and When does the builder pull? When will my changes propagate? for more information. - Make sure to use the following settings in order to reproduce any error or warning you see on this page.  | 
| Package 1674/2083 | Hostname | OS / Arch | INSTALL | BUILD | CHECK | BUILD BIN | ||||||||
| Rtpca 1.4.0  (landing page) Nils Kurzawa 
  | nebbiolo2 | Linux (Ubuntu 20.04.4 LTS) / x86_64 | OK | OK | OK | |||||||||
| tokay2 | Windows Server 2012 R2 Standard / x64 | OK | OK | OK | OK | |||||||||
| machv2 | macOS 10.14.6 Mojave / x86_64 | OK | OK | OK | OK | |||||||||
| Package: Rtpca | 
| Version: 1.4.0 | 
| Command: C:\Users\biocbuild\bbs-3.14-bioc\R\bin\R.exe CMD check --force-multiarch --install=check:Rtpca.install-out.txt --library=C:\Users\biocbuild\bbs-3.14-bioc\R\library --no-vignettes --timings Rtpca_1.4.0.tar.gz | 
| StartedAt: 2022-04-13 02:08:19 -0400 (Wed, 13 Apr 2022) | 
| EndedAt: 2022-04-13 02:11:06 -0400 (Wed, 13 Apr 2022) | 
| EllapsedTime: 167.4 seconds | 
| RetCode: 0 | 
| Status: OK | 
| CheckDir: Rtpca.Rcheck | 
| Warnings: 0 | 
############################################################################## ############################################################################## ### ### Running command: ### ### C:\Users\biocbuild\bbs-3.14-bioc\R\bin\R.exe CMD check --force-multiarch --install=check:Rtpca.install-out.txt --library=C:\Users\biocbuild\bbs-3.14-bioc\R\library --no-vignettes --timings Rtpca_1.4.0.tar.gz ### ############################################################################## ############################################################################## * using log directory 'C:/Users/biocbuild/bbs-3.14-bioc/meat/Rtpca.Rcheck' * using R version 4.1.3 (2022-03-10) * using platform: x86_64-w64-mingw32 (64-bit) * using session charset: ISO8859-1 * using option '--no-vignettes' * checking for file 'Rtpca/DESCRIPTION' ... OK * this is package 'Rtpca' version '1.4.0' * package encoding: UTF-8 * checking package namespace information ... OK * checking package dependencies ... OK * checking if this is a source package ... OK * checking if there is a namespace ... OK * checking for hidden files and directories ... OK * checking for portable file names ... OK * checking whether package 'Rtpca' can be installed ... OK * checking installed package size ... OK * checking package directory ... OK * checking 'build' directory ... OK * checking DESCRIPTION meta-information ... OK * checking top-level files ... OK * checking for left-over files ... OK * checking index information ... OK * checking package subdirectories ... OK * checking R files for non-ASCII characters ... OK * checking R files for syntax errors ... OK * loading checks for arch 'i386' ** checking whether the package can be loaded ... OK ** checking whether the package can be loaded with stated dependencies ... OK ** checking whether the package can be unloaded cleanly ... OK ** checking whether the namespace can be loaded with stated dependencies ... OK ** checking whether the namespace can be unloaded cleanly ... OK * loading checks for arch 'x64' ** checking whether the package can be loaded ... OK ** checking whether the package can be loaded with stated dependencies ... OK ** checking whether the package can be unloaded cleanly ... OK ** checking whether the namespace can be loaded with stated dependencies ... OK ** checking whether the namespace can be unloaded cleanly ... OK * checking dependencies in R code ... NOTE Namespace in Imports field not imported from: 'tibble' All declared Imports should be used. * checking S3 generic/method consistency ... OK * checking replacement functions ... OK * checking foreign function calls ... OK * checking R code for possible problems ... NOTE .getRandomProteinPairs: no visible binding for global variable 'pair' Undefined global functions or variables: pair * checking Rd files ... OK * checking Rd metadata ... OK * checking Rd cross-references ... OK * checking for missing documentation entries ... OK * checking for code/documentation mismatches ... OK * checking Rd \usage sections ... OK * checking Rd contents ... OK * checking for unstated dependencies in examples ... OK * checking contents of 'data' directory ... OK * checking data for non-ASCII characters ... OK * checking data for ASCII and uncompressed saves ... OK * checking files in 'vignettes' ... OK * checking examples ... ** running examples for arch 'i386' ... OK ** running examples for arch 'x64' ... OK * checking for unstated dependencies in 'tests' ... OK * checking tests ... ** running tests for arch 'i386' ... Running 'testthat.R' OK ** running tests for arch 'x64' ... Running 'testthat.R' OK * checking for unstated dependencies in vignettes ... OK * checking package vignettes in 'inst/doc' ... OK * checking running R code from vignettes ... SKIPPED * checking re-building of vignette outputs ... SKIPPED * checking PDF version of manual ... OK * DONE Status: 2 NOTEs See 'C:/Users/biocbuild/bbs-3.14-bioc/meat/Rtpca.Rcheck/00check.log' for details.
Rtpca.Rcheck/00install.out
##############################################################################
##############################################################################
###
### Running command:
###
###   C:\cygwin\bin\curl.exe -O http://155.52.207.166/BBS/3.14/bioc/src/contrib/Rtpca_1.4.0.tar.gz && rm -rf Rtpca.buildbin-libdir && mkdir Rtpca.buildbin-libdir && C:\Users\biocbuild\bbs-3.14-bioc\R\bin\R.exe CMD INSTALL --merge-multiarch --build --library=Rtpca.buildbin-libdir Rtpca_1.4.0.tar.gz && C:\Users\biocbuild\bbs-3.14-bioc\R\bin\R.exe CMD INSTALL Rtpca_1.4.0.zip && rm Rtpca_1.4.0.tar.gz Rtpca_1.4.0.zip
###
##############################################################################
##############################################################################
  % Total    % Received % Xferd  Average Speed   Time    Time     Time  Current
                                 Dload  Upload   Total   Spent    Left  Speed
  0     0    0     0    0     0      0      0 --:--:-- --:--:-- --:--:--     0
  0 1767k    0 13287    0     0   155k      0  0:00:11 --:--:--  0:00:11  156k
 66 1767k   66 1173k    0     0  1124k      0  0:00:01  0:00:01 --:--:-- 1124k
100 1767k  100 1767k    0     0  1317k      0  0:00:01  0:00:01 --:--:-- 1317k
install for i386
* installing *source* package 'Rtpca' ...
** using staged installation
** R
** data
** inst
** byte-compile and prepare package for lazy loading
** help
*** installing help indices
  converting help for package 'Rtpca'
    finding HTML links ... done
    CommonFeatures-tpcaResult-method        html  
    ComplexAnnotation-tpcaResult-method     html  
    ComplexBackgroundDistributionList-tpcaResult-method
                                            html  
    ComplexRocTable-tpcaResult-method       html  
    ContrastCondName-tpcaResult-method      html  
    ContrastDistMat-tpcaResult-method       html  
    ContrastList-tpcaResult-method          html  
    CtrlCondName-tpcaResult-method          html  
    DistMat-tpcaResult-method               html  
    DistMethod-tpcaResult-method            html  
    ObjList-tpcaResult-method               html  
    PPiAnnotation-tpcaResult-method         html  
    PPiRocTable-tpcaResult-method           html  
    PPiRocTableAnno-tpcaResult-method       html  
    SetCommonFeatures-tpcaResult-method     html  
    SetComplexAnnotation-tpcaResult-method
                                            html  
    SetComplexBackgroundDistributionList-tpcaResult-method
                                            html  
    SetComplexRocTable-tpcaResult-method    html  
    SetContrastCondName-tpcaResult-method   html  
    SetContrastDistMat-tpcaResult-method    html  
    SetCtrlCondName-tpcaResult-method       html  
    SetDiffTpcaResultTable-tpcaResult-method
                                            html  
    SetDistMat-tpcaResult-method            html  
    SetDistMethod-tpcaResult-method         html  
    SetPPiRocTable-tpcaResult-method        html  
    SetPPiRocTableAnno-tpcaResult-method    html  
    SetSummaryMethod-tpcaResult-method      html  
    SetTpcaResultTable-tpcaResult-method    html  
    SummaryMethod-tpcaResult-method         html  
    createDistMat                           html  
    diffTpcaResultTable-tpcaResult-method   html  
    ori_et_al_complex_ppis                  html  
    ori_et_al_complexes_df                  html  
    plotComplexRoc                          html  
    plotDiffTpcaVolcano                     html  
    plotPPiProfiles                         html  
    plotPPiRoc                              html  
    plotTpcaVolcano                         html  
    runDiffTPCA                             html  
    runTPCA                                 html  
    string_ppi_df                           html  
    tpcaResult-class                        html  
    tpcaResultTable-tpcaResult-method       html  
** building package indices
** installing vignettes
** testing if installed package can be loaded from temporary location
** testing if installed package can be loaded from final location
** testing if installed package keeps a record of temporary installation path
install for x64
* installing *source* package 'Rtpca' ...
** testing if installed package can be loaded
* MD5 sums
packaged installation of 'Rtpca' as Rtpca_1.4.0.zip
* DONE (Rtpca)
* installing to library 'C:/Users/biocbuild/bbs-3.14-bioc/R/library'
package 'Rtpca' successfully unpacked and MD5 sums checked
| 
 Rtpca.Rcheck/tests_i386/testthat.Rout 
R version 4.1.3 (2022-03-10) -- "One Push-Up"
Copyright (C) 2022 The R Foundation for Statistical Computing
Platform: i386-w64-mingw32/i386 (32-bit)
R is free software and comes with ABSOLUTELY NO WARRANTY.
You are welcome to redistribute it under certain conditions.
Type 'license()' or 'licence()' for distribution details.
R is a collaborative project with many contributors.
Type 'contributors()' for more information and
'citation()' on how to cite R or R packages in publications.
Type 'demo()' for some demos, 'help()' for on-line help, or
'help.start()' for an HTML browser interface to help.
Type 'q()' to quit R.
> library(testthat)
> library(Rtpca)
Loading required package: dplyr
Attaching package: 'dplyr'
The following object is masked from 'package:testthat':
    matches
The following objects are masked from 'package:stats':
    filter, lag
The following objects are masked from 'package:base':
    intersect, setdiff, setequal, union
Loading required package: tidyr
Attaching package: 'tidyr'
The following object is masked from 'package:testthat':
    matches
> 
> test_check("Rtpca")
[ FAIL 0 | WARN 0 | SKIP 0 | PASS 38 ]
> 
> proc.time()
   user  system elapsed 
   5.20    0.21    5.39 
 | 
 Rtpca.Rcheck/tests_x64/testthat.Rout 
R version 4.1.3 (2022-03-10) -- "One Push-Up"
Copyright (C) 2022 The R Foundation for Statistical Computing
Platform: x86_64-w64-mingw32/x64 (64-bit)
R is free software and comes with ABSOLUTELY NO WARRANTY.
You are welcome to redistribute it under certain conditions.
Type 'license()' or 'licence()' for distribution details.
R is a collaborative project with many contributors.
Type 'contributors()' for more information and
'citation()' on how to cite R or R packages in publications.
Type 'demo()' for some demos, 'help()' for on-line help, or
'help.start()' for an HTML browser interface to help.
Type 'q()' to quit R.
> library(testthat)
> library(Rtpca)
Loading required package: dplyr
Attaching package: 'dplyr'
The following object is masked from 'package:testthat':
    matches
The following objects are masked from 'package:stats':
    filter, lag
The following objects are masked from 'package:base':
    intersect, setdiff, setequal, union
Loading required package: tidyr
Attaching package: 'tidyr'
The following object is masked from 'package:testthat':
    matches
> 
> test_check("Rtpca")
[ FAIL 0 | WARN 0 | SKIP 0 | PASS 38 ]
> 
> proc.time()
   user  system elapsed 
   5.62    0.17    5.78 
 | 
| 
 Rtpca.Rcheck/examples_i386/Rtpca-Ex.timings 
  | 
 Rtpca.Rcheck/examples_x64/Rtpca-Ex.timings 
  |