| Back to Multiple platform build/check report for BioC 3.14 |
|
This page was generated on 2022-04-13 12:05:53 -0400 (Wed, 13 Apr 2022).
| Hostname | OS | Arch (*) | R version | Installed pkgs |
|---|---|---|---|---|
| nebbiolo2 | Linux (Ubuntu 20.04.4 LTS) | x86_64 | 4.1.3 (2022-03-10) -- "One Push-Up" | 4324 |
| tokay2 | Windows Server 2012 R2 Standard | x64 | 4.1.3 (2022-03-10) -- "One Push-Up" | 4077 |
| machv2 | macOS 10.14.6 Mojave | x86_64 | 4.1.3 (2022-03-10) -- "One Push-Up" | 4137 |
| Click on any hostname to see more info about the system (e.g. compilers) (*) as reported by 'uname -p', except on Windows and Mac OS X | ||||
|
To the developers/maintainers of the Rqc package: - Please allow up to 24 hours (and sometimes 48 hours) for your latest push to git@git.bioconductor.org:packages/Rqc.git to reflect on this report. See How and When does the builder pull? When will my changes propagate? for more information. - Make sure to use the following settings in order to reproduce any error or warning you see on this page. |
| Package 1653/2083 | Hostname | OS / Arch | INSTALL | BUILD | CHECK | BUILD BIN | ||||||||
| Rqc 1.28.0 (landing page) Welliton Souza
| nebbiolo2 | Linux (Ubuntu 20.04.4 LTS) / x86_64 | OK | OK | OK | |||||||||
| tokay2 | Windows Server 2012 R2 Standard / x64 | OK | OK | TIMEOUT | OK | |||||||||
| machv2 | macOS 10.14.6 Mojave / x86_64 | OK | OK | OK | OK | |||||||||
| Package: Rqc |
| Version: 1.28.0 |
| Command: /home/biocbuild/bbs-3.14-bioc/R/bin/R CMD check --install=check:Rqc.install-out.txt --library=/home/biocbuild/bbs-3.14-bioc/R/library --no-vignettes --timings Rqc_1.28.0.tar.gz |
| StartedAt: 2022-04-12 09:08:32 -0400 (Tue, 12 Apr 2022) |
| EndedAt: 2022-04-12 09:13:40 -0400 (Tue, 12 Apr 2022) |
| EllapsedTime: 308.2 seconds |
| RetCode: 0 |
| Status: OK |
| CheckDir: Rqc.Rcheck |
| Warnings: 0 |
##############################################################################
##############################################################################
###
### Running command:
###
### /home/biocbuild/bbs-3.14-bioc/R/bin/R CMD check --install=check:Rqc.install-out.txt --library=/home/biocbuild/bbs-3.14-bioc/R/library --no-vignettes --timings Rqc_1.28.0.tar.gz
###
##############################################################################
##############################################################################
* using log directory ‘/home/biocbuild/bbs-3.14-bioc/meat/Rqc.Rcheck’
* using R version 4.1.3 (2022-03-10)
* using platform: x86_64-pc-linux-gnu (64-bit)
* using session charset: UTF-8
* using option ‘--no-vignettes’
* checking for file ‘Rqc/DESCRIPTION’ ... OK
* checking extension type ... Package
* this is package ‘Rqc’ version ‘1.28.0’
* package encoding: UTF-8
* checking package namespace information ... OK
* checking package dependencies ... OK
* checking if this is a source package ... OK
* checking if there is a namespace ... OK
* checking for hidden files and directories ... NOTE
Found the following hidden files and directories:
.travis.yml
These were most likely included in error. See section ‘Package
structure’ in the ‘Writing R Extensions’ manual.
* checking for portable file names ... OK
* checking for sufficient/correct file permissions ... OK
* checking whether package ‘Rqc’ can be installed ... OK
* checking installed package size ... OK
* checking package directory ... OK
* checking ‘build’ directory ... OK
* checking DESCRIPTION meta-information ... OK
* checking top-level files ... OK
* checking for left-over files ... OK
* checking index information ... OK
* checking package subdirectories ... OK
* checking R files for non-ASCII characters ... OK
* checking R files for syntax errors ... OK
* checking whether the package can be loaded ... OK
* checking whether the package can be loaded with stated dependencies ... OK
* checking whether the package can be unloaded cleanly ... OK
* checking whether the namespace can be loaded with stated dependencies ... OK
* checking whether the namespace can be unloaded cleanly ... OK
* checking dependencies in R code ... NOTE
Namespaces in Imports field not imported from:
'IRanges' 'Rcpp'
All declared Imports should be used.
* checking S3 generic/method consistency ... OK
* checking replacement functions ... OK
* checking foreign function calls ... OK
* checking R code for possible problems ... OK
* checking Rd files ... OK
* checking Rd metadata ... OK
* checking Rd cross-references ... OK
* checking for missing documentation entries ... OK
* checking for code/documentation mismatches ... OK
* checking Rd \usage sections ... OK
* checking Rd contents ... OK
* checking for unstated dependencies in examples ... OK
* checking line endings in C/C++/Fortran sources/headers ... OK
* checking compiled code ... NOTE
Note: information on .o files is not available
* checking files in ‘vignettes’ ... OK
* checking examples ... OK
Examples with CPU (user + system) or elapsed time > 5s
user system elapsed
Rqc-package 8.323 0.328 8.652
rqcReport 6.577 0.250 6.827
rqc 5.645 0.096 5.741
* checking for unstated dependencies in ‘tests’ ... OK
* checking tests ...
Running ‘testthat.R’
OK
* checking for unstated dependencies in vignettes ... OK
* checking package vignettes in ‘inst/doc’ ... OK
* checking running R code from vignettes ... SKIPPED
* checking re-building of vignette outputs ... SKIPPED
* checking PDF version of manual ... OK
* DONE
Status: 3 NOTEs
See
‘/home/biocbuild/bbs-3.14-bioc/meat/Rqc.Rcheck/00check.log’
for details.
Rqc.Rcheck/00install.out
##############################################################################
##############################################################################
###
### Running command:
###
### /home/biocbuild/bbs-3.14-bioc/R/bin/R CMD INSTALL Rqc
###
##############################################################################
##############################################################################
* installing to library ‘/home/biocbuild/bbs-3.14-bioc/R/library’
* installing *source* package ‘Rqc’ ...
** using staged installation
** libs
g++ -std=gnu++14 -I"/home/biocbuild/bbs-3.14-bioc/R/include" -DNDEBUG -I'/home/biocbuild/bbs-3.14-bioc/R/library/Rcpp/include' -I/usr/local/include -fpic -g -O2 -Wall -c RRDNA.cpp -o RRDNA.o
RRDNA.cpp: In function ‘Rcpp::StringVector toRRDNA(Rcpp::StringVector)’:
RRDNA.cpp:51:27: warning: comparison of integer expressions of different signedness: ‘R_len_t’ {aka ‘int’} and ‘std::__cxx11::basic_string<char>::size_type’ {aka ‘long unsigned int’} [-Wsign-compare]
51 | for (j = 0; j < dna.size(); j+=3)
| ~~^~~~~~~~~~~~
RRDNA.cpp: In function ‘Rcpp::StringVector fromRRDNA(Rcpp::StringVector)’:
RRDNA.cpp:102:22: warning: comparison of integer expressions of different signedness: ‘R_len_t’ {aka ‘int’} and ‘std::__cxx11::basic_string<char>::size_type’ {aka ‘long unsigned int’} [-Wsign-compare]
102 | for(j = 1; j < rrdna.size(); ++j) {
| ~~^~~~~~~~~~~~~~
g++ -std=gnu++14 -I"/home/biocbuild/bbs-3.14-bioc/R/include" -DNDEBUG -I'/home/biocbuild/bbs-3.14-bioc/R/library/Rcpp/include' -I/usr/local/include -fpic -g -O2 -Wall -c RcppExports.cpp -o RcppExports.o
g++ -std=gnu++14 -shared -L/home/biocbuild/bbs-3.14-bioc/R/lib -L/usr/local/lib -o Rqc.so RRDNA.o RcppExports.o -L/home/biocbuild/bbs-3.14-bioc/R/lib -lR
installing to /home/biocbuild/bbs-3.14-bioc/R/library/00LOCK-Rqc/00new/Rqc/libs
** R
** inst
** byte-compile and prepare package for lazy loading
** help
*** installing help indices
** building package indices
** installing vignettes
** testing if installed package can be loaded from temporary location
** checking absolute paths in shared objects and dynamic libraries
** testing if installed package can be loaded from final location
** testing if installed package keeps a record of temporary installation path
* DONE (Rqc)
Rqc.Rcheck/tests/testthat.Rout
R version 4.1.3 (2022-03-10) -- "One Push-Up"
Copyright (C) 2022 The R Foundation for Statistical Computing
Platform: x86_64-pc-linux-gnu (64-bit)
R is free software and comes with ABSOLUTELY NO WARRANTY.
You are welcome to redistribute it under certain conditions.
Type 'license()' or 'licence()' for distribution details.
R is a collaborative project with many contributors.
Type 'contributors()' for more information and
'citation()' on how to cite R or R packages in publications.
Type 'demo()' for some demos, 'help()' for on-line help, or
'help.start()' for an HTML browser interface to help.
Type 'q()' to quit R.
> library(testthat)
> library(Rqc)
Loading required package: BiocParallel
Loading required package: ShortRead
Loading required package: BiocGenerics
Attaching package: 'BiocGenerics'
The following objects are masked from 'package:stats':
IQR, mad, sd, var, xtabs
The following objects are masked from 'package:base':
Filter, Find, Map, Position, Reduce, anyDuplicated, append,
as.data.frame, basename, cbind, colnames, dirname, do.call,
duplicated, eval, evalq, get, grep, grepl, intersect, is.unsorted,
lapply, mapply, match, mget, order, paste, pmax, pmax.int, pmin,
pmin.int, rank, rbind, rownames, sapply, setdiff, sort, table,
tapply, union, unique, unsplit, which.max, which.min
Loading required package: Biostrings
Loading required package: S4Vectors
Loading required package: stats4
Attaching package: 'S4Vectors'
The following objects are masked from 'package:base':
I, expand.grid, unname
Loading required package: IRanges
Loading required package: XVector
Loading required package: GenomeInfoDb
Attaching package: 'Biostrings'
The following object is masked from 'package:base':
strsplit
Loading required package: Rsamtools
Loading required package: GenomicRanges
Loading required package: GenomicAlignments
Loading required package: SummarizedExperiment
Loading required package: MatrixGenerics
Loading required package: matrixStats
Attaching package: 'MatrixGenerics'
The following objects are masked from 'package:matrixStats':
colAlls, colAnyNAs, colAnys, colAvgsPerRowSet, colCollapse,
colCounts, colCummaxs, colCummins, colCumprods, colCumsums,
colDiffs, colIQRDiffs, colIQRs, colLogSumExps, colMadDiffs,
colMads, colMaxs, colMeans2, colMedians, colMins, colOrderStats,
colProds, colQuantiles, colRanges, colRanks, colSdDiffs, colSds,
colSums2, colTabulates, colVarDiffs, colVars, colWeightedMads,
colWeightedMeans, colWeightedMedians, colWeightedSds,
colWeightedVars, rowAlls, rowAnyNAs, rowAnys, rowAvgsPerColSet,
rowCollapse, rowCounts, rowCummaxs, rowCummins, rowCumprods,
rowCumsums, rowDiffs, rowIQRDiffs, rowIQRs, rowLogSumExps,
rowMadDiffs, rowMads, rowMaxs, rowMeans2, rowMedians, rowMins,
rowOrderStats, rowProds, rowQuantiles, rowRanges, rowRanks,
rowSdDiffs, rowSds, rowSums2, rowTabulates, rowVarDiffs, rowVars,
rowWeightedMads, rowWeightedMeans, rowWeightedMedians,
rowWeightedSds, rowWeightedVars
Loading required package: Biobase
Welcome to Bioconductor
Vignettes contain introductory material; view with
'browseVignettes()'. To cite Bioconductor, see
'citation("Biobase")', and for packages 'citation("pkgname")'.
Attaching package: 'Biobase'
The following object is masked from 'package:MatrixGenerics':
rowMedians
The following objects are masked from 'package:matrixStats':
anyMissing, rowMedians
Loading required package: ggplot2
>
> test_check("Rqc")
[ FAIL 0 | WARN 0 | SKIP 0 | PASS 27 ]
>
> proc.time()
user system elapsed
18.167 0.801 18.953
Rqc.Rcheck/Rqc-Ex.timings
| name | user | system | elapsed | |
| Rqc-package | 8.323 | 0.328 | 8.652 | |
| RqcResultSet-class | 0.02 | 0.00 | 0.02 | |
| checkpoint | 0.002 | 0.000 | 0.003 | |
| detectFileFormat | 0.003 | 0.000 | 0.003 | |
| fromRRDNA | 0.001 | 0.000 | 0.001 | |
| matdist | 0.001 | 0.000 | 0.000 | |
| rqc | 5.645 | 0.096 | 5.741 | |
| rqcCycleAverageQualityPcaPlot | 0.166 | 0.003 | 0.169 | |
| rqcCycleAverageQualityPlot | 0.196 | 0.008 | 0.203 | |
| rqcCycleBaseCallsPlot | 0.340 | 0.004 | 0.344 | |
| rqcCycleGCPlot | 0.157 | 0.000 | 0.157 | |
| rqcCycleQualityBoxPlot | 1.332 | 0.008 | 1.340 | |
| rqcCycleQualityPlot | 0.622 | 0.011 | 0.634 | |
| rqcFileHeatmap | 0.113 | 0.004 | 0.117 | |
| rqcGroupCycleAverageQualityPlot | 0.206 | 0.008 | 0.215 | |
| rqcQA | 0.124 | 0.000 | 0.124 | |
| rqcReadFrequencyPlot | 0.119 | 0.000 | 0.119 | |
| rqcReadQualityBoxPlot | 0.153 | 0.000 | 0.153 | |
| rqcReadQualityPlot | 0.118 | 0.000 | 0.118 | |
| rqcReadWidthPlot | 0.139 | 0.003 | 0.143 | |
| rqcReport | 6.577 | 0.250 | 6.827 | |
| rqcShinyReport | 0.003 | 0.000 | 0.002 | |
| stats4trim | 0.065 | 0.000 | 0.065 | |
| subsetByGroup | 0.475 | 0.028 | 0.503 | |
| subsetByPair | 0.005 | 0.000 | 0.005 | |
| toRRDNA | 0 | 0 | 0 | |