| Back to Multiple platform build/check report for BioC 3.14 |
|
This page was generated on 2022-04-13 12:07:15 -0400 (Wed, 13 Apr 2022).
| Hostname | OS | Arch (*) | R version | Installed pkgs |
|---|---|---|---|---|
| nebbiolo2 | Linux (Ubuntu 20.04.4 LTS) | x86_64 | 4.1.3 (2022-03-10) -- "One Push-Up" | 4324 |
| tokay2 | Windows Server 2012 R2 Standard | x64 | 4.1.3 (2022-03-10) -- "One Push-Up" | 4077 |
| machv2 | macOS 10.14.6 Mojave | x86_64 | 4.1.3 (2022-03-10) -- "One Push-Up" | 4137 |
| Click on any hostname to see more info about the system (e.g. compilers) (*) as reported by 'uname -p', except on Windows and Mac OS X | ||||
|
To the developers/maintainers of the Rnits package: - Please allow up to 24 hours (and sometimes 48 hours) for your latest push to git@git.bioconductor.org:packages/Rnits.git to reflect on this report. See How and When does the builder pull? When will my changes propagate? for more information. - Make sure to use the following settings in order to reproduce any error or warning you see on this page. |
| Package 1640/2083 | Hostname | OS / Arch | INSTALL | BUILD | CHECK | BUILD BIN | ||||||||
| Rnits 1.28.0 (landing page) Dipen P. Sangurdekar
| nebbiolo2 | Linux (Ubuntu 20.04.4 LTS) / x86_64 | OK | OK | WARNINGS | |||||||||
| tokay2 | Windows Server 2012 R2 Standard / x64 | OK | OK | WARNINGS | OK | |||||||||
| machv2 | macOS 10.14.6 Mojave / x86_64 | OK | OK | WARNINGS | OK | |||||||||
| Package: Rnits |
| Version: 1.28.0 |
| Command: C:\cygwin\bin\curl.exe -O http://155.52.207.166/BBS/3.14/bioc/src/contrib/Rnits_1.28.0.tar.gz && rm -rf Rnits.buildbin-libdir && mkdir Rnits.buildbin-libdir && C:\Users\biocbuild\bbs-3.14-bioc\R\bin\R.exe CMD INSTALL --merge-multiarch --build --library=Rnits.buildbin-libdir Rnits_1.28.0.tar.gz && C:\Users\biocbuild\bbs-3.14-bioc\R\bin\R.exe CMD INSTALL Rnits_1.28.0.zip && rm Rnits_1.28.0.tar.gz Rnits_1.28.0.zip |
| StartedAt: 2022-04-12 04:53:41 -0400 (Tue, 12 Apr 2022) |
| EndedAt: 2022-04-12 04:55:02 -0400 (Tue, 12 Apr 2022) |
| EllapsedTime: 80.9 seconds |
| RetCode: 0 |
| Status: OK |
##############################################################################
##############################################################################
###
### Running command:
###
### C:\cygwin\bin\curl.exe -O http://155.52.207.166/BBS/3.14/bioc/src/contrib/Rnits_1.28.0.tar.gz && rm -rf Rnits.buildbin-libdir && mkdir Rnits.buildbin-libdir && C:\Users\biocbuild\bbs-3.14-bioc\R\bin\R.exe CMD INSTALL --merge-multiarch --build --library=Rnits.buildbin-libdir Rnits_1.28.0.tar.gz && C:\Users\biocbuild\bbs-3.14-bioc\R\bin\R.exe CMD INSTALL Rnits_1.28.0.zip && rm Rnits_1.28.0.tar.gz Rnits_1.28.0.zip
###
##############################################################################
##############################################################################
% Total % Received % Xferd Average Speed Time Time Time Current
Dload Upload Total Spent Left Speed
0 0 0 0 0 0 0 0 --:--:-- --:--:-- --:--:-- 0
0 321k 0 2489 0 0 30768 0 0:00:10 --:--:-- 0:00:10 30728
100 321k 100 321k 0 0 1211k 0 --:--:-- --:--:-- --:--:-- 1211k
install for i386
* installing *source* package 'Rnits' ...
** using staged installation
** R
** data
*** moving datasets to lazyload DB
** inst
** byte-compile and prepare package for lazy loading
** help
*** installing help indices
converting help for package 'Rnits'
finding HTML links ... done
Rnits-class html
build.Rnits html
finding level-2 HTML links ... done
calculateGCV-methods html
extract-methods html
fit-methods html
getCID-methods html
getFitModel-methods html
getLR-methods html
getNormTwoChannel-methods html
getPval-methods html
getStat-methods html
plotResults-methods html
rnits html
summarizeProbes-methods html
summary-methods html
timeAlign-methods html
topData-methods html
yeastchemostat html
** building package indices
** installing vignettes
** testing if installed package can be loaded from temporary location
** testing if installed package can be loaded from final location
** testing if installed package keeps a record of temporary installation path
install for x64
* installing *source* package 'Rnits' ...
** testing if installed package can be loaded
* MD5 sums
packaged installation of 'Rnits' as Rnits_1.28.0.zip
* DONE (Rnits)
* installing to library 'C:/Users/biocbuild/bbs-3.14-bioc/R/library'
package 'Rnits' successfully unpacked and MD5 sums checked