| Back to Multiple platform build/check report for BioC 3.14 |
|
This page was generated on 2022-04-13 12:07:13 -0400 (Wed, 13 Apr 2022).
| Hostname | OS | Arch (*) | R version | Installed pkgs |
|---|---|---|---|---|
| nebbiolo2 | Linux (Ubuntu 20.04.4 LTS) | x86_64 | 4.1.3 (2022-03-10) -- "One Push-Up" | 4324 |
| tokay2 | Windows Server 2012 R2 Standard | x64 | 4.1.3 (2022-03-10) -- "One Push-Up" | 4077 |
| machv2 | macOS 10.14.6 Mojave | x86_64 | 4.1.3 (2022-03-10) -- "One Push-Up" | 4137 |
| Click on any hostname to see more info about the system (e.g. compilers) (*) as reported by 'uname -p', except on Windows and Mac OS X | ||||
|
To the developers/maintainers of the RiboProfiling package: - Please allow up to 24 hours (and sometimes 48 hours) for your latest push to git@git.bioconductor.org:packages/RiboProfiling.git to reflect on this report. See How and When does the builder pull? When will my changes propagate? for more information. - Make sure to use the following settings in order to reproduce any error or warning you see on this page. |
| Package 1606/2083 | Hostname | OS / Arch | INSTALL | BUILD | CHECK | BUILD BIN | ||||||||
| RiboProfiling 1.24.0 (landing page) A. Popa
| nebbiolo2 | Linux (Ubuntu 20.04.4 LTS) / x86_64 | OK | OK | WARNINGS | |||||||||
| tokay2 | Windows Server 2012 R2 Standard / x64 | OK | OK | WARNINGS | OK | |||||||||
| machv2 | macOS 10.14.6 Mojave / x86_64 | OK | OK | WARNINGS | OK | |||||||||
| Package: RiboProfiling |
| Version: 1.24.0 |
| Command: C:\cygwin\bin\curl.exe -O http://155.52.207.166/BBS/3.14/bioc/src/contrib/RiboProfiling_1.24.0.tar.gz && rm -rf RiboProfiling.buildbin-libdir && mkdir RiboProfiling.buildbin-libdir && C:\Users\biocbuild\bbs-3.14-bioc\R\bin\R.exe CMD INSTALL --merge-multiarch --build --library=RiboProfiling.buildbin-libdir RiboProfiling_1.24.0.tar.gz && C:\Users\biocbuild\bbs-3.14-bioc\R\bin\R.exe CMD INSTALL RiboProfiling_1.24.0.zip && rm RiboProfiling_1.24.0.tar.gz RiboProfiling_1.24.0.zip |
| StartedAt: 2022-04-12 07:15:11 -0400 (Tue, 12 Apr 2022) |
| EndedAt: 2022-04-12 07:16:39 -0400 (Tue, 12 Apr 2022) |
| EllapsedTime: 87.2 seconds |
| RetCode: 0 |
| Status: OK |
##############################################################################
##############################################################################
###
### Running command:
###
### C:\cygwin\bin\curl.exe -O http://155.52.207.166/BBS/3.14/bioc/src/contrib/RiboProfiling_1.24.0.tar.gz && rm -rf RiboProfiling.buildbin-libdir && mkdir RiboProfiling.buildbin-libdir && C:\Users\biocbuild\bbs-3.14-bioc\R\bin\R.exe CMD INSTALL --merge-multiarch --build --library=RiboProfiling.buildbin-libdir RiboProfiling_1.24.0.tar.gz && C:\Users\biocbuild\bbs-3.14-bioc\R\bin\R.exe CMD INSTALL RiboProfiling_1.24.0.zip && rm RiboProfiling_1.24.0.tar.gz RiboProfiling_1.24.0.zip
###
##############################################################################
##############################################################################
% Total % Received % Xferd Average Speed Time Time Time Current
Dload Upload Total Spent Left Speed
0 0 0 0 0 0 0 0 --:--:-- --:--:-- --:--:-- 0
9 4319k 9 409k 0 0 1089k 0 0:00:03 --:--:-- 0:00:03 1089k
60 4319k 60 2622k 0 0 1904k 0 0:00:02 0:00:01 0:00:01 1904k
100 4319k 100 4319k 0 0 2230k 0 0:00:01 0:00:01 --:--:-- 2230k
install for i386
* installing *source* package 'RiboProfiling' ...
** using staged installation
** R
** data
** inst
** byte-compile and prepare package for lazy loading
Warning: replacing previous import 'BiocGenerics::Position' by 'ggplot2::Position' when loading 'RiboProfiling'
** help
*** installing help indices
converting help for package 'RiboProfiling'
finding HTML links ... done
RiboProfiling html
aroundPromoter html
cdsPosTransc html
codonDataCtrl html
codonIndexCovCtrl html
codonInfo html
codonPCA html
countShiftReads html
countsPlot html
ctrlGAlignments html
histMatchLength html
orfRelativePos html
plotSummarizedCov html
printPCA html
readStartCov html
readsToStartOrEnd html
riboSeqFromBAM html
** building package indices
** installing vignettes
** testing if installed package can be loaded from temporary location
Warning: replacing previous import 'BiocGenerics::Position' by 'ggplot2::Position' when loading 'RiboProfiling'
** testing if installed package can be loaded from final location
Warning: replacing previous import 'BiocGenerics::Position' by 'ggplot2::Position' when loading 'RiboProfiling'
** testing if installed package keeps a record of temporary installation path
install for x64
* installing *source* package 'RiboProfiling' ...
** testing if installed package can be loaded
Warning: replacing previous import 'BiocGenerics::Position' by 'ggplot2::Position' when loading 'RiboProfiling'
* MD5 sums
packaged installation of 'RiboProfiling' as RiboProfiling_1.24.0.zip
* DONE (RiboProfiling)
* installing to library 'C:/Users/biocbuild/bbs-3.14-bioc/R/library'
package 'RiboProfiling' successfully unpacked and MD5 sums checked