| Back to Multiple platform build/check report for BioC 3.14 |
|
This page was generated on 2022-04-13 12:07:13 -0400 (Wed, 13 Apr 2022).
| Hostname | OS | Arch (*) | R version | Installed pkgs |
|---|---|---|---|---|
| nebbiolo2 | Linux (Ubuntu 20.04.4 LTS) | x86_64 | 4.1.3 (2022-03-10) -- "One Push-Up" | 4324 |
| tokay2 | Windows Server 2012 R2 Standard | x64 | 4.1.3 (2022-03-10) -- "One Push-Up" | 4077 |
| machv2 | macOS 10.14.6 Mojave | x86_64 | 4.1.3 (2022-03-10) -- "One Push-Up" | 4137 |
| Click on any hostname to see more info about the system (e.g. compilers) (*) as reported by 'uname -p', except on Windows and Mac OS X | ||||
|
To the developers/maintainers of the RiboCrypt package: - Please allow up to 24 hours (and sometimes 48 hours) for your latest push to git@git.bioconductor.org:packages/RiboCrypt.git to reflect on this report. See How and When does the builder pull? When will my changes propagate? for more information. - Make sure to use the following settings in order to reproduce any error or warning you see on this page. |
| Package 1604/2083 | Hostname | OS / Arch | INSTALL | BUILD | CHECK | BUILD BIN | ||||||||
| RiboCrypt 1.0.0 (landing page) Michal Swirski
| nebbiolo2 | Linux (Ubuntu 20.04.4 LTS) / x86_64 | OK | OK | OK | |||||||||
| tokay2 | Windows Server 2012 R2 Standard / x64 | OK | OK | OK | OK | |||||||||
| machv2 | macOS 10.14.6 Mojave / x86_64 | OK | OK | OK | OK | |||||||||
| Package: RiboCrypt |
| Version: 1.0.0 |
| Command: C:\Users\biocbuild\bbs-3.14-bioc\R\bin\R.exe CMD check --force-multiarch --install=check:RiboCrypt.install-out.txt --library=C:\Users\biocbuild\bbs-3.14-bioc\R\library --no-vignettes --timings RiboCrypt_1.0.0.tar.gz |
| StartedAt: 2022-04-13 01:42:29 -0400 (Wed, 13 Apr 2022) |
| EndedAt: 2022-04-13 01:51:51 -0400 (Wed, 13 Apr 2022) |
| EllapsedTime: 561.1 seconds |
| RetCode: 0 |
| Status: OK |
| CheckDir: RiboCrypt.Rcheck |
| Warnings: 0 |
##############################################################################
##############################################################################
###
### Running command:
###
### C:\Users\biocbuild\bbs-3.14-bioc\R\bin\R.exe CMD check --force-multiarch --install=check:RiboCrypt.install-out.txt --library=C:\Users\biocbuild\bbs-3.14-bioc\R\library --no-vignettes --timings RiboCrypt_1.0.0.tar.gz
###
##############################################################################
##############################################################################
* using log directory 'C:/Users/biocbuild/bbs-3.14-bioc/meat/RiboCrypt.Rcheck'
* using R version 4.1.3 (2022-03-10)
* using platform: x86_64-w64-mingw32 (64-bit)
* using session charset: ISO8859-1
* using option '--no-vignettes'
* checking for file 'RiboCrypt/DESCRIPTION' ... OK
* checking extension type ... Package
* this is package 'RiboCrypt' version '1.0.0'
* package encoding: UTF-8
* checking package namespace information ... OK
* checking package dependencies ... OK
* checking if this is a source package ... OK
* checking if there is a namespace ... OK
* checking for hidden files and directories ... OK
* checking for portable file names ... OK
* checking whether package 'RiboCrypt' can be installed ... OK
* checking installed package size ... OK
* checking package directory ... OK
* checking 'build' directory ... OK
* checking DESCRIPTION meta-information ... OK
* checking top-level files ... OK
* checking for left-over files ... OK
* checking index information ... OK
* checking package subdirectories ... OK
* checking R files for non-ASCII characters ... OK
* checking R files for syntax errors ... OK
* loading checks for arch 'i386'
** checking whether the package can be loaded ... OK
** checking whether the package can be loaded with stated dependencies ... OK
** checking whether the package can be unloaded cleanly ... OK
** checking whether the namespace can be loaded with stated dependencies ... OK
** checking whether the namespace can be unloaded cleanly ... OK
* loading checks for arch 'x64'
** checking whether the package can be loaded ... OK
** checking whether the package can be loaded with stated dependencies ... OK
** checking whether the package can be unloaded cleanly ... OK
** checking whether the namespace can be loaded with stated dependencies ... OK
** checking whether the namespace can be unloaded cleanly ... OK
* checking dependencies in R code ... OK
* checking S3 generic/method consistency ... OK
* checking replacement functions ... OK
* checking foreign function calls ... OK
* checking R code for possible problems ... NOTE
createSinglePlot: no visible binding for global variable 'position'
createSinglePlot: no visible binding for global variable 'frame'
getIndexes: no visible global function definition for 'nrun'
getPlotAnimate: no visible binding for global variable 'position'
getPlotAnimate: no visible binding for global variable 'frame'
getRelativeFrames: no visible binding for global variable 'cum_width'
getRelativeFrames: no visible binding for global variable 'rel_frame'
getRiboProfile: no visible binding for global variable 'frame'
getStackProfile: no visible global function definition for '.'
getStackProfile: no visible binding for global variable 'position'
getStackProfile: no visible binding for global variable 'frame'
multiOmicsPlot_animate: no visible global function definition for
'wmsg'
multiOmicsPlot_animate: no visible global function definition for 'is'
multiOmicsPlot_list: no visible global function definition for 'wmsg'
multiOmicsPlot_list: no visible global function definition for 'is'
nt_bar: no visible binding for global variable 'y'
Undefined global functions or variables:
. cum_width frame is nrun position rel_frame wmsg y
Consider adding
importFrom("graphics", "frame")
importFrom("methods", "is")
to your NAMESPACE file (and ensure that your DESCRIPTION Imports field
contains 'methods').
* checking Rd files ... OK
* checking Rd metadata ... OK
* checking Rd cross-references ... OK
* checking for missing documentation entries ... OK
* checking for code/documentation mismatches ... OK
* checking Rd \usage sections ... OK
* checking Rd contents ... OK
* checking for unstated dependencies in examples ... OK
* checking files in 'vignettes' ... OK
* checking examples ...
** running examples for arch 'i386' ... OK
Examples with CPU (user + system) or elapsed time > 5s
user system elapsed
multiOmicsPlot_ORFikExp 5.78 0.35 39.98
multiOmicsPlot_animate 4.25 0.29 35.98
multiOmicsPlot_list 3.82 0.05 32.61
** running examples for arch 'x64' ... OK
Examples with CPU (user + system) or elapsed time > 5s
user system elapsed
multiOmicsPlot_ORFikExp 6.10 0.19 40.62
multiOmicsPlot_animate 4.83 0.20 36.25
multiOmicsPlot_list 4.28 0.16 37.48
* checking for unstated dependencies in vignettes ... OK
* checking package vignettes in 'inst/doc' ... OK
* checking running R code from vignettes ... SKIPPED
* checking re-building of vignette outputs ... SKIPPED
* checking PDF version of manual ... OK
* DONE
Status: 1 NOTE
See
'C:/Users/biocbuild/bbs-3.14-bioc/meat/RiboCrypt.Rcheck/00check.log'
for details.
RiboCrypt.Rcheck/00install.out
##############################################################################
##############################################################################
###
### Running command:
###
### C:\cygwin\bin\curl.exe -O http://155.52.207.166/BBS/3.14/bioc/src/contrib/RiboCrypt_1.0.0.tar.gz && rm -rf RiboCrypt.buildbin-libdir && mkdir RiboCrypt.buildbin-libdir && C:\Users\biocbuild\bbs-3.14-bioc\R\bin\R.exe CMD INSTALL --merge-multiarch --build --library=RiboCrypt.buildbin-libdir RiboCrypt_1.0.0.tar.gz && C:\Users\biocbuild\bbs-3.14-bioc\R\bin\R.exe CMD INSTALL RiboCrypt_1.0.0.zip && rm RiboCrypt_1.0.0.tar.gz RiboCrypt_1.0.0.zip
###
##############################################################################
##############################################################################
% Total % Received % Xferd Average Speed Time Time Time Current
Dload Upload Total Spent Left Speed
0 0 0 0 0 0 0 0 --:--:-- --:--:-- --:--:-- 0
100 161k 100 161k 0 0 247k 0 --:--:-- --:--:-- --:--:-- 247k
100 161k 100 161k 0 0 247k 0 --:--:-- --:--:-- --:--:-- 247k
install for i386
* installing *source* package 'RiboCrypt' ...
** using staged installation
** R
** inst
** byte-compile and prepare package for lazy loading
** help
*** installing help indices
converting help for package 'RiboCrypt'
finding HTML links ... done
RiboCrypt.template.experiment html
antisense html
createSeqPanel html
getCoverageProfile html
getIndexes html
ggplotlyHover html
matchMultiplePatterns html
matchToGRanges html
multiOmicsPlot_ORFikExp html
multiOmicsPlot_animate html
multiOmicsPlot_list html
trimOverlaps html
** building package indices
** installing vignettes
** testing if installed package can be loaded from temporary location
** testing if installed package can be loaded from final location
** testing if installed package keeps a record of temporary installation path
install for x64
* installing *source* package 'RiboCrypt' ...
** testing if installed package can be loaded
* MD5 sums
packaged installation of 'RiboCrypt' as RiboCrypt_1.0.0.zip
* DONE (RiboCrypt)
* installing to library 'C:/Users/biocbuild/bbs-3.14-bioc/R/library'
package 'RiboCrypt' successfully unpacked and MD5 sums checked
|
RiboCrypt.Rcheck/examples_i386/RiboCrypt-Ex.timings
|
RiboCrypt.Rcheck/examples_x64/RiboCrypt-Ex.timings
|