| Back to Multiple platform build/check report for BioC 3.14 |
|
This page was generated on 2022-04-13 12:05:49 -0400 (Wed, 13 Apr 2022).
| Hostname | OS | Arch (*) | R version | Installed pkgs |
|---|---|---|---|---|
| nebbiolo2 | Linux (Ubuntu 20.04.4 LTS) | x86_64 | 4.1.3 (2022-03-10) -- "One Push-Up" | 4324 |
| tokay2 | Windows Server 2012 R2 Standard | x64 | 4.1.3 (2022-03-10) -- "One Push-Up" | 4077 |
| machv2 | macOS 10.14.6 Mojave | x86_64 | 4.1.3 (2022-03-10) -- "One Push-Up" | 4137 |
| Click on any hostname to see more info about the system (e.g. compilers) (*) as reported by 'uname -p', except on Windows and Mac OS X | ||||
|
To the developers/maintainers of the Rcpi package: - Please allow up to 24 hours (and sometimes 48 hours) for your latest push to git@git.bioconductor.org:packages/Rcpi.git to reflect on this report. See How and When does the builder pull? When will my changes propagate? for more information. - Make sure to use the following settings in order to reproduce any error or warning you see on this page. |
| Package 1547/2083 | Hostname | OS / Arch | INSTALL | BUILD | CHECK | BUILD BIN | ||||||||
| Rcpi 1.30.0 (landing page) Nan Xiao
| nebbiolo2 | Linux (Ubuntu 20.04.4 LTS) / x86_64 | OK | OK | OK | |||||||||
| tokay2 | Windows Server 2012 R2 Standard / x64 | OK | OK | OK | OK | |||||||||
| machv2 | macOS 10.14.6 Mojave / x86_64 | OK | OK | OK | OK | |||||||||
| Package: Rcpi |
| Version: 1.30.0 |
| Command: /home/biocbuild/bbs-3.14-bioc/R/bin/R CMD check --install=check:Rcpi.install-out.txt --library=/home/biocbuild/bbs-3.14-bioc/R/library --no-vignettes --timings Rcpi_1.30.0.tar.gz |
| StartedAt: 2022-04-12 08:57:33 -0400 (Tue, 12 Apr 2022) |
| EndedAt: 2022-04-12 08:59:35 -0400 (Tue, 12 Apr 2022) |
| EllapsedTime: 121.8 seconds |
| RetCode: 0 |
| Status: OK |
| CheckDir: Rcpi.Rcheck |
| Warnings: 0 |
############################################################################## ############################################################################## ### ### Running command: ### ### /home/biocbuild/bbs-3.14-bioc/R/bin/R CMD check --install=check:Rcpi.install-out.txt --library=/home/biocbuild/bbs-3.14-bioc/R/library --no-vignettes --timings Rcpi_1.30.0.tar.gz ### ############################################################################## ############################################################################## * using log directory ‘/home/biocbuild/bbs-3.14-bioc/meat/Rcpi.Rcheck’ * using R version 4.1.3 (2022-03-10) * using platform: x86_64-pc-linux-gnu (64-bit) * using session charset: UTF-8 * using option ‘--no-vignettes’ * checking for file ‘Rcpi/DESCRIPTION’ ... OK * checking extension type ... Package * this is package ‘Rcpi’ version ‘1.30.0’ * package encoding: UTF-8 * checking package namespace information ... OK * checking package dependencies ... OK * checking if this is a source package ... OK * checking if there is a namespace ... OK * checking for hidden files and directories ... NOTE Found the following hidden files and directories: .BBSoptions These were most likely included in error. See section ‘Package structure’ in the ‘Writing R Extensions’ manual. * checking for portable file names ... OK * checking for sufficient/correct file permissions ... OK * checking whether package ‘Rcpi’ can be installed ... OK * checking installed package size ... OK * checking package directory ... OK * checking ‘build’ directory ... OK * checking DESCRIPTION meta-information ... OK * checking top-level files ... OK * checking for left-over files ... OK * checking index information ... OK * checking package subdirectories ... OK * checking R files for non-ASCII characters ... OK * checking R files for syntax errors ... OK * checking whether the package can be loaded ... OK * checking whether the package can be loaded with stated dependencies ... OK * checking whether the package can be unloaded cleanly ... OK * checking whether the namespace can be loaded with stated dependencies ... OK * checking whether the namespace can be unloaded cleanly ... OK * checking dependencies in R code ... OK * checking S3 generic/method consistency ... OK * checking replacement functions ... OK * checking foreign function calls ... OK * checking R code for possible problems ... OK * checking Rd files ... OK * checking Rd metadata ... OK * checking Rd cross-references ... OK * checking for missing documentation entries ... OK * checking for code/documentation mismatches ... OK * checking Rd \usage sections ... OK * checking Rd contents ... OK * checking for unstated dependencies in examples ... OK * checking contents of ‘data’ directory ... OK * checking data for non-ASCII characters ... OK * checking LazyData ... OK * checking data for ASCII and uncompressed saves ... OK * checking files in ‘vignettes’ ... OK * checking examples ... OK * checking for unstated dependencies in ‘tests’ ... OK * checking tests ... Running ‘runTests.R’ OK * checking for unstated dependencies in vignettes ... OK * checking package vignettes in ‘inst/doc’ ... OK * checking running R code from vignettes ... SKIPPED * checking re-building of vignette outputs ... SKIPPED * checking PDF version of manual ... OK * DONE Status: 1 NOTE See ‘/home/biocbuild/bbs-3.14-bioc/meat/Rcpi.Rcheck/00check.log’ for details.
Rcpi.Rcheck/00install.out
############################################################################## ############################################################################## ### ### Running command: ### ### /home/biocbuild/bbs-3.14-bioc/R/bin/R CMD INSTALL Rcpi ### ############################################################################## ############################################################################## * installing to library ‘/home/biocbuild/bbs-3.14-bioc/R/library’ * installing *source* package ‘Rcpi’ ... ** using staged installation ** R ** data *** moving datasets to lazyload DB ** inst ** byte-compile and prepare package for lazy loading ** help *** installing help indices ** building package indices ** installing vignettes ** testing if installed package can be loaded from temporary location ** testing if installed package can be loaded from final location ** testing if installed package keeps a record of temporary installation path * DONE (Rcpi)
Rcpi.Rcheck/tests/runTests.Rout
R version 4.1.3 (2022-03-10) -- "One Push-Up"
Copyright (C) 2022 The R Foundation for Statistical Computing
Platform: x86_64-pc-linux-gnu (64-bit)
R is free software and comes with ABSOLUTELY NO WARRANTY.
You are welcome to redistribute it under certain conditions.
Type 'license()' or 'licence()' for distribution details.
R is a collaborative project with many contributors.
Type 'contributors()' for more information and
'citation()' on how to cite R or R packages in publications.
Type 'demo()' for some demos, 'help()' for on-line help, or
'help.start()' for an HTML browser interface to help.
Type 'q()' to quit R.
> BiocGenerics:::testPackage('Rcpi')
RUNIT TEST PROTOCOL -- Tue Apr 12 08:59:28 2022
***********************************************
Number of test functions: 11
Number of errors: 0
Number of failures: 0
1 Test Suite :
Rcpi RUnit Tests - 11 test functions, 0 errors, 0 failures
Number of test functions: 11
Number of errors: 0
Number of failures: 0
>
> proc.time()
user system elapsed
6.454 0.609 5.746
Rcpi.Rcheck/Rcpi-Ex.timings
| name | user | system | elapsed | |
| AA2DACOR | 0.003 | 0.000 | 0.002 | |
| AA3DMoRSE | 0.001 | 0.000 | 0.001 | |
| AAACF | 0.001 | 0.000 | 0.001 | |
| AABLOSUM100 | 0.000 | 0.000 | 0.001 | |
| AABLOSUM45 | 0.001 | 0.000 | 0.001 | |
| AABLOSUM50 | 0.001 | 0.000 | 0.001 | |
| AABLOSUM62 | 0.001 | 0.000 | 0.000 | |
| AABLOSUM80 | 0.001 | 0.000 | 0.000 | |
| AABurden | 0.001 | 0.000 | 0.000 | |
| AACPSA | 0.001 | 0.000 | 0.000 | |
| AAConn | 0.001 | 0.000 | 0.000 | |
| AAConst | 0.001 | 0.000 | 0.000 | |
| AADescAll | 0.000 | 0.001 | 0.001 | |
| AAEdgeAdj | 0.000 | 0.001 | 0.001 | |
| AAEigIdx | 0.000 | 0.001 | 0.001 | |
| AAFGC | 0.000 | 0.001 | 0.001 | |
| AAGETAWAY | 0.000 | 0.000 | 0.001 | |
| AAGeom | 0.000 | 0.000 | 0.001 | |
| AAInfo | 0.000 | 0.000 | 0.001 | |
| AAMOE2D | 0.000 | 0.000 | 0.001 | |
| AAMOE3D | 0.000 | 0.000 | 0.001 | |
| AAMetaInfo | 0.000 | 0.000 | 0.001 | |
| AAMolProp | 0.000 | 0.000 | 0.001 | |
| AAPAM120 | 0.000 | 0.000 | 0.001 | |
| AAPAM250 | 0.000 | 0.000 | 0.001 | |
| AAPAM30 | 0.000 | 0.000 | 0.001 | |
| AAPAM40 | 0.000 | 0.000 | 0.001 | |
| AAPAM70 | 0.000 | 0.000 | 0.001 | |
| AARDF | 0.000 | 0.000 | 0.001 | |
| AARandic | 0.000 | 0.000 | 0.001 | |
| AATopo | 0.000 | 0.000 | 0.001 | |
| AATopoChg | 0.000 | 0.000 | 0.001 | |
| AAWHIM | 0.000 | 0.000 | 0.001 | |
| AAWalk | 0.000 | 0.000 | 0.001 | |
| AAindex | 0.000 | 0.000 | 0.001 | |
| OptAA3d | 0 | 0 | 0 | |
| acc | 0.005 | 0.004 | 0.008 | |
| calcDrugFPSim | 2.496 | 0.060 | 0.533 | |
| calcDrugMCSSim | 0.031 | 0.008 | 0.020 | |
| calcParProtGOSim | 0 | 0 | 0 | |
| calcParProtSeqSim | 0.013 | 0.000 | 0.005 | |
| calcTwoProtGOSim | 0 | 0 | 0 | |
| calcTwoProtSeqSim | 0.001 | 0.000 | 0.002 | |
| checkProt | 0.001 | 0.000 | 0.001 | |
| convMolFormat | 0.001 | 0.000 | 0.001 | |
| extractDrugAIO | 0.000 | 0.000 | 0.001 | |
| extractDrugALOGP | 0.000 | 0.000 | 0.001 | |
| extractDrugAminoAcidCount | 0 | 0 | 0 | |
| extractDrugApol | 0.001 | 0.000 | 0.000 | |
| extractDrugAromaticAtomsCount | 0.001 | 0.000 | 0.000 | |
| extractDrugAromaticBondsCount | 0.001 | 0.000 | 0.000 | |
| extractDrugAtomCount | 0.000 | 0.000 | 0.001 | |
| extractDrugAutocorrelationCharge | 0.000 | 0.000 | 0.001 | |
| extractDrugAutocorrelationMass | 0.000 | 0.000 | 0.001 | |
| extractDrugAutocorrelationPolarizability | 0 | 0 | 0 | |
| extractDrugBCUT | 0.001 | 0.000 | 0.000 | |
| extractDrugBPol | 0.001 | 0.000 | 0.000 | |
| extractDrugBondCount | 0.001 | 0.000 | 0.001 | |
| extractDrugCPSA | 0.000 | 0.000 | 0.001 | |
| extractDrugCarbonTypes | 0.000 | 0.000 | 0.001 | |
| extractDrugChiChain | 0 | 0 | 0 | |
| extractDrugChiCluster | 0.001 | 0.000 | 0.000 | |
| extractDrugChiPath | 0.001 | 0.000 | 0.000 | |
| extractDrugChiPathCluster | 0.001 | 0.000 | 0.000 | |
| extractDrugDescOB | 0.137 | 0.008 | 0.146 | |
| extractDrugECI | 0.001 | 0.000 | 0.001 | |
| extractDrugEstate | 0.001 | 0.000 | 0.000 | |
| extractDrugEstateComplete | 0.001 | 0.000 | 0.000 | |
| extractDrugExtended | 0.001 | 0.000 | 0.000 | |
| extractDrugExtendedComplete | 0.001 | 0.000 | 0.001 | |
| extractDrugFMF | 0.000 | 0.000 | 0.001 | |
| extractDrugFragmentComplexity | 0.000 | 0.000 | 0.001 | |
| extractDrugGraph | 0 | 0 | 0 | |
| extractDrugGraphComplete | 0.001 | 0.000 | 0.000 | |
| extractDrugGravitationalIndex | 0.001 | 0.000 | 0.000 | |
| extractDrugHBondAcceptorCount | 0.001 | 0.000 | 0.000 | |
| extractDrugHBondDonorCount | 0.000 | 0.000 | 0.001 | |
| extractDrugHybridization | 0.000 | 0.000 | 0.001 | |
| extractDrugHybridizationComplete | 0 | 0 | 0 | |
| extractDrugHybridizationRatio | 0.000 | 0.001 | 0.000 | |
| extractDrugIPMolecularLearning | 0.000 | 0.001 | 0.000 | |
| extractDrugKR | 0.000 | 0.001 | 0.000 | |
| extractDrugKRComplete | 0.000 | 0.000 | 0.001 | |
| extractDrugKappaShapeIndices | 0.000 | 0.000 | 0.001 | |
| extractDrugKierHallSmarts | 0.000 | 0.000 | 0.001 | |
| extractDrugLargestChain | 0 | 0 | 0 | |
| extractDrugLargestPiSystem | 0.001 | 0.000 | 0.000 | |
| extractDrugLengthOverBreadth | 0.001 | 0.000 | 0.000 | |
| extractDrugLongestAliphaticChain | 0.001 | 0.000 | 0.000 | |
| extractDrugMACCS | 0.001 | 0.000 | 0.001 | |
| extractDrugMACCSComplete | 0.000 | 0.000 | 0.001 | |
| extractDrugMDE | 0.000 | 0.000 | 0.001 | |
| extractDrugMannholdLogP | 0 | 0 | 0 | |
| extractDrugMomentOfInertia | 0.001 | 0.000 | 0.000 | |
| extractDrugOBFP2 | 0.422 | 0.008 | 0.429 | |
| extractDrugOBFP3 | 0.009 | 0.000 | 0.009 | |
| extractDrugOBFP4 | 0.005 | 0.004 | 0.009 | |
| extractDrugOBMACCS | 0.012 | 0.004 | 0.017 | |
| extractDrugPetitjeanNumber | 0 | 0 | 0 | |
| extractDrugPetitjeanShapeIndex | 0 | 0 | 0 | |
| extractDrugPubChem | 0.001 | 0.000 | 0.001 | |
| extractDrugPubChemComplete | 0.001 | 0.000 | 0.001 | |
| extractDrugRotatableBondsCount | 0.001 | 0.000 | 0.000 | |
| extractDrugRuleOfFive | 0 | 0 | 0 | |
| extractDrugShortestPath | 0 | 0 | 0 | |
| extractDrugShortestPathComplete | 0.000 | 0.000 | 0.001 | |
| extractDrugStandard | 0 | 0 | 0 | |
| extractDrugStandardComplete | 0.001 | 0.000 | 0.001 | |
| extractDrugTPSA | 0.001 | 0.000 | 0.001 | |
| extractDrugVABC | 0 | 0 | 0 | |
| extractDrugVAdjMa | 0 | 0 | 0 | |
| extractDrugWHIM | 0 | 0 | 0 | |
| extractDrugWeight | 0.001 | 0.000 | 0.001 | |
| extractDrugWeightedPath | 0.001 | 0.000 | 0.001 | |
| extractDrugWienerNumbers | 0 | 0 | 0 | |
| extractDrugXLogP | 0 | 0 | 0 | |
| extractDrugZagrebIndex | 0 | 0 | 0 | |
| extractPCMBLOSUM | 0.008 | 0.000 | 0.008 | |
| extractPCMDescScales | 0.009 | 0.000 | 0.010 | |
| extractPCMFAScales | 0.014 | 0.000 | 0.014 | |
| extractPCMMDSScales | 0.008 | 0.000 | 0.008 | |
| extractPCMPropScales | 0.008 | 0.004 | 0.012 | |
| extractPCMScales | 0.423 | 0.000 | 0.422 | |
| extractProtAAC | 0.002 | 0.000 | 0.002 | |
| extractProtAPAAC | 0.669 | 0.056 | 0.724 | |
| extractProtCTDC | 0.000 | 0.003 | 0.002 | |
| extractProtCTDD | 0.002 | 0.001 | 0.003 | |
| extractProtCTDT | 0.004 | 0.000 | 0.004 | |
| extractProtCTriad | 0.061 | 0.008 | 0.069 | |
| extractProtDC | 0.001 | 0.003 | 0.004 | |
| extractProtGeary | 0.094 | 0.004 | 0.098 | |
| extractProtMoran | 0.086 | 0.000 | 0.086 | |
| extractProtMoreauBroto | 0.084 | 0.000 | 0.084 | |
| extractProtPAAC | 0.281 | 0.024 | 0.305 | |
| extractProtPSSM | 0.001 | 0.000 | 0.000 | |
| extractProtPSSMAcc | 0.001 | 0.000 | 0.001 | |
| extractProtPSSMFeature | 0.001 | 0.000 | 0.001 | |
| extractProtQSO | 0.548 | 0.020 | 0.567 | |
| extractProtSOCN | 0.548 | 0.004 | 0.552 | |
| extractProtTC | 0.015 | 0.028 | 0.043 | |
| getCPI | 0.003 | 0.000 | 0.002 | |
| getDrug | 0 | 0 | 0 | |
| getFASTAFromKEGG | 0 | 0 | 0 | |
| getFASTAFromUniProt | 0 | 0 | 0 | |
| getMolFromCAS | 0 | 0 | 0 | |
| getMolFromChEMBL | 0 | 0 | 0 | |
| getMolFromDrugBank | 0.000 | 0.000 | 0.001 | |
| getMolFromKEGG | 0 | 0 | 0 | |
| getMolFromPubChem | 0 | 0 | 0 | |
| getPDBFromRCSBPDB | 0 | 0 | 0 | |
| getPPI | 0.002 | 0.000 | 0.002 | |
| getProt | 0 | 0 | 0 | |
| getSeqFromKEGG | 0 | 0 | 0 | |
| getSeqFromRCSBPDB | 0 | 0 | 0 | |
| getSeqFromUniProt | 0 | 0 | 0 | |
| getSmiFromChEMBL | 0 | 0 | 0 | |
| getSmiFromDrugBank | 0 | 0 | 0 | |
| getSmiFromKEGG | 0 | 0 | 0 | |
| getSmiFromPubChem | 0 | 0 | 0 | |
| readFASTA | 0.001 | 0.000 | 0.000 | |
| readMolFromSDF | 0.002 | 0.000 | 0.001 | |
| readMolFromSmi | 0.000 | 0.000 | 0.001 | |
| readPDB | 0.801 | 0.004 | 0.803 | |
| searchDrug | 0.001 | 0.000 | 0.001 | |
| segProt | 0.002 | 0.000 | 0.001 | |