| Back to Multiple platform build/check report for BioC 3.14 |
|
This page was generated on 2022-04-13 12:07:11 -0400 (Wed, 13 Apr 2022).
| Hostname | OS | Arch (*) | R version | Installed pkgs |
|---|---|---|---|---|
| nebbiolo2 | Linux (Ubuntu 20.04.4 LTS) | x86_64 | 4.1.3 (2022-03-10) -- "One Push-Up" | 4324 |
| tokay2 | Windows Server 2012 R2 Standard | x64 | 4.1.3 (2022-03-10) -- "One Push-Up" | 4077 |
| machv2 | macOS 10.14.6 Mojave | x86_64 | 4.1.3 (2022-03-10) -- "One Push-Up" | 4137 |
| Click on any hostname to see more info about the system (e.g. compilers) (*) as reported by 'uname -p', except on Windows and Mac OS X | ||||
|
To the developers/maintainers of the Rcade package: - Please allow up to 24 hours (and sometimes 48 hours) for your latest push to git@git.bioconductor.org:packages/Rcade.git to reflect on this report. See How and When does the builder pull? When will my changes propagate? for more information. - Make sure to use the following settings in order to reproduce any error or warning you see on this page. |
| Package 1540/2083 | Hostname | OS / Arch | INSTALL | BUILD | CHECK | BUILD BIN | ||||||||
| Rcade 1.36.0 (landing page) Jonathan Cairns
| nebbiolo2 | Linux (Ubuntu 20.04.4 LTS) / x86_64 | OK | OK | OK | |||||||||
| tokay2 | Windows Server 2012 R2 Standard / x64 | OK | OK | OK | OK | |||||||||
| machv2 | macOS 10.14.6 Mojave / x86_64 | OK | OK | ERROR | OK | |||||||||
| Package: Rcade |
| Version: 1.36.0 |
| Command: C:\Users\biocbuild\bbs-3.14-bioc\R\bin\R.exe CMD check --force-multiarch --install=check:Rcade.install-out.txt --library=C:\Users\biocbuild\bbs-3.14-bioc\R\library --no-vignettes --timings Rcade_1.36.0.tar.gz |
| StartedAt: 2022-04-13 01:17:35 -0400 (Wed, 13 Apr 2022) |
| EndedAt: 2022-04-13 01:23:37 -0400 (Wed, 13 Apr 2022) |
| EllapsedTime: 361.9 seconds |
| RetCode: 0 |
| Status: OK |
| CheckDir: Rcade.Rcheck |
| Warnings: 0 |
##############################################################################
##############################################################################
###
### Running command:
###
### C:\Users\biocbuild\bbs-3.14-bioc\R\bin\R.exe CMD check --force-multiarch --install=check:Rcade.install-out.txt --library=C:\Users\biocbuild\bbs-3.14-bioc\R\library --no-vignettes --timings Rcade_1.36.0.tar.gz
###
##############################################################################
##############################################################################
* using log directory 'C:/Users/biocbuild/bbs-3.14-bioc/meat/Rcade.Rcheck'
* using R version 4.1.3 (2022-03-10)
* using platform: x86_64-w64-mingw32 (64-bit)
* using session charset: ISO8859-1
* using option '--no-vignettes'
* checking for file 'Rcade/DESCRIPTION' ... OK
* this is package 'Rcade' version '1.36.0'
* checking package namespace information ... OK
* checking package dependencies ... OK
* checking if this is a source package ... OK
* checking if there is a namespace ... OK
* checking for hidden files and directories ... NOTE
Found the following hidden files and directories:
.BBSoptions
These were most likely included in error. See section 'Package
structure' in the 'Writing R Extensions' manual.
* checking for portable file names ... OK
* checking whether package 'Rcade' can be installed ... OK
* checking installed package size ... NOTE
installed size is 5.7Mb
sub-directories of 1Mb or more:
extdata 5.2Mb
* checking package directory ... OK
* checking 'build' directory ... OK
* checking DESCRIPTION meta-information ... OK
* checking top-level files ... OK
* checking for left-over files ... OK
* checking index information ... OK
* checking package subdirectories ... OK
* checking R files for non-ASCII characters ... OK
* checking R files for syntax errors ... OK
* loading checks for arch 'i386'
** checking whether the package can be loaded ... OK
** checking whether the package can be loaded with stated dependencies ... OK
** checking whether the package can be unloaded cleanly ... OK
** checking whether the namespace can be loaded with stated dependencies ... OK
** checking whether the namespace can be unloaded cleanly ... OK
* loading checks for arch 'x64'
** checking whether the package can be loaded ... OK
** checking whether the package can be loaded with stated dependencies ... OK
** checking whether the package can be unloaded cleanly ... OK
** checking whether the namespace can be loaded with stated dependencies ... OK
** checking whether the namespace can be unloaded cleanly ... OK
* checking dependencies in R code ... OK
* checking S3 generic/method consistency ... OK
* checking replacement functions ... OK
* checking foreign function calls ... OK
* checking R code for possible problems ... NOTE
constructRcadeTable: no visible binding for global variable 'p.DE'
constructRcadeTable: no visible binding for global variable 'p.ChIP'
plotBBB,Rcade: no visible global function definition for 'decorate3d'
Undefined global functions or variables:
decorate3d p.ChIP p.DE
* checking Rd files ... OK
* checking Rd metadata ... OK
* checking Rd cross-references ... OK
* checking for missing documentation entries ... OK
* checking for code/documentation mismatches ... OK
* checking Rd \usage sections ... OK
* checking Rd contents ... OK
* checking for unstated dependencies in examples ... OK
* checking contents of 'data' directory ... OK
* checking data for non-ASCII characters ... OK
* checking data for ASCII and uncompressed saves ... OK
* checking files in 'vignettes' ... OK
* checking examples ...
** running examples for arch 'i386' ... OK
Examples with CPU (user + system) or elapsed time > 5s
user system elapsed
RcadeAnalysis 5.56 0.78 7.86
** running examples for arch 'x64' ... OK
* checking for unstated dependencies in 'tests' ... OK
* checking tests ...
** running tests for arch 'i386' ...
Running 'runTests.R'
OK
** running tests for arch 'x64' ...
Running 'runTests.R'
OK
* checking for unstated dependencies in vignettes ... OK
* checking package vignettes in 'inst/doc' ... OK
* checking running R code from vignettes ... SKIPPED
* checking re-building of vignette outputs ... SKIPPED
* checking PDF version of manual ... OK
* DONE
Status: 3 NOTEs
See
'C:/Users/biocbuild/bbs-3.14-bioc/meat/Rcade.Rcheck/00check.log'
for details.
Rcade.Rcheck/00install.out
##############################################################################
##############################################################################
###
### Running command:
###
### C:\cygwin\bin\curl.exe -O http://155.52.207.166/BBS/3.14/bioc/src/contrib/Rcade_1.36.0.tar.gz && rm -rf Rcade.buildbin-libdir && mkdir Rcade.buildbin-libdir && C:\Users\biocbuild\bbs-3.14-bioc\R\bin\R.exe CMD INSTALL --merge-multiarch --build --library=Rcade.buildbin-libdir Rcade_1.36.0.tar.gz && C:\Users\biocbuild\bbs-3.14-bioc\R\bin\R.exe CMD INSTALL Rcade_1.36.0.zip && rm Rcade_1.36.0.tar.gz Rcade_1.36.0.zip
###
##############################################################################
##############################################################################
% Total % Received % Xferd Average Speed Time Time Time Current
Dload Upload Total Spent Left Speed
0 0 0 0 0 0 0 0 --:--:-- --:--:-- --:--:-- 0
2 1605k 2 38959 0 0 245k 0 0:00:06 --:--:-- 0:00:06 245k
56 1605k 56 906k 0 0 783k 0 0:00:02 0:00:01 0:00:01 783k
100 1605k 100 1605k 0 0 1000k 0 0:00:01 0:00:01 --:--:-- 1000k
install for i386
* installing *source* package 'Rcade' ...
** using staged installation
** R
** data
** inst
** byte-compile and prepare package for lazy loading
** help
*** installing help indices
converting help for package 'Rcade'
finding HTML links ... done
Rcade-class html
RcadeAnalysis html
RcadeSTAT1 html
RcadeTrack-class html
constructRcadeTable html
countReads html
defineBins html
finding level-2 HTML links ... done
diffCountsBaySeq html
exportRcade-methods html
** building package indices
** installing vignettes
** testing if installed package can be loaded from temporary location
** testing if installed package can be loaded from final location
** testing if installed package keeps a record of temporary installation path
install for x64
* installing *source* package 'Rcade' ...
** testing if installed package can be loaded
* MD5 sums
packaged installation of 'Rcade' as Rcade_1.36.0.zip
* DONE (Rcade)
* installing to library 'C:/Users/biocbuild/bbs-3.14-bioc/R/library'
package 'Rcade' successfully unpacked and MD5 sums checked
|
Rcade.Rcheck/tests_i386/runTests.Rout
R version 4.1.3 (2022-03-10) -- "One Push-Up"
Copyright (C) 2022 The R Foundation for Statistical Computing
Platform: i386-w64-mingw32/i386 (32-bit)
R is free software and comes with ABSOLUTELY NO WARRANTY.
You are welcome to redistribute it under certain conditions.
Type 'license()' or 'licence()' for distribution details.
R is a collaborative project with many contributors.
Type 'contributors()' for more information and
'citation()' on how to cite R or R packages in publications.
Type 'demo()' for some demos, 'help()' for on-line help, or
'help.start()' for an HTML browser interface to help.
Type 'q()' to quit R.
> require("Rcade") || stop("unable to load Rcade")
Loading required package: Rcade
Loading required package: GenomicRanges
Loading required package: stats4
Loading required package: BiocGenerics
Attaching package: 'BiocGenerics'
The following objects are masked from 'package:stats':
IQR, mad, sd, var, xtabs
The following objects are masked from 'package:base':
Filter, Find, Map, Position, Reduce, anyDuplicated, append,
as.data.frame, basename, cbind, colnames, dirname, do.call,
duplicated, eval, evalq, get, grep, grepl, intersect, is.unsorted,
lapply, mapply, match, mget, order, paste, pmax, pmax.int, pmin,
pmin.int, rank, rbind, rownames, sapply, setdiff, sort, table,
tapply, union, unique, unsplit, which.max, which.min
Loading required package: S4Vectors
Attaching package: 'S4Vectors'
The following objects are masked from 'package:base':
I, expand.grid, unname
Loading required package: IRanges
Attaching package: 'IRanges'
The following object is masked from 'package:grDevices':
windows
Loading required package: GenomeInfoDb
Loading required package: Rsamtools
Loading required package: Biostrings
Loading required package: XVector
Attaching package: 'Biostrings'
The following object is masked from 'package:base':
strsplit
Loading required package: baySeq
Loading required package: abind
Loading required package: parallel
Welcome to Rcade - version 1.36.0
If you are new to Rcade, please consider reading the vignette through the command: vignette("Rcade").
Attaching package: 'Rcade'
The following object is masked from 'package:BiocGenerics':
plotPCA
[1] TRUE
> BiocGenerics:::testPackage("Rcade")
File wgEncodeSydhTfbsHelas3InputIfng30StdAlnRep1.bam: Found 24 chromosomes, of which 0 are present in the annotation.
File wgEncodeSydhTfbsHelas3InputIfng30StdAlnRep1.bam: Removed all instances of 'chr' - now 19 chromosomes are present in the annotation.
File wgEncodeSydhTfbsHelas3InputStdAlnRep1.bam: Found 24 chromosomes, of which 0 are present in the annotation.
File wgEncodeSydhTfbsHelas3InputStdAlnRep1.bam: Removed all instances of 'chr' - now 19 chromosomes are present in the annotation.
File wgEncodeSydhTfbsHelas3Stat1Ifng30StdAlnRep1.bam: Found 24 chromosomes, of which 0 are present in the annotation.
File wgEncodeSydhTfbsHelas3Stat1Ifng30StdAlnRep1.bam: Removed all instances of 'chr' - now 19 chromosomes are present in the annotation.
File wgEncodeSydhTfbsHelas3Stat1Ifng30StdAlnRep2.bam: Found 24 chromosomes, of which 0 are present in the annotation.
File wgEncodeSydhTfbsHelas3Stat1Ifng30StdAlnRep2.bam: Removed all instances of 'chr' - now 19 chromosomes are present in the annotation.
File wgEncodeSydhTfbsHelas3InputIfng30StdAlnRep1.bam: Counting reads.
File wgEncodeSydhTfbsHelas3InputStdAlnRep1.bam: Counting reads.
File wgEncodeSydhTfbsHelas3Stat1Ifng30StdAlnRep1.bam: Counting reads.
File wgEncodeSydhTfbsHelas3Stat1Ifng30StdAlnRep2.bam: Counting reads.
RUNIT TEST PROTOCOL -- Wed Apr 13 01:23:17 2022
***********************************************
Number of test functions: 3
Number of errors: 0
Number of failures: 0
1 Test Suite :
Rcade RUnit Tests - 3 test functions, 0 errors, 0 failures
Number of test functions: 3
Number of errors: 0
Number of failures: 0
>
>
> proc.time()
user system elapsed
10.73 0.62 11.34
|
Rcade.Rcheck/tests_x64/runTests.Rout
R version 4.1.3 (2022-03-10) -- "One Push-Up"
Copyright (C) 2022 The R Foundation for Statistical Computing
Platform: x86_64-w64-mingw32/x64 (64-bit)
R is free software and comes with ABSOLUTELY NO WARRANTY.
You are welcome to redistribute it under certain conditions.
Type 'license()' or 'licence()' for distribution details.
R is a collaborative project with many contributors.
Type 'contributors()' for more information and
'citation()' on how to cite R or R packages in publications.
Type 'demo()' for some demos, 'help()' for on-line help, or
'help.start()' for an HTML browser interface to help.
Type 'q()' to quit R.
> require("Rcade") || stop("unable to load Rcade")
Loading required package: Rcade
Loading required package: GenomicRanges
Loading required package: stats4
Loading required package: BiocGenerics
Attaching package: 'BiocGenerics'
The following objects are masked from 'package:stats':
IQR, mad, sd, var, xtabs
The following objects are masked from 'package:base':
Filter, Find, Map, Position, Reduce, anyDuplicated, append,
as.data.frame, basename, cbind, colnames, dirname, do.call,
duplicated, eval, evalq, get, grep, grepl, intersect, is.unsorted,
lapply, mapply, match, mget, order, paste, pmax, pmax.int, pmin,
pmin.int, rank, rbind, rownames, sapply, setdiff, sort, table,
tapply, union, unique, unsplit, which.max, which.min
Loading required package: S4Vectors
Attaching package: 'S4Vectors'
The following objects are masked from 'package:base':
I, expand.grid, unname
Loading required package: IRanges
Attaching package: 'IRanges'
The following object is masked from 'package:grDevices':
windows
Loading required package: GenomeInfoDb
Loading required package: Rsamtools
Loading required package: Biostrings
Loading required package: XVector
Attaching package: 'Biostrings'
The following object is masked from 'package:base':
strsplit
Loading required package: baySeq
Loading required package: abind
Loading required package: parallel
Welcome to Rcade - version 1.36.0
If you are new to Rcade, please consider reading the vignette through the command: vignette("Rcade").
Attaching package: 'Rcade'
The following object is masked from 'package:BiocGenerics':
plotPCA
[1] TRUE
> BiocGenerics:::testPackage("Rcade")
File wgEncodeSydhTfbsHelas3InputIfng30StdAlnRep1.bam: Found 24 chromosomes, of which 0 are present in the annotation.
File wgEncodeSydhTfbsHelas3InputIfng30StdAlnRep1.bam: Removed all instances of 'chr' - now 19 chromosomes are present in the annotation.
File wgEncodeSydhTfbsHelas3InputStdAlnRep1.bam: Found 24 chromosomes, of which 0 are present in the annotation.
File wgEncodeSydhTfbsHelas3InputStdAlnRep1.bam: Removed all instances of 'chr' - now 19 chromosomes are present in the annotation.
File wgEncodeSydhTfbsHelas3Stat1Ifng30StdAlnRep1.bam: Found 24 chromosomes, of which 0 are present in the annotation.
File wgEncodeSydhTfbsHelas3Stat1Ifng30StdAlnRep1.bam: Removed all instances of 'chr' - now 19 chromosomes are present in the annotation.
File wgEncodeSydhTfbsHelas3Stat1Ifng30StdAlnRep2.bam: Found 24 chromosomes, of which 0 are present in the annotation.
File wgEncodeSydhTfbsHelas3Stat1Ifng30StdAlnRep2.bam: Removed all instances of 'chr' - now 19 chromosomes are present in the annotation.
File wgEncodeSydhTfbsHelas3InputIfng30StdAlnRep1.bam: Counting reads.
File wgEncodeSydhTfbsHelas3InputStdAlnRep1.bam: Counting reads.
File wgEncodeSydhTfbsHelas3Stat1Ifng30StdAlnRep1.bam: Counting reads.
File wgEncodeSydhTfbsHelas3Stat1Ifng30StdAlnRep2.bam: Counting reads.
RUNIT TEST PROTOCOL -- Wed Apr 13 01:23:29 2022
***********************************************
Number of test functions: 3
Number of errors: 0
Number of failures: 0
1 Test Suite :
Rcade RUnit Tests - 3 test functions, 0 errors, 0 failures
Number of test functions: 3
Number of errors: 0
Number of failures: 0
>
>
> proc.time()
user system elapsed
11.25 0.37 11.59
|
|
Rcade.Rcheck/examples_i386/Rcade-Ex.timings
|
Rcade.Rcheck/examples_x64/Rcade-Ex.timings
|