| Back to Multiple platform build/check report for BioC 3.14 |
|
This page was generated on 2022-04-13 12:07:10 -0400 (Wed, 13 Apr 2022).
| Hostname | OS | Arch (*) | R version | Installed pkgs |
|---|---|---|---|---|
| nebbiolo2 | Linux (Ubuntu 20.04.4 LTS) | x86_64 | 4.1.3 (2022-03-10) -- "One Push-Up" | 4324 |
| tokay2 | Windows Server 2012 R2 Standard | x64 | 4.1.3 (2022-03-10) -- "One Push-Up" | 4077 |
| machv2 | macOS 10.14.6 Mojave | x86_64 | 4.1.3 (2022-03-10) -- "One Push-Up" | 4137 |
| Click on any hostname to see more info about the system (e.g. compilers) (*) as reported by 'uname -p', except on Windows and Mac OS X | ||||
|
To the developers/maintainers of the Rbec package: - Please allow up to 24 hours (and sometimes 48 hours) for your latest push to git@git.bioconductor.org:packages/Rbec.git to reflect on this report. See How and When does the builder pull? When will my changes propagate? for more information. - Make sure to use the following settings in order to reproduce any error or warning you see on this page. |
| Package 1532/2083 | Hostname | OS / Arch | INSTALL | BUILD | CHECK | BUILD BIN | ||||||||
| Rbec 1.2.0 (landing page) Pengfan Zhang
| nebbiolo2 | Linux (Ubuntu 20.04.4 LTS) / x86_64 | OK | OK | OK | |||||||||
| tokay2 | Windows Server 2012 R2 Standard / x64 | OK | OK | OK | OK | |||||||||
| machv2 | macOS 10.14.6 Mojave / x86_64 | OK | OK | OK | OK | |||||||||
| Package: Rbec |
| Version: 1.2.0 |
| Command: rm -rf Rbec.buildbin-libdir && mkdir Rbec.buildbin-libdir && C:\Users\biocbuild\bbs-3.14-bioc\R\bin\R.exe CMD INSTALL --merge-multiarch --build --library=Rbec.buildbin-libdir Rbec_1.2.0.tar.gz |
| StartedAt: 2022-04-13 06:55:01 -0400 (Wed, 13 Apr 2022) |
| EndedAt: 2022-04-13 06:56:29 -0400 (Wed, 13 Apr 2022) |
| EllapsedTime: 87.2 seconds |
| RetCode: 0 |
| Status: OK |
| PackageFile: Rbec_1.2.0.zip |
| PackageFileSize: 2.175 MiB |
##############################################################################
##############################################################################
###
### Running command:
###
### rm -rf Rbec.buildbin-libdir && mkdir Rbec.buildbin-libdir && C:\Users\biocbuild\bbs-3.14-bioc\R\bin\R.exe CMD INSTALL --merge-multiarch --build --library=Rbec.buildbin-libdir Rbec_1.2.0.tar.gz
###
##############################################################################
##############################################################################
install for i386
* installing *source* package 'Rbec' ...
** using staged installation
** libs
"C:/rtools40/mingw32/bin/"g++ -std=gnu++11 -I"C:/Users/BIOCBU~1/BBS-3~1.14-/R/include" -DNDEBUG -I'C:/Users/biocbuild/bbs-3.14-bioc/R/library/Rcpp/include' -I"C:/extsoft/include" -O2 -Wall -mfpmath=sse -msse2 -mstackrealign -c RcppExports.cpp -o RcppExports.o
In file included from ../inst/include/Rbec.h:7,
from RcppExports.cpp:4:
../inst/include/Rbec_RcppExports.h:14:14: warning: 'void Rbec::{anonymous}::validateSignature(const char*)' defined but not used [-Wunused-function]
void validateSignature(const char* sig) {
^~~~~~~~~~~~~~~~~
"C:/rtools40/mingw32/bin/"g++ -std=gnu++11 -I"C:/Users/BIOCBU~1/BBS-3~1.14-/R/include" -DNDEBUG -I'C:/Users/biocbuild/bbs-3.14-bioc/R/library/Rcpp/include' -I"C:/extsoft/include" -O2 -Wall -mfpmath=sse -msse2 -mstackrealign -c kmer_dist.cpp -o kmer_dist.o
kmer_dist.cpp: In function 'Rcpp::NumericVector kmer_dist(std::vector<std::__cxx11::basic_string<char> >, std::vector<std::__cxx11::basic_string<char> >, int)':
kmer_dist.cpp:33:16: warning: comparison of integer expressions of different signedness: 'int' and 'size_t' {aka 'unsigned int'} [-Wsign-compare]
for(int i=0;i<nseqs;i++) {
~^~~~~~
"C:/rtools40/mingw32/bin/"g++ -std=gnu++11 -I"C:/Users/BIOCBU~1/BBS-3~1.14-/R/include" -DNDEBUG -I'C:/Users/biocbuild/bbs-3.14-bioc/R/library/Rcpp/include' -I"C:/extsoft/include" -O2 -Wall -mfpmath=sse -msse2 -mstackrealign -c rcpp_test.cpp -o rcpp_test.o
rcpp_test.cpp: In function 'void assign_kmer(uint16_t*, const char*, int)':
rcpp_test.cpp:71:8: warning: comparison of integer expressions of different signedness: 'int' and 'size_t' {aka 'unsigned int'} [-Wsign-compare]
if(k >= len || k < 3 || k > 8) { Rcpp::stop("Invalid kmer-size."); }
~~^~~~~~
rcpp_test.cpp:81:13: warning: comparison of integer expressions of different signedness: 'int' and 'size_t' {aka 'unsigned int'} [-Wsign-compare]
for(i=0; i<klen; i++) {
~^~~~~
C:/rtools40/mingw32/bin/g++ -std=gnu++11 -shared -s -static-libgcc -o Rbec.dll tmp.def RcppExports.o kmer_dist.o rcpp_test.o -LC:/extsoft/lib/i386 -LC:/extsoft/lib -LC:/Users/BIOCBU~1/BBS-3~1.14-/R/bin/i386 -lR
installing to C:/Users/biocbuild/bbs-3.14-bioc/meat/Rbec.buildbin-libdir/00LOCK-Rbec/00new/Rbec/libs/i386
** R
** inst
** byte-compile and prepare package for lazy loading
** help
*** installing help indices
converting help for package 'Rbec'
finding HTML links ... done
Contam_detect html
Rbec html
** building package indices
** installing vignettes
** testing if installed package can be loaded from temporary location
** testing if installed package can be loaded from final location
** testing if installed package keeps a record of temporary installation path
install for x64
* installing *source* package 'Rbec' ...
** libs
"C:/rtools40/mingw64/bin/"g++ -std=gnu++11 -I"C:/Users/BIOCBU~1/BBS-3~1.14-/R/include" -DNDEBUG -I'C:/Users/biocbuild/bbs-3.14-bioc/R/library/Rcpp/include' -I"C:/extsoft/include" -O2 -Wall -mfpmath=sse -msse2 -mstackrealign -c RcppExports.cpp -o RcppExports.o
In file included from ../inst/include/Rbec.h:7,
from RcppExports.cpp:4:
../inst/include/Rbec_RcppExports.h:14:14: warning: 'void Rbec::{anonymous}::validateSignature(const char*)' defined but not used [-Wunused-function]
void validateSignature(const char* sig) {
^~~~~~~~~~~~~~~~~
"C:/rtools40/mingw64/bin/"g++ -std=gnu++11 -I"C:/Users/BIOCBU~1/BBS-3~1.14-/R/include" -DNDEBUG -I'C:/Users/biocbuild/bbs-3.14-bioc/R/library/Rcpp/include' -I"C:/extsoft/include" -O2 -Wall -mfpmath=sse -msse2 -mstackrealign -c kmer_dist.cpp -o kmer_dist.o
kmer_dist.cpp: In function 'Rcpp::NumericVector kmer_dist(std::vector<std::__cxx11::basic_string<char> >, std::vector<std::__cxx11::basic_string<char> >, int)':
kmer_dist.cpp:33:16: warning: comparison of integer expressions of different signedness: 'int' and 'size_t' {aka 'long long unsigned int'} [-Wsign-compare]
for(int i=0;i<nseqs;i++) {
~^~~~~~
"C:/rtools40/mingw64/bin/"g++ -std=gnu++11 -I"C:/Users/BIOCBU~1/BBS-3~1.14-/R/include" -DNDEBUG -I'C:/Users/biocbuild/bbs-3.14-bioc/R/library/Rcpp/include' -I"C:/extsoft/include" -O2 -Wall -mfpmath=sse -msse2 -mstackrealign -c rcpp_test.cpp -o rcpp_test.o
rcpp_test.cpp: In function 'void assign_kmer(uint16_t*, const char*, int)':
rcpp_test.cpp:71:8: warning: comparison of integer expressions of different signedness: 'int' and 'size_t' {aka 'long long unsigned int'} [-Wsign-compare]
if(k >= len || k < 3 || k > 8) { Rcpp::stop("Invalid kmer-size."); }
~~^~~~~~
rcpp_test.cpp:81:13: warning: comparison of integer expressions of different signedness: 'int' and 'size_t' {aka 'long long unsigned int'} [-Wsign-compare]
for(i=0; i<klen; i++) {
~^~~~~
C:/rtools40/mingw64/bin/g++ -std=gnu++11 -shared -s -static-libgcc -o Rbec.dll tmp.def RcppExports.o kmer_dist.o rcpp_test.o -LC:/extsoft/lib/x64 -LC:/extsoft/lib -LC:/Users/BIOCBU~1/BBS-3~1.14-/R/bin/x64 -lR
installing to C:/Users/biocbuild/bbs-3.14-bioc/meat/Rbec.buildbin-libdir/Rbec/libs/x64
** testing if installed package can be loaded
* MD5 sums
packaged installation of 'Rbec' as Rbec_1.2.0.zip
* DONE (Rbec)