| Back to Multiple platform build/check report for BioC 3.14 |
|
This page was generated on 2022-04-13 12:07:16 -0400 (Wed, 13 Apr 2022).
| Hostname | OS | Arch (*) | R version | Installed pkgs |
|---|---|---|---|---|
| nebbiolo2 | Linux (Ubuntu 20.04.4 LTS) | x86_64 | 4.1.3 (2022-03-10) -- "One Push-Up" | 4324 |
| tokay2 | Windows Server 2012 R2 Standard | x64 | 4.1.3 (2022-03-10) -- "One Push-Up" | 4077 |
| machv2 | macOS 10.14.6 Mojave | x86_64 | 4.1.3 (2022-03-10) -- "One Push-Up" | 4137 |
| Click on any hostname to see more info about the system (e.g. compilers) (*) as reported by 'uname -p', except on Windows and Mac OS X | ||||
|
To the developers/maintainers of the RUVcorr package: - Please allow up to 24 hours (and sometimes 48 hours) for your latest push to git@git.bioconductor.org:packages/RUVcorr.git to reflect on this report. See How and When does the builder pull? When will my changes propagate? for more information. - Make sure to use the following settings in order to reproduce any error or warning you see on this page. |
| Package 1680/2083 | Hostname | OS / Arch | INSTALL | BUILD | CHECK | BUILD BIN | ||||||||
| RUVcorr 1.26.0 (landing page) Saskia Freytag
| nebbiolo2 | Linux (Ubuntu 20.04.4 LTS) / x86_64 | OK | OK | WARNINGS | |||||||||
| tokay2 | Windows Server 2012 R2 Standard / x64 | OK | OK | WARNINGS | OK | |||||||||
| machv2 | macOS 10.14.6 Mojave / x86_64 | OK | OK | WARNINGS | OK | |||||||||
| Package: RUVcorr |
| Version: 1.26.0 |
| Command: rm -rf RUVcorr.buildbin-libdir && mkdir RUVcorr.buildbin-libdir && C:\Users\biocbuild\bbs-3.14-bioc\R\bin\R.exe CMD INSTALL --merge-multiarch --build --library=RUVcorr.buildbin-libdir RUVcorr_1.26.0.tar.gz |
| StartedAt: 2022-04-13 07:03:01 -0400 (Wed, 13 Apr 2022) |
| EndedAt: 2022-04-13 07:03:11 -0400 (Wed, 13 Apr 2022) |
| EllapsedTime: 10.3 seconds |
| RetCode: 0 |
| Status: OK |
| PackageFile: RUVcorr_1.26.0.zip |
| PackageFileSize: 325.2 KiB |
##############################################################################
##############################################################################
###
### Running command:
###
### rm -rf RUVcorr.buildbin-libdir && mkdir RUVcorr.buildbin-libdir && C:\Users\biocbuild\bbs-3.14-bioc\R\bin\R.exe CMD INSTALL --merge-multiarch --build --library=RUVcorr.buildbin-libdir RUVcorr_1.26.0.tar.gz
###
##############################################################################
##############################################################################
install for i386
* installing *source* package 'RUVcorr' ...
** using staged installation
** R
** inst
** byte-compile and prepare package for lazy loading
** help
*** installing help indices
converting help for package 'RUVcorr'
finding HTML links ... done
ECDFPlot html
PCAPlot html
RLEPlot html
RUVNaiveRidge html
RUVcorr html
assessQuality html
background html
calculateThreshold html
compareRanks html
correlationPlot html
eigenvaluePlot html
empNegativeControls html
findIQR html
findMinmaxSamples html
findWeights html
funcPara html
funcThresh html
genePlot html
histogramPlot html
is.Threshold html
is.Weights html
is.optimizeParameters html
is.simulateGEdata html
makePosSemiDef html
makeRankedList html
mashUp html
optimizeParameters html
plot.optimizeParameters html
plotDesign html
plotThreshold html
print.simulateGEdata html
prioritise html
simulateGEdata html
splitByFactor html
wcor html
** building package indices
** installing vignettes
** testing if installed package can be loaded from temporary location
** testing if installed package can be loaded from final location
** testing if installed package keeps a record of temporary installation path
install for x64
* installing *source* package 'RUVcorr' ...
** testing if installed package can be loaded
* MD5 sums
packaged installation of 'RUVcorr' as RUVcorr_1.26.0.zip
* DONE (RUVcorr)