| Back to Multiple platform build/check report for BioC 3.14 |
|
This page was generated on 2022-04-13 12:05:53 -0400 (Wed, 13 Apr 2022).
| Hostname | OS | Arch (*) | R version | Installed pkgs |
|---|---|---|---|---|
| nebbiolo2 | Linux (Ubuntu 20.04.4 LTS) | x86_64 | 4.1.3 (2022-03-10) -- "One Push-Up" | 4324 |
| tokay2 | Windows Server 2012 R2 Standard | x64 | 4.1.3 (2022-03-10) -- "One Push-Up" | 4077 |
| machv2 | macOS 10.14.6 Mojave | x86_64 | 4.1.3 (2022-03-10) -- "One Push-Up" | 4137 |
| Click on any hostname to see more info about the system (e.g. compilers) (*) as reported by 'uname -p', except on Windows and Mac OS X | ||||
|
To the developers/maintainers of the RTCGA package: - Please allow up to 24 hours (and sometimes 48 hours) for your latest push to git@git.bioconductor.org:packages/RTCGA.git to reflect on this report. See How and When does the builder pull? When will my changes propagate? for more information. - Make sure to use the following settings in order to reproduce any error or warning you see on this page. |
| Package 1668/2083 | Hostname | OS / Arch | INSTALL | BUILD | CHECK | BUILD BIN | ||||||||
| RTCGA 1.24.0 (landing page) Marcin Kosinski
| nebbiolo2 | Linux (Ubuntu 20.04.4 LTS) / x86_64 | OK | OK | OK | |||||||||
| tokay2 | Windows Server 2012 R2 Standard / x64 | OK | OK | OK | OK | |||||||||
| machv2 | macOS 10.14.6 Mojave / x86_64 | OK | OK | OK | OK | |||||||||
| Package: RTCGA |
| Version: 1.24.0 |
| Command: /home/biocbuild/bbs-3.14-bioc/R/bin/R CMD check --install=check:RTCGA.install-out.txt --library=/home/biocbuild/bbs-3.14-bioc/R/library --no-vignettes --timings RTCGA_1.24.0.tar.gz |
| StartedAt: 2022-04-12 09:09:49 -0400 (Tue, 12 Apr 2022) |
| EndedAt: 2022-04-12 09:11:54 -0400 (Tue, 12 Apr 2022) |
| EllapsedTime: 125.9 seconds |
| RetCode: 0 |
| Status: OK |
| CheckDir: RTCGA.Rcheck |
| Warnings: 0 |
##############################################################################
##############################################################################
###
### Running command:
###
### /home/biocbuild/bbs-3.14-bioc/R/bin/R CMD check --install=check:RTCGA.install-out.txt --library=/home/biocbuild/bbs-3.14-bioc/R/library --no-vignettes --timings RTCGA_1.24.0.tar.gz
###
##############################################################################
##############################################################################
* using log directory ‘/home/biocbuild/bbs-3.14-bioc/meat/RTCGA.Rcheck’
* using R version 4.1.3 (2022-03-10)
* using platform: x86_64-pc-linux-gnu (64-bit)
* using session charset: UTF-8
* using option ‘--no-vignettes’
* checking for file ‘RTCGA/DESCRIPTION’ ... OK
* this is package ‘RTCGA’ version ‘1.24.0’
* checking package namespace information ... OK
* checking package dependencies ... OK
* checking if this is a source package ... OK
* checking if there is a namespace ... OK
* checking for hidden files and directories ... OK
* checking for portable file names ... OK
* checking for sufficient/correct file permissions ... OK
* checking whether package ‘RTCGA’ can be installed ... OK
* checking installed package size ... OK
* checking package directory ... OK
* checking ‘build’ directory ... OK
* checking DESCRIPTION meta-information ... OK
* checking top-level files ... OK
* checking for left-over files ... OK
* checking index information ... OK
* checking package subdirectories ... OK
* checking R files for non-ASCII characters ... OK
* checking R files for syntax errors ... OK
* checking whether the package can be loaded ... OK
* checking whether the package can be loaded with stated dependencies ... OK
* checking whether the package can be unloaded cleanly ... OK
* checking whether the namespace can be loaded with stated dependencies ... OK
* checking whether the namespace can be unloaded cleanly ... OK
* checking dependencies in R code ... OK
* checking S3 generic/method consistency ... OK
* checking replacement functions ... OK
* checking foreign function calls ... OK
* checking R code for possible problems ... NOTE
availableDates: no visible binding for global variable ‘.’
downloadTCGA: no visible binding for global variable ‘.’
ggbiplot: no visible binding for global variable ‘xvar’
ggbiplot: no visible binding for global variable ‘yvar’
ggbiplot: no visible global function definition for ‘muted’
ggbiplot: no visible binding for global variable ‘varname’
ggbiplot: no visible binding for global variable ‘angle’
ggbiplot: no visible binding for global variable ‘hjust’
read.mutations: no visible binding for global variable ‘.’
read.rnaseq: no visible binding for global variable ‘.’
survivalTCGA: no visible binding for global variable ‘times’
whichDateToUse: no visible binding for global variable ‘.’
Undefined global functions or variables:
. angle hjust muted times varname xvar yvar
* checking Rd files ... OK
* checking Rd metadata ... OK
* checking Rd cross-references ... OK
* checking for missing documentation entries ... OK
* checking for code/documentation mismatches ... OK
* checking Rd \usage sections ... OK
* checking Rd contents ... OK
* checking for unstated dependencies in examples ... OK
* checking files in ‘vignettes’ ... OK
* checking examples ... OK
Examples with CPU (user + system) or elapsed time > 5s
user system elapsed
boxplotTCGA 13.403 1.535 15.103
expressionsTCGA 10.738 1.298 12.808
heatmapTCGA 6.184 0.583 6.767
kmTCGA 4.863 0.399 5.272
* checking for unstated dependencies in ‘tests’ ... OK
* checking tests ...
Running ‘testthat.R’
OK
* checking for unstated dependencies in vignettes ... OK
* checking package vignettes in ‘inst/doc’ ... OK
* checking running R code from vignettes ... SKIPPED
* checking re-building of vignette outputs ... SKIPPED
* checking PDF version of manual ... OK
* DONE
Status: 1 NOTE
See
‘/home/biocbuild/bbs-3.14-bioc/meat/RTCGA.Rcheck/00check.log’
for details.
RTCGA.Rcheck/00install.out
############################################################################## ############################################################################## ### ### Running command: ### ### /home/biocbuild/bbs-3.14-bioc/R/bin/R CMD INSTALL RTCGA ### ############################################################################## ############################################################################## * installing to library ‘/home/biocbuild/bbs-3.14-bioc/R/library’ * installing *source* package ‘RTCGA’ ... ** using staged installation ** R ** byte-compile and prepare package for lazy loading ** help *** installing help indices ** building package indices ** installing vignettes ** testing if installed package can be loaded from temporary location ** testing if installed package can be loaded from final location ** testing if installed package keeps a record of temporary installation path * DONE (RTCGA)
RTCGA.Rcheck/tests/testthat.Rout
R version 4.1.3 (2022-03-10) -- "One Push-Up"
Copyright (C) 2022 The R Foundation for Statistical Computing
Platform: x86_64-pc-linux-gnu (64-bit)
R is free software and comes with ABSOLUTELY NO WARRANTY.
You are welcome to redistribute it under certain conditions.
Type 'license()' or 'licence()' for distribution details.
R is a collaborative project with many contributors.
Type 'contributors()' for more information and
'citation()' on how to cite R or R packages in publications.
Type 'demo()' for some demos, 'help()' for on-line help, or
'help.start()' for an HTML browser interface to help.
Type 'q()' to quit R.
> library(testthat)
> library(RTCGA)
Welcome to the RTCGA (version: 1.24.0).
> library(RTCGA.rnaseq)
> library(Biobase)
Loading required package: BiocGenerics
Attaching package: 'BiocGenerics'
The following objects are masked from 'package:stats':
IQR, mad, sd, var, xtabs
The following objects are masked from 'package:base':
Filter, Find, Map, Position, Reduce, anyDuplicated, append,
as.data.frame, basename, cbind, colnames, dirname, do.call,
duplicated, eval, evalq, get, grep, grepl, intersect, is.unsorted,
lapply, mapply, match, mget, order, paste, pmax, pmax.int, pmin,
pmin.int, rank, rbind, rownames, sapply, setdiff, sort, table,
tapply, union, unique, unsplit, which.max, which.min
Welcome to Bioconductor
Vignettes contain introductory material; view with
'browseVignettes()'. To cite Bioconductor, see
'citation("Biobase")', and for packages 'citation("pkgname")'.
> library(GenomicRanges)
Loading required package: stats4
Loading required package: S4Vectors
Attaching package: 'S4Vectors'
The following objects are masked from 'package:base':
I, expand.grid, unname
Loading required package: IRanges
Loading required package: GenomeInfoDb
> #library(RTCGA.CNV)
> #library(RTCGA.PANCAN12)
>
> test_check("RTCGA")
trying URL 'http://gdac.broadinstitute.org/runs/stddata__2015_06_01/data/ACC/20150601/gdac.broadinstitute.org_ACC.Merge_Clinical.Level_1.2015060100.0.0.tar.gz'
Content type 'application/x-gzip' length 151456 bytes (147 KB)
==================================================
downloaded 147 KB
trying URL 'http://gdac.broadinstitute.org/runs/stddata__2015_06_01/data/ACC/20150601/gdac.broadinstitute.org_ACC.Merge_Clinical.Level_1.2015060100.0.0.tar.gz'
Content type 'application/x-gzip' length 151456 bytes (147 KB)
==================================================
downloaded 147 KB
[ FAIL 0 | WARN 0 | SKIP 0 | PASS 11 ]
>
> proc.time()
user system elapsed
10.589 1.236 13.527
RTCGA.Rcheck/RTCGA-Ex.timings
| name | user | system | elapsed | |
| RTCGA-package | 0 | 0 | 0 | |
| boxplotTCGA | 13.403 | 1.535 | 15.103 | |
| checkTCGA | 0.212 | 0.004 | 0.894 | |
| convertTCGA | 0.911 | 0.184 | 1.096 | |
| datasetsTCGA | 0 | 0 | 0 | |
| downloadTCGA | 0.034 | 0.017 | 0.399 | |
| expressionsTCGA | 10.738 | 1.298 | 12.808 | |
| heatmapTCGA | 6.184 | 0.583 | 6.767 | |
| infoTCGA | 0.695 | 0.017 | 0.747 | |
| installTCGA | 0 | 0 | 0 | |
| kmTCGA | 4.863 | 0.399 | 5.272 | |
| mutationsTCGA | 2.334 | 0.152 | 2.484 | |
| pcaTCGA | 0 | 0 | 0 | |
| readTCGA | 0.001 | 0.000 | 0.001 | |
| survivalTCGA | 3.910 | 0.176 | 4.086 | |
| theme_RTCGA | 1.439 | 0.103 | 1.543 | |