| Back to Multiple platform build/check report for BioC 3.14 |
|
This page was generated on 2022-04-13 12:07:15 -0400 (Wed, 13 Apr 2022).
| Hostname | OS | Arch (*) | R version | Installed pkgs |
|---|---|---|---|---|
| nebbiolo2 | Linux (Ubuntu 20.04.4 LTS) | x86_64 | 4.1.3 (2022-03-10) -- "One Push-Up" | 4324 |
| tokay2 | Windows Server 2012 R2 Standard | x64 | 4.1.3 (2022-03-10) -- "One Push-Up" | 4077 |
| machv2 | macOS 10.14.6 Mojave | x86_64 | 4.1.3 (2022-03-10) -- "One Push-Up" | 4137 |
| Click on any hostname to see more info about the system (e.g. compilers) (*) as reported by 'uname -p', except on Windows and Mac OS X | ||||
|
To the developers/maintainers of the RPA package: - Please allow up to 24 hours (and sometimes 48 hours) for your latest push to git@git.bioconductor.org:packages/RPA.git to reflect on this report. See How and When does the builder pull? When will my changes propagate? for more information. - Make sure to use the following settings in order to reproduce any error or warning you see on this page. |
| Package 1649/2083 | Hostname | OS / Arch | INSTALL | BUILD | CHECK | BUILD BIN | ||||||||
| RPA 1.50.0 (landing page) Leo Lahti
| nebbiolo2 | Linux (Ubuntu 20.04.4 LTS) / x86_64 | OK | OK | OK | |||||||||
| tokay2 | Windows Server 2012 R2 Standard / x64 | OK | OK | OK | OK | |||||||||
| machv2 | macOS 10.14.6 Mojave / x86_64 | OK | OK | OK | OK | |||||||||
| Package: RPA |
| Version: 1.50.0 |
| Command: rm -rf RPA.buildbin-libdir && mkdir RPA.buildbin-libdir && C:\Users\biocbuild\bbs-3.14-bioc\R\bin\R.exe CMD INSTALL --merge-multiarch --build --library=RPA.buildbin-libdir RPA_1.50.0.tar.gz |
| StartedAt: 2022-04-13 07:01:33 -0400 (Wed, 13 Apr 2022) |
| EndedAt: 2022-04-13 07:02:17 -0400 (Wed, 13 Apr 2022) |
| EllapsedTime: 43.7 seconds |
| RetCode: 0 |
| Status: OK |
| PackageFile: RPA_1.50.0.zip |
| PackageFileSize: 445.9 KiB |
##############################################################################
##############################################################################
###
### Running command:
###
### rm -rf RPA.buildbin-libdir && mkdir RPA.buildbin-libdir && C:\Users\biocbuild\bbs-3.14-bioc\R\bin\R.exe CMD INSTALL --merge-multiarch --build --library=RPA.buildbin-libdir RPA_1.50.0.tar.gz
###
##############################################################################
##############################################################################
install for i386
* installing *source* package 'RPA' ...
** using staged installation
** R
** inst
** byte-compile and prepare package for lazy loading
** help
*** installing help indices
converting help for package 'RPA'
finding HTML links ... done
RPA-package html
RPA.iteration html
RPA.preprocess html
calculate.rpa html
collect.hyperparameters html
d.update.fast html
estimate.affinities html
estimate.hyperparameters html
frpa html
get.batches html
get.probe.matrix html
get.probe.parameters html
get.probeset html
hyperparameter.update html
levelmap html
n.phylotypes.per.oligo html
online.quantile html
probe.parameters.tolist html
probe.performance html
probeplot html
probetable html
retrieve.probesets html
rpa html
REDIRECT:topic Previous alias or file overwritten by alias: C:/Users/biocbuild/bbs-3.14-bioc/meat/RPA.buildbin-libdir/00LOCK-RPA/00new/RPA/help/rpa.html
rpa.complete html
rpa.fit html
rpa.online html
rpa.plot html
rpa.summarize html
rpaplot html
sample.probeset html
summarize.batch html
summarize.batches html
summarize.rpa html
summarize.sum html
summarize_probedata html
updating.hyperparameters html
** building package indices
** installing vignettes
** testing if installed package can be loaded from temporary location
** testing if installed package can be loaded from final location
** testing if installed package keeps a record of temporary installation path
install for x64
* installing *source* package 'RPA' ...
** testing if installed package can be loaded
* MD5 sums
packaged installation of 'RPA' as RPA_1.50.0.zip
* DONE (RPA)