| Back to Multiple platform build/check report for BioC 3.14 |
|
This page was generated on 2022-04-13 12:07:14 -0400 (Wed, 13 Apr 2022).
| Hostname | OS | Arch (*) | R version | Installed pkgs |
|---|---|---|---|---|
| nebbiolo2 | Linux (Ubuntu 20.04.4 LTS) | x86_64 | 4.1.3 (2022-03-10) -- "One Push-Up" | 4324 |
| tokay2 | Windows Server 2012 R2 Standard | x64 | 4.1.3 (2022-03-10) -- "One Push-Up" | 4077 |
| machv2 | macOS 10.14.6 Mojave | x86_64 | 4.1.3 (2022-03-10) -- "One Push-Up" | 4137 |
| Click on any hostname to see more info about the system (e.g. compilers) (*) as reported by 'uname -p', except on Windows and Mac OS X | ||||
|
To the developers/maintainers of the RMassBank package: - Please allow up to 24 hours (and sometimes 48 hours) for your latest push to git@git.bioconductor.org:packages/RMassBank.git to reflect on this report. See How and When does the builder pull? When will my changes propagate? for more information. - Make sure to use the following settings in order to reproduce any error or warning you see on this page. |
| Package 1621/2083 | Hostname | OS / Arch | INSTALL | BUILD | CHECK | BUILD BIN | ||||||||
| RMassBank 3.4.0 (landing page) RMassBank at Eawag
| nebbiolo2 | Linux (Ubuntu 20.04.4 LTS) / x86_64 | OK | OK | WARNINGS | |||||||||
| tokay2 | Windows Server 2012 R2 Standard / x64 | OK | OK | WARNINGS | OK | |||||||||
| machv2 | macOS 10.14.6 Mojave / x86_64 | OK | OK | WARNINGS | OK | |||||||||
| Package: RMassBank |
| Version: 3.4.0 |
| Command: rm -rf RMassBank.buildbin-libdir && mkdir RMassBank.buildbin-libdir && C:\Users\biocbuild\bbs-3.14-bioc\R\bin\R.exe --arch x64 CMD INSTALL --no-multiarch --build --library=RMassBank.buildbin-libdir RMassBank_3.4.0.tar.gz |
| StartedAt: 2022-04-13 06:59:58 -0400 (Wed, 13 Apr 2022) |
| EndedAt: 2022-04-13 07:00:41 -0400 (Wed, 13 Apr 2022) |
| EllapsedTime: 42.6 seconds |
| RetCode: 0 |
| Status: OK |
| PackageFile: RMassBank_3.4.0.zip |
| PackageFileSize: 2.297 MiB |
##############################################################################
##############################################################################
###
### Running command:
###
### rm -rf RMassBank.buildbin-libdir && mkdir RMassBank.buildbin-libdir && C:\Users\biocbuild\bbs-3.14-bioc\R\bin\R.exe --arch x64 CMD INSTALL --no-multiarch --build --library=RMassBank.buildbin-libdir RMassBank_3.4.0.tar.gz
###
##############################################################################
##############################################################################
* installing *source* package 'RMassBank' ...
** using staged installation
** R
** inst
** byte-compile and prepare package for lazy loading
** help
*** installing help indices
converting help for package 'RMassBank'
finding HTML links ... done
CTS.externalIdSubset html
CTS.externalIdTypes html
RmbDefaultSettings html
RmbSettings html
add.formula html
addMB html
addPeaks html
addPeaksManually html
addProperty html
aggregateSpectra html
analyzeMsMs html
annotator.default html
archiveResults html
checkIsotopes html
checkSpectra html
cleanElnoise html
combineMultiplicities html
createMolfile html
dbe html
deprofile html
dot-buildRecord.RmbSpectraSet html
dot-parseTitleString html
finding level-2 HTML links ... done
Rd warning: C:/Users/biocbuild/bbs-3.14-bioc/tmpdir/RtmpygmhqQ/R.INSTALLbcc4526b2802/RMassBank/man/dot-parseTitleString.Rd:38: missing link 'compileRecord'
dot-updateObject.RmbSpectrum2.formulaSource
html
exportMassbank html
Rd warning: C:/Users/biocbuild/bbs-3.14-bioc/tmpdir/RtmpygmhqQ/R.INSTALLbcc4526b2802/RMassBank/man/exportMassbank.Rd:11: missing link 'compileRecord'
Rd warning: C:/Users/biocbuild/bbs-3.14-bioc/tmpdir/RtmpygmhqQ/R.INSTALLbcc4526b2802/RMassBank/man/exportMassbank.Rd:52: missing link 'compileRecord'
fillback html
filterLowaccResults html
filterMultiplicity html
filterPeakSatellites html
filterPeaksMultiplicity html
findEIC html
findMass html
findMsMsHR html
findMsMsHR.direct html
findMsMsHR.ticms2 html
REDIRECT:topic Previous alias or file overwritten by alias: C:/Users/biocbuild/bbs-3.14-bioc/meat/RMassBank.buildbin-libdir/00LOCK-RMassBank/00new/RMassBank/help/findMsMsHR.ticMS2.html
findMsMsHRperxcms html
findMz html
findMz.formula html
findProgress html
flatten html
formulastring.to.list html
gatherData html
gatherDataBabel html
gatherDataUnknown html
gatherPubChem html
getAnalyticalInfo html
Rd warning: C:/Users/biocbuild/bbs-3.14-bioc/tmpdir/RtmpygmhqQ/R.INSTALLbcc4526b2802/RMassBank/man/getAnalyticalInfo.Rd:71: missing link 'compileRecord'
getCSID html
getCactus html
getCompTox html
getCtsKey html
getCtsRecord html
getData html
getMolecule html
getPcId html
is.valid.formula html
loadInfolists html
loadList html
makeMollist html
makePeaksCache html
makeRecalibration html
mbWorkflow html
mbWorkspace-class html
mergePeaks.df html
msmsRead.RAW html
msmsRead html
msmsWorkflow html
msmsWorkspace-class html
newMbWorkspace html
newMsmsWorkspace html
order.formula html
parseMassBank html
parseMbRecord html
REDIRECT:topic Previous alias or file overwritten by alias: C:/Users/biocbuild/bbs-3.14-bioc/meat/RMassBank.buildbin-libdir/00LOCK-RMassBank/00new/RMassBank/help/parseMassBank.html
peaksMatched html
peaksUnmatched html
plotMbWorkspaces html
plotRecalibration html
ppm html
problematicPeaks html
processProblematicPeaks html
progressBarHook html
reanalyzeFailpeaks html
recalibrate html
recalibrate.addMS1data html
rmb_log_debug html
rmb_log_error html
rmb_log_fatal html
rmb_log_info html
rmb_log_success html
rmb_log_trace html
rmb_log_warn html
selectPeaks html
selectSpectra html
setData html
smiles2mass html
spectraCount html
to.limits.rcdk html
toMassbank html
Rd warning: C:/Users/biocbuild/bbs-3.14-bioc/tmpdir/RtmpygmhqQ/R.INSTALLbcc4526b2802/RMassBank/man/toMassbank.Rd:79: missing link 'compileRecord'
toRMB html
updateSettings html
validate html
** building package indices
** installing vignettes
** testing if installed package can be loaded from temporary location
** testing if installed package can be loaded from final location
** testing if installed package keeps a record of temporary installation path
* MD5 sums
packaged installation of 'RMassBank' as RMassBank_3.4.0.zip
* DONE (RMassBank)