| Back to Multiple platform build/check report for BioC 3.14 |
|
This page was generated on 2022-04-13 12:07:11 -0400 (Wed, 13 Apr 2022).
| Hostname | OS | Arch (*) | R version | Installed pkgs |
|---|---|---|---|---|
| nebbiolo2 | Linux (Ubuntu 20.04.4 LTS) | x86_64 | 4.1.3 (2022-03-10) -- "One Push-Up" | 4324 |
| tokay2 | Windows Server 2012 R2 Standard | x64 | 4.1.3 (2022-03-10) -- "One Push-Up" | 4077 |
| machv2 | macOS 10.14.6 Mojave | x86_64 | 4.1.3 (2022-03-10) -- "One Push-Up" | 4137 |
| Click on any hostname to see more info about the system (e.g. compilers) (*) as reported by 'uname -p', except on Windows and Mac OS X | ||||
|
To the developers/maintainers of the RCyjs package: - Please allow up to 24 hours (and sometimes 48 hours) for your latest push to git@git.bioconductor.org:packages/RCyjs.git to reflect on this report. See How and When does the builder pull? When will my changes propagate? for more information. - Make sure to use the following settings in order to reproduce any error or warning you see on this page. |
| Package 1552/2083 | Hostname | OS / Arch | INSTALL | BUILD | CHECK | BUILD BIN | ||||||||
| RCyjs 2.16.0 (landing page) Paul Shannon
| nebbiolo2 | Linux (Ubuntu 20.04.4 LTS) / x86_64 | OK | OK | WARNINGS | |||||||||
| tokay2 | Windows Server 2012 R2 Standard / x64 | OK | OK | WARNINGS | OK | |||||||||
| machv2 | macOS 10.14.6 Mojave / x86_64 | OK | OK | WARNINGS | OK | |||||||||
| Package: RCyjs |
| Version: 2.16.0 |
| Command: rm -rf RCyjs.buildbin-libdir && mkdir RCyjs.buildbin-libdir && C:\Users\biocbuild\bbs-3.14-bioc\R\bin\R.exe CMD INSTALL --merge-multiarch --build --library=RCyjs.buildbin-libdir RCyjs_2.16.0.tar.gz |
| StartedAt: 2022-04-13 06:55:49 -0400 (Wed, 13 Apr 2022) |
| EndedAt: 2022-04-13 06:56:13 -0400 (Wed, 13 Apr 2022) |
| EllapsedTime: 23.3 seconds |
| RetCode: 0 |
| Status: OK |
| PackageFile: RCyjs_2.16.0.zip |
| PackageFileSize: 1.139 MiB |
##############################################################################
##############################################################################
###
### Running command:
###
### rm -rf RCyjs.buildbin-libdir && mkdir RCyjs.buildbin-libdir && C:\Users\biocbuild\bbs-3.14-bioc\R\bin\R.exe CMD INSTALL --merge-multiarch --build --library=RCyjs.buildbin-libdir RCyjs_2.16.0.tar.gz
###
##############################################################################
##############################################################################
install for i386
* installing *source* package 'RCyjs' ...
** using staged installation
** R
** inst
** byte-compile and prepare package for lazy loading
Creating a new generic function for 'layout' in package 'RCyjs'
** help
*** installing help indices
converting help for package 'RCyjs'
finding HTML links ... done
RCyjs-class html
addGraph html
addGraphFromFile html
clearSelection html
createTestGaph html
dataFramesToJSON html
deleteGraph html
deleteSelectedNodes html
eda html
edaNames html
fit html
fitSelection html
getEdgeCount html
getJSON html
getLayoutStrategies html
getNodeCount html
getNodes html
getPosition html
getSelectedNodes html
getSupportedEdgeDecoratorShapes html
getSupportedNodeShapes html
getZoom html
graphNELtoJSON.string html
hAlign html
hideAllEdges html
hideEdges html
hideNodes html
hideSelectedNodes html
invertNodeSelection html
layout html
layoutSelectionInGrid html
layoutSelectionInGridInferAnchorm html
loadStyleFile html
noa html
noaNames html
readAndStandardizeJSONNetworkFile html
readAndStandardizeJSONStyleFile html
redraw html
restoreLayout html
saveJPG html
saveLayout html
savePNG html
selectFirstNeighborsOfSelectedNodes html
selectNodes html
setBackgroundColor html
setDefaultEdgeColor html
setDefaultEdgeLineColor html
setDefaultEdgeLineStyle html
setDefaultEdgeSourceArrowColor html
setDefaultEdgeSourceArrowShape html
setDefaultEdgeTargetArrowColor html
setDefaultEdgeTargetArrowShape html
setDefaultEdgeWidth html
setDefaultNodeBorderColor html
setDefaultNodeBorderWidth html
setDefaultNodeColor html
setDefaultNodeFontColor html
setDefaultNodeFontSize html
setDefaultNodeHeight html
setDefaultNodeShape html
setDefaultNodeSize html
setDefaultNodeWidth html
setDefaultStyle html
setEdgeAttributes html
setEdgeStyle html
setGraph html
setNodeAttributes html
setNodeBorderColor html
setNodeBorderWidth html
setNodeColor html
setNodeColorRule html
setNodeFontColor html
setNodeFontSize html
setNodeHeight html
setNodeLabelAlignment html
setNodeLabelRule html
setNodeShape html
setNodeSize html
setNodeSizeRule html
setNodeWidth html
setPosition html
setZoom html
sfn html
showAll html
showEdges html
showNodes html
simpleDemoGraph html
vAlign html
** building package indices
** installing vignettes
** testing if installed package can be loaded from temporary location
** testing if installed package can be loaded from final location
** testing if installed package keeps a record of temporary installation path
install for x64
* installing *source* package 'RCyjs' ...
** testing if installed package can be loaded
* MD5 sums
packaged installation of 'RCyjs' as RCyjs_2.16.0.zip
* DONE (RCyjs)