| Back to Multiple platform build/check report for BioC 3.14 |
|
This page was generated on 2022-04-13 12:07:11 -0400 (Wed, 13 Apr 2022).
| Hostname | OS | Arch (*) | R version | Installed pkgs |
|---|---|---|---|---|
| nebbiolo2 | Linux (Ubuntu 20.04.4 LTS) | x86_64 | 4.1.3 (2022-03-10) -- "One Push-Up" | 4324 |
| tokay2 | Windows Server 2012 R2 Standard | x64 | 4.1.3 (2022-03-10) -- "One Push-Up" | 4077 |
| machv2 | macOS 10.14.6 Mojave | x86_64 | 4.1.3 (2022-03-10) -- "One Push-Up" | 4137 |
| Click on any hostname to see more info about the system (e.g. compilers) (*) as reported by 'uname -p', except on Windows and Mac OS X | ||||
|
To the developers/maintainers of the RCM package: - Please allow up to 24 hours (and sometimes 48 hours) for your latest push to git@git.bioconductor.org:packages/RCM.git to reflect on this report. See How and When does the builder pull? When will my changes propagate? for more information. - Make sure to use the following settings in order to reproduce any error or warning you see on this page. |
| Package 1546/2083 | Hostname | OS / Arch | INSTALL | BUILD | CHECK | BUILD BIN | ||||||||
| RCM 1.10.0 (landing page) Joris Meys
| nebbiolo2 | Linux (Ubuntu 20.04.4 LTS) / x86_64 | OK | OK | OK | |||||||||
| tokay2 | Windows Server 2012 R2 Standard / x64 | OK | OK | OK | OK | |||||||||
| machv2 | macOS 10.14.6 Mojave / x86_64 | OK | OK | OK | OK | |||||||||
| Package: RCM |
| Version: 1.10.0 |
| Command: C:\cygwin\bin\curl.exe -O http://155.52.207.166/BBS/3.14/bioc/src/contrib/RCM_1.10.0.tar.gz && rm -rf RCM.buildbin-libdir && mkdir RCM.buildbin-libdir && C:\Users\biocbuild\bbs-3.14-bioc\R\bin\R.exe CMD INSTALL --merge-multiarch --build --library=RCM.buildbin-libdir RCM_1.10.0.tar.gz && C:\Users\biocbuild\bbs-3.14-bioc\R\bin\R.exe CMD INSTALL RCM_1.10.0.zip && rm RCM_1.10.0.tar.gz RCM_1.10.0.zip |
| StartedAt: 2022-04-12 05:52:22 -0400 (Tue, 12 Apr 2022) |
| EndedAt: 2022-04-12 05:54:38 -0400 (Tue, 12 Apr 2022) |
| EllapsedTime: 136.0 seconds |
| RetCode: 0 |
| Status: OK |
##############################################################################
##############################################################################
###
### Running command:
###
### C:\cygwin\bin\curl.exe -O http://155.52.207.166/BBS/3.14/bioc/src/contrib/RCM_1.10.0.tar.gz && rm -rf RCM.buildbin-libdir && mkdir RCM.buildbin-libdir && C:\Users\biocbuild\bbs-3.14-bioc\R\bin\R.exe CMD INSTALL --merge-multiarch --build --library=RCM.buildbin-libdir RCM_1.10.0.tar.gz && C:\Users\biocbuild\bbs-3.14-bioc\R\bin\R.exe CMD INSTALL RCM_1.10.0.zip && rm RCM_1.10.0.tar.gz RCM_1.10.0.zip
###
##############################################################################
##############################################################################
% Total % Received % Xferd Average Speed Time Time Time Current
Dload Upload Total Spent Left Speed
0 0 0 0 0 0 0 0 --:--:-- --:--:-- --:--:-- 0
2 2729k 2 83487 0 0 349k 0 0:00:07 --:--:-- 0:00:07 349k
40 2729k 40 1100k 0 0 890k 0 0:00:03 0:00:01 0:00:02 891k
92 2729k 92 2528k 0 0 1131k 0 0:00:02 0:00:02 --:--:-- 1131k
100 2729k 100 2729k 0 0 1145k 0 0:00:02 0:00:02 --:--:-- 1145k
install for i386
* installing *source* package 'RCM' ...
** using staged installation
** R
** data
*** moving datasets to lazyload DB
** inst
** byte-compile and prepare package for lazy loading
** help
*** installing help indices
converting help for package 'RCM'
finding HTML links ... done
JacCol_constr html
JacCol_constr_noLab html
LR_nb html
LR_nb_Jac html
NBalphaInfl html
NBcolInfl html
NBjacobianAbunds html
NBjacobianCol html
NBjacobianColNP html
NBjacobianLibSizes html
NBjacobianPsi html
NBjacobianRow html
NBpsiInfl html
NBrowInfl html
RCM html
RCM_NB html
Zeller html
addOrthProjection html
arrayprod html
buildCentMat html
buildConfMat html
buildConfMat.character html
buildConfMat.data.frame html
buildCovMat html
buildDesign html
checkAlias html
constrCorresp html
correctXMissingness html
dLR_nb html
dNBabunds html
dNBlibSizes html
dNBllcol html
dNBllcolNP html
dNBllcol_constr html
dNBllcol_constr_noLab html
dNBllrow html
dNBpsis html
deviances html
ellipseCoord html
estDisp html
estNBparams html
estNBparamsNoLab html
estNPresp html
extractCoord html
extractE html
filterConfounders html
getDevMat html
getDevianceRes html
getInflCol html
getInflRow html
getInt html
getLogLik html
getModelMat html
getRowMat html
heq_nb html
heq_nb_jac html
indentPlot html
inertia html
liks html
plot.RCM html
plotRespFun html
residualPlot html
respFunJacMat html
respFunScoreMat html
rowMultiply html
seq_k html
trimOnConfounders html
** building package indices
** installing vignettes
** testing if installed package can be loaded from temporary location
** testing if installed package can be loaded from final location
** testing if installed package keeps a record of temporary installation path
install for x64
* installing *source* package 'RCM' ...
** testing if installed package can be loaded
* MD5 sums
packaged installation of 'RCM' as RCM_1.10.0.zip
* DONE (RCM)
* installing to library 'C:/Users/biocbuild/bbs-3.14-bioc/R/library'
package 'RCM' successfully unpacked and MD5 sums checked