| Back to Multiple platform build/check report for BioC 3.14 |
|
This page was generated on 2022-04-13 12:07:09 -0400 (Wed, 13 Apr 2022).
| Hostname | OS | Arch (*) | R version | Installed pkgs |
|---|---|---|---|---|
| nebbiolo2 | Linux (Ubuntu 20.04.4 LTS) | x86_64 | 4.1.3 (2022-03-10) -- "One Push-Up" | 4324 |
| tokay2 | Windows Server 2012 R2 Standard | x64 | 4.1.3 (2022-03-10) -- "One Push-Up" | 4077 |
| machv2 | macOS 10.14.6 Mojave | x86_64 | 4.1.3 (2022-03-10) -- "One Push-Up" | 4137 |
| Click on any hostname to see more info about the system (e.g. compilers) (*) as reported by 'uname -p', except on Windows and Mac OS X | ||||
|
To the developers/maintainers of the R3CPET package: - Please allow up to 24 hours (and sometimes 48 hours) for your latest push to git@git.bioconductor.org:packages/R3CPET.git to reflect on this report. See How and When does the builder pull? When will my changes propagate? for more information. - Make sure to use the following settings in order to reproduce any error or warning you see on this page. |
| Package 1515/2083 | Hostname | OS / Arch | INSTALL | BUILD | CHECK | BUILD BIN | ||||||||
| R3CPET 1.26.0 (landing page) Mohamed Nadhir Djekidel
| nebbiolo2 | Linux (Ubuntu 20.04.4 LTS) / x86_64 | OK | OK | OK | |||||||||
| tokay2 | Windows Server 2012 R2 Standard / x64 | OK | OK | OK | OK | |||||||||
| machv2 | macOS 10.14.6 Mojave / x86_64 | OK | OK | OK | OK | |||||||||
| Package: R3CPET |
| Version: 1.26.0 |
| Command: C:\cygwin\bin\curl.exe -O http://155.52.207.166/BBS/3.14/bioc/src/contrib/R3CPET_1.26.0.tar.gz && rm -rf R3CPET.buildbin-libdir && mkdir R3CPET.buildbin-libdir && C:\Users\biocbuild\bbs-3.14-bioc\R\bin\R.exe CMD INSTALL --merge-multiarch --build --library=R3CPET.buildbin-libdir R3CPET_1.26.0.tar.gz && C:\Users\biocbuild\bbs-3.14-bioc\R\bin\R.exe CMD INSTALL R3CPET_1.26.0.zip && rm R3CPET_1.26.0.tar.gz R3CPET_1.26.0.zip |
| StartedAt: 2022-04-12 07:15:02 -0400 (Tue, 12 Apr 2022) |
| EndedAt: 2022-04-12 07:18:35 -0400 (Tue, 12 Apr 2022) |
| EllapsedTime: 213.2 seconds |
| RetCode: 0 |
| Status: OK |
##############################################################################
##############################################################################
###
### Running command:
###
### C:\cygwin\bin\curl.exe -O http://155.52.207.166/BBS/3.14/bioc/src/contrib/R3CPET_1.26.0.tar.gz && rm -rf R3CPET.buildbin-libdir && mkdir R3CPET.buildbin-libdir && C:\Users\biocbuild\bbs-3.14-bioc\R\bin\R.exe CMD INSTALL --merge-multiarch --build --library=R3CPET.buildbin-libdir R3CPET_1.26.0.tar.gz && C:\Users\biocbuild\bbs-3.14-bioc\R\bin\R.exe CMD INSTALL R3CPET_1.26.0.zip && rm R3CPET_1.26.0.tar.gz R3CPET_1.26.0.zip
###
##############################################################################
##############################################################################
% Total % Received % Xferd Average Speed Time Time Time Current
Dload Upload Total Spent Left Speed
0 0 0 0 0 0 0 0 --:--:-- --:--:-- --:--:-- 0
0 5374k 0 7891 0 0 95957 0 0:00:57 --:--:-- 0:00:57 96231
20 5374k 20 1120k 0 0 1037k 0 0:00:05 0:00:01 0:00:04 1037k
59 5374k 59 3182k 0 0 1529k 0 0:00:03 0:00:02 0:00:01 1529k
100 5374k 100 5374k 0 0 1902k 0 0:00:02 0:00:02 --:--:-- 1903k
install for i386
* installing *source* package 'R3CPET' ...
** using staged installation
** libs
"C:/rtools40/mingw32/bin/"gcc -I"C:/Users/BIOCBU~1/BBS-3~1.14-/R/include" -DNDEBUG -I'C:/Users/biocbuild/bbs-3.14-bioc/R/library/Rcpp/include' -I"C:/extsoft/include" -O2 -Wall -std=gnu99 -mfpmath=sse -msse2 -mstackrealign -c R3CPET_init.c -o R3CPET_init.o
"C:/rtools40/mingw32/bin/"g++ -std=gnu++11 -I"C:/Users/BIOCBU~1/BBS-3~1.14-/R/include" -DNDEBUG -I'C:/Users/biocbuild/bbs-3.14-bioc/R/library/Rcpp/include' -I"C:/extsoft/include" -O2 -Wall -mfpmath=sse -msse2 -mstackrealign -c RcppExports.cpp -o RcppExports.o
"C:/rtools40/mingw32/bin/"g++ -std=gnu++11 -I"C:/Users/BIOCBU~1/BBS-3~1.14-/R/include" -DNDEBUG -I'C:/Users/biocbuild/bbs-3.14-bioc/R/library/Rcpp/include' -I"C:/extsoft/include" -O2 -Wall -mfpmath=sse -msse2 -mstackrealign -c corpus.cpp -o corpus.o
"C:/rtools40/mingw32/bin/"g++ -std=gnu++11 -I"C:/Users/BIOCBU~1/BBS-3~1.14-/R/include" -DNDEBUG -I'C:/Users/biocbuild/bbs-3.14-bioc/R/library/Rcpp/include' -I"C:/extsoft/include" -O2 -Wall -mfpmath=sse -msse2 -mstackrealign -c main.cpp -o main.o
"C:/rtools40/mingw32/bin/"g++ -std=gnu++11 -I"C:/Users/BIOCBU~1/BBS-3~1.14-/R/include" -DNDEBUG -I'C:/Users/biocbuild/bbs-3.14-bioc/R/library/Rcpp/include' -I"C:/extsoft/include" -O2 -Wall -mfpmath=sse -msse2 -mstackrealign -c state.cpp -o state.o
state.cpp: In member function 'int HDP::sample_word_assignment(DocState*, int, bool, vct*)':
state.cpp:253:10: warning: 'k' may be used uninitialized in this function [-Wmaybe-uninitialized]
return int(old_k != k);
^~~~~~~~~~~~~~~
"C:/rtools40/mingw32/bin/"g++ -std=gnu++11 -I"C:/Users/BIOCBU~1/BBS-3~1.14-/R/include" -DNDEBUG -I'C:/Users/biocbuild/bbs-3.14-bioc/R/library/Rcpp/include' -I"C:/extsoft/include" -O2 -Wall -mfpmath=sse -msse2 -mstackrealign -c stirln.cpp -o stirln.o
"C:/rtools40/mingw32/bin/"g++ -std=gnu++11 -I"C:/Users/BIOCBU~1/BBS-3~1.14-/R/include" -DNDEBUG -I'C:/Users/biocbuild/bbs-3.14-bioc/R/library/Rcpp/include' -I"C:/extsoft/include" -O2 -Wall -mfpmath=sse -msse2 -mstackrealign -c utils.cpp -o utils.o
C:/rtools40/mingw32/bin/g++ -std=gnu++11 -shared -s -static-libgcc -o R3CPET.dll tmp.def R3CPET_init.o RcppExports.o corpus.o main.o state.o stirln.o utils.o -LC:/extsoft/lib/i386 -LC:/extsoft/lib -LC:/Users/BIOCBU~1/BBS-3~1.14-/R/bin/i386 -lR
installing to C:/Users/biocbuild/bbs-3.14-bioc/meat/R3CPET.buildbin-libdir/00LOCK-R3CPET/00new/R3CPET/libs/i386
** R
** data
** inst
** byte-compile and prepare package for lazy loading
NOTE: arguments in definition for validity method for class 'ChromMaintainers' changed from (x) to (object)
NOTE: arguments in definition for validity method for class 'HLDAResult' changed from (x) to (object)
NOTE: arguments in definition for validity method for class 'NetworkCollection' changed from (x) to (object)
** help
*** installing help indices
converting help for package 'R3CPET'
finding HTML links ... done
Biogrid html
finding level-2 HTML links ... done
ChiapetExperimentData-class html
ChromMaintainers-class html
CreateCenteredBED-methods html
EnsemblToHGNC html
EntrezToHGNC html
GOEnrich-methods html
GenerateNetworks-methods html
HLDAResult-class html
HPRD html
InferNetworks-methods html
NetworkCollection-class html
PrepareData-methods html
R3CPET-package html
RPKMS html
annotateExpression-methods html
buildNetworks-methods html
chromosoms html
REDIRECT:topic Previous alias or file overwritten by alias: C:/Users/biocbuild/bbs-3.14-bioc/meat/R3CPET.buildbin-libdir/00LOCK-R3CPET/00new/R3CPET/help/Chromosoms.html
cluesOrSota-class html
clusterInteractions-methods html
createIndexes-methods html
createServer-methods html
geneLocations html
getRegionsInNetwork-methods html
getRegionsIncluster-methods html
loadPETs-methods html
loadPPI-methods html
loadTFBS-methods html
outputGenesPerClusterToDir-methods html
outputGenesPerNetworkToDir-methods html
plotRes-methods html
plotTrack html
updateResults-methods html
visualizeCircos-methods html
visualizeInteractions-methods html
** building package indices
** installing vignettes
** testing if installed package can be loaded from temporary location
** testing if installed package can be loaded from final location
** testing if installed package keeps a record of temporary installation path
install for x64
* installing *source* package 'R3CPET' ...
** libs
"C:/rtools40/mingw64/bin/"gcc -I"C:/Users/BIOCBU~1/BBS-3~1.14-/R/include" -DNDEBUG -I'C:/Users/biocbuild/bbs-3.14-bioc/R/library/Rcpp/include' -I"C:/extsoft/include" -O2 -Wall -std=gnu99 -mfpmath=sse -msse2 -mstackrealign -c R3CPET_init.c -o R3CPET_init.o
"C:/rtools40/mingw64/bin/"g++ -std=gnu++11 -I"C:/Users/BIOCBU~1/BBS-3~1.14-/R/include" -DNDEBUG -I'C:/Users/biocbuild/bbs-3.14-bioc/R/library/Rcpp/include' -I"C:/extsoft/include" -O2 -Wall -mfpmath=sse -msse2 -mstackrealign -c RcppExports.cpp -o RcppExports.o
"C:/rtools40/mingw64/bin/"g++ -std=gnu++11 -I"C:/Users/BIOCBU~1/BBS-3~1.14-/R/include" -DNDEBUG -I'C:/Users/biocbuild/bbs-3.14-bioc/R/library/Rcpp/include' -I"C:/extsoft/include" -O2 -Wall -mfpmath=sse -msse2 -mstackrealign -c corpus.cpp -o corpus.o
"C:/rtools40/mingw64/bin/"g++ -std=gnu++11 -I"C:/Users/BIOCBU~1/BBS-3~1.14-/R/include" -DNDEBUG -I'C:/Users/biocbuild/bbs-3.14-bioc/R/library/Rcpp/include' -I"C:/extsoft/include" -O2 -Wall -mfpmath=sse -msse2 -mstackrealign -c main.cpp -o main.o
"C:/rtools40/mingw64/bin/"g++ -std=gnu++11 -I"C:/Users/BIOCBU~1/BBS-3~1.14-/R/include" -DNDEBUG -I'C:/Users/biocbuild/bbs-3.14-bioc/R/library/Rcpp/include' -I"C:/extsoft/include" -O2 -Wall -mfpmath=sse -msse2 -mstackrealign -c state.cpp -o state.o
state.cpp: In member function 'int HDP::sample_word_assignment(DocState*, int, bool, vct*)':
state.cpp:253:10: warning: 'k' may be used uninitialized in this function [-Wmaybe-uninitialized]
return int(old_k != k);
^~~~~~~~~~~~~~~
"C:/rtools40/mingw64/bin/"g++ -std=gnu++11 -I"C:/Users/BIOCBU~1/BBS-3~1.14-/R/include" -DNDEBUG -I'C:/Users/biocbuild/bbs-3.14-bioc/R/library/Rcpp/include' -I"C:/extsoft/include" -O2 -Wall -mfpmath=sse -msse2 -mstackrealign -c stirln.cpp -o stirln.o
"C:/rtools40/mingw64/bin/"g++ -std=gnu++11 -I"C:/Users/BIOCBU~1/BBS-3~1.14-/R/include" -DNDEBUG -I'C:/Users/biocbuild/bbs-3.14-bioc/R/library/Rcpp/include' -I"C:/extsoft/include" -O2 -Wall -mfpmath=sse -msse2 -mstackrealign -c utils.cpp -o utils.o
C:/rtools40/mingw64/bin/g++ -std=gnu++11 -shared -s -static-libgcc -o R3CPET.dll tmp.def R3CPET_init.o RcppExports.o corpus.o main.o state.o stirln.o utils.o -LC:/extsoft/lib/x64 -LC:/extsoft/lib -LC:/Users/BIOCBU~1/BBS-3~1.14-/R/bin/x64 -lR
installing to C:/Users/biocbuild/bbs-3.14-bioc/meat/R3CPET.buildbin-libdir/R3CPET/libs/x64
** testing if installed package can be loaded
* MD5 sums
packaged installation of 'R3CPET' as R3CPET_1.26.0.zip
* DONE (R3CPET)
* installing to library 'C:/Users/biocbuild/bbs-3.14-bioc/R/library'
package 'R3CPET' successfully unpacked and MD5 sums checked