| Back to Multiple platform build/check report for BioC 3.14 |
|
This page was generated on 2022-04-13 12:08:35 -0400 (Wed, 13 Apr 2022).
| Hostname | OS | Arch (*) | R version | Installed pkgs |
|---|---|---|---|---|
| nebbiolo2 | Linux (Ubuntu 20.04.4 LTS) | x86_64 | 4.1.3 (2022-03-10) -- "One Push-Up" | 4324 |
| tokay2 | Windows Server 2012 R2 Standard | x64 | 4.1.3 (2022-03-10) -- "One Push-Up" | 4077 |
| machv2 | macOS 10.14.6 Mojave | x86_64 | 4.1.3 (2022-03-10) -- "One Push-Up" | 4137 |
| Click on any hostname to see more info about the system (e.g. compilers) (*) as reported by 'uname -p', except on Windows and Mac OS X | ||||
|
To the developers/maintainers of the QDNAseq package: - Please allow up to 24 hours (and sometimes 48 hours) for your latest push to git@git.bioconductor.org:packages/QDNAseq.git to reflect on this report. See How and When does the builder pull? When will my changes propagate? for more information. - Make sure to use the following settings in order to reproduce any error or warning you see on this page. |
| Package 1496/2083 | Hostname | OS / Arch | INSTALL | BUILD | CHECK | BUILD BIN | ||||||||
| QDNAseq 1.30.0 (landing page) Daoud Sie
| nebbiolo2 | Linux (Ubuntu 20.04.4 LTS) / x86_64 | OK | OK | OK | |||||||||
| tokay2 | Windows Server 2012 R2 Standard / x64 | OK | OK | OK | OK | |||||||||
| machv2 | macOS 10.14.6 Mojave / x86_64 | OK | OK | OK | OK | |||||||||
| Package: QDNAseq |
| Version: 1.30.0 |
| Command: /Library/Frameworks/R.framework/Resources/bin/R CMD check --install=check:QDNAseq.install-out.txt --library=/Library/Frameworks/R.framework/Resources/library --no-vignettes --timings QDNAseq_1.30.0.tar.gz |
| StartedAt: 2022-04-12 17:10:12 -0400 (Tue, 12 Apr 2022) |
| EndedAt: 2022-04-12 17:19:24 -0400 (Tue, 12 Apr 2022) |
| EllapsedTime: 552.2 seconds |
| RetCode: 0 |
| Status: OK |
| CheckDir: QDNAseq.Rcheck |
| Warnings: 0 |
##############################################################################
##############################################################################
###
### Running command:
###
### /Library/Frameworks/R.framework/Resources/bin/R CMD check --install=check:QDNAseq.install-out.txt --library=/Library/Frameworks/R.framework/Resources/library --no-vignettes --timings QDNAseq_1.30.0.tar.gz
###
##############################################################################
##############################################################################
* using log directory ‘/Users/biocbuild/bbs-3.14-bioc/meat/QDNAseq.Rcheck’
* using R version 4.1.3 (2022-03-10)
* using platform: x86_64-apple-darwin17.0 (64-bit)
* using session charset: UTF-8
* using option ‘--no-vignettes’
* checking for file ‘QDNAseq/DESCRIPTION’ ... OK
* this is package ‘QDNAseq’ version ‘1.30.0’
* checking package namespace information ... OK
* checking package dependencies ... OK
* checking if this is a source package ... OK
* checking if there is a namespace ... OK
* checking for hidden files and directories ... OK
* checking for portable file names ... OK
* checking for sufficient/correct file permissions ... OK
* checking whether package ‘QDNAseq’ can be installed ... OK
* checking installed package size ... OK
* checking package directory ... OK
* checking ‘build’ directory ... OK
* checking DESCRIPTION meta-information ... OK
* checking top-level files ... OK
* checking for left-over files ... OK
* checking index information ... OK
* checking package subdirectories ... OK
* checking R files for non-ASCII characters ... OK
* checking R files for syntax errors ... OK
* checking whether the package can be loaded ... OK
* checking whether the package can be loaded with stated dependencies ... OK
* checking whether the package can be unloaded cleanly ... OK
* checking whether the namespace can be loaded with stated dependencies ... OK
* checking whether the namespace can be unloaded cleanly ... OK
* checking dependencies in R code ... OK
* checking S3 generic/method consistency ... OK
* checking replacement functions ... OK
* checking foreign function calls ... OK
* checking R code for possible problems ... OK
* checking Rd files ... OK
* checking Rd metadata ... OK
* checking Rd cross-references ... OK
* checking for missing documentation entries ... OK
* checking for code/documentation mismatches ... OK
* checking Rd \usage sections ... OK
* checking Rd contents ... OK
* checking for unstated dependencies in examples ... OK
* checking contents of ‘data’ directory ... OK
* checking data for non-ASCII characters ... OK
* checking data for ASCII and uncompressed saves ... OK
* checking sizes of PDF files under ‘inst/doc’ ... OK
* checking files in ‘vignettes’ ... OK
* checking examples ... OK
Examples with CPU (user + system) or elapsed time > 5s
user system elapsed
callBins 23.297 0.344 23.714
frequencyPlot 22.681 0.185 22.935
segmentBins 9.575 0.037 9.642
normalizeSegmentedBins 8.592 0.056 8.655
* checking for unstated dependencies in ‘tests’ ... OK
* checking tests ...
Running ‘QDNAseq,copyneutral.R’
Running ‘QDNAseq,gain-copyneutral-gain.R’
Running ‘QDNAseq,parallel-reproducibility.R’
Running ‘QDNAseq.R’
Running ‘binReadCounts.R’
OK
* checking for unstated dependencies in vignettes ... OK
* checking package vignettes in ‘inst/doc’ ... OK
* checking running R code from vignettes ... SKIPPED
* checking re-building of vignette outputs ... SKIPPED
* checking PDF version of manual ... OK
* DONE
Status: OK
QDNAseq.Rcheck/00install.out
############################################################################## ############################################################################## ### ### Running command: ### ### /Library/Frameworks/R.framework/Resources/bin/R CMD INSTALL QDNAseq ### ############################################################################## ############################################################################## * installing to library ‘/Library/Frameworks/R.framework/Versions/4.1/Resources/library’ * installing *source* package ‘QDNAseq’ ... ** using staged installation ** R ** data ** inst ** byte-compile and prepare package for lazy loading ** help *** installing help indices ** building package indices ** installing vignettes ** testing if installed package can be loaded from temporary location ** testing if installed package can be loaded from final location ** testing if installed package keeps a record of temporary installation path * DONE (QDNAseq)
QDNAseq.Rcheck/tests/binReadCounts.Rout
R version 4.1.3 (2022-03-10) -- "One Push-Up"
Copyright (C) 2022 The R Foundation for Statistical Computing
Platform: x86_64-apple-darwin17.0 (64-bit)
R is free software and comes with ABSOLUTELY NO WARRANTY.
You are welcome to redistribute it under certain conditions.
Type 'license()' or 'licence()' for distribution details.
R is a collaborative project with many contributors.
Type 'contributors()' for more information and
'citation()' on how to cite R or R packages in publications.
Type 'demo()' for some demos, 'help()' for on-line help, or
'help.start()' for an HTML browser interface to help.
Type 'q()' to quit R.
> library(QDNAseq)
>
> if (requireNamespace("QDNAseq.hg19", quietly = TRUE)) {
+ bins <- getBinAnnotations(500, genome = "hg19")
+ print(bins)
+
+ bam <- system.file("extdata", "ex1.bam", package = "Rsamtools")
+ print(bam)
+
+ counts <- binReadCounts(bins, bamfiles = bam)
+ print(counts)
+
+ ## BUG: https://github.com/ccagc/QDNAseq/issues/89
+ counts2 <- binReadCounts(bins, bamfiles = bam, chunkSize = 10e3)
+ print(counts2)
+ }
Loaded bin annotations for genome 'hg19', bin size 500 kbp, and experiment type 'SR50' from annotation package QDNAseq.hg19 v1.24.0
QDNAseq bin annotations for Hsapiens, build hg19.
Created by Ilari Scheinin with QDNAseq 0.7.5, 2014-02-06 09:20:46.
An object of class 'AnnotatedDataFrame'
rowNames: 1:1-500000 1:500001-1000000 ... Y:59000001-59373566 (6206
total)
varLabels: chromosome start ... use (9 total)
varMetadata: labelDescription
[1] "/Library/Frameworks/R.framework/Versions/4.1/Resources/library/Rsamtools/extdata/ex1.bam"
ex1 (1 of 1): extracting reads ... binning ...
QDNAseqReadCounts (storageMode: lockedEnvironment)
assayData: 6206 features, 1 samples
element names: counts
protocolData: none
phenoData
sampleNames: ex1
varLabels: name total.reads used.reads expected.variance
varMetadata: labelDescription
featureData
featureNames: 1:1-500000 1:500001-1000000 ... Y:59000001-59373566
(6206 total)
fvarLabels: chromosome start ... use (9 total)
fvarMetadata: labelDescription
experimentData: use 'experimentData(object)'
Annotation:
ex1 (1 of 1): extracting reads ...
binning chunk - seq1:1:10001
binning chunk - seq2:1:10001
QDNAseqReadCounts (storageMode: lockedEnvironment)
assayData: 6206 features, 1 samples
element names: counts
protocolData: none
phenoData
sampleNames: ex1
varLabels: name total.reads used.reads expected.variance
varMetadata: labelDescription
featureData
featureNames: 1:1-500000 1:500001-1000000 ... Y:59000001-59373566
(6206 total)
fvarLabels: chromosome start ... use (9 total)
fvarMetadata: labelDescription
experimentData: use 'experimentData(object)'
Annotation:
>
>
>
> proc.time()
user system elapsed
9.530 0.455 9.976
QDNAseq.Rcheck/tests/QDNAseq,copyneutral.Rout
R version 4.1.3 (2022-03-10) -- "One Push-Up"
Copyright (C) 2022 The R Foundation for Statistical Computing
Platform: x86_64-apple-darwin17.0 (64-bit)
R is free software and comes with ABSOLUTELY NO WARRANTY.
You are welcome to redistribute it under certain conditions.
Type 'license()' or 'licence()' for distribution details.
R is a collaborative project with many contributors.
Type 'contributors()' for more information and
'citation()' on how to cite R or R packages in publications.
Type 'demo()' for some demos, 'help()' for on-line help, or
'help.start()' for an HTML browser interface to help.
Type 'q()' to quit R.
> library(QDNAseq)
> library(Biobase)
Loading required package: BiocGenerics
Attaching package: 'BiocGenerics'
The following objects are masked from 'package:stats':
IQR, mad, sd, var, xtabs
The following objects are masked from 'package:base':
Filter, Find, Map, Position, Reduce, anyDuplicated, append,
as.data.frame, basename, cbind, colnames, dirname, do.call,
duplicated, eval, evalq, get, grep, grepl, intersect, is.unsorted,
lapply, mapply, match, mget, order, paste, pmax, pmax.int, pmin,
pmin.int, rank, rbind, rownames, sapply, setdiff, sort, table,
tapply, union, unique, unsplit, which.max, which.min
Welcome to Bioconductor
Vignettes contain introductory material; view with
'browseVignettes()'. To cite Bioconductor, see
'citation("Biobase")', and for packages 'citation("pkgname")'.
> set.seed(0xBEEF)
>
> data(LGG150)
> data <- LGG150
> print(data)
QDNAseqReadCounts (storageMode: lockedEnvironment)
assayData: 38819 features, 1 samples
element names: counts
protocolData: none
phenoData
sampleNames: LGG150
varLabels: name reads used.reads expected.variance
varMetadata: labelDescription
featureData
featureNames: 7:1-15000 7:15001-30000 ... 10:135525001-135534747
(38819 total)
fvarLabels: chromosome start ... use (9 total)
fvarMetadata: labelDescription
experimentData: use 'experimentData(object)'
Annotation:
>
> dataF <- applyFilters(data, residual=TRUE, blacklist=TRUE)
38,819 total bins
38,819 of which in selected chromosomes
36,722 of which with reference sequence
33,347 final bins
> print(dataF)
QDNAseqReadCounts (storageMode: lockedEnvironment)
assayData: 38819 features, 1 samples
element names: counts
protocolData: none
phenoData
sampleNames: LGG150
varLabels: name reads used.reads expected.variance
varMetadata: labelDescription
featureData
featureNames: 7:1-15000 7:15001-30000 ... 10:135525001-135534747
(38819 total)
fvarLabels: chromosome start ... use (9 total)
fvarMetadata: labelDescription
experimentData: use 'experimentData(object)'
Annotation:
>
> dataC <- correctBins(dataF)
Calculating correction for GC content and mappability
Calculating fit for sample LGG150 (1 of 1) ...
Done.
>
> ## Force all copy neutral data
> cn <- assayDataElement(dataC, "copynumber")
> cn[,1] <- rnorm(nrow(cn), mean = 1.0, sd = 0.05)
> assayDataElement(dataC, "copynumber") <- cn
>
> print(dataC)
QDNAseqCopyNumbers (storageMode: lockedEnvironment)
assayData: 38819 features, 1 samples
element names: copynumber
protocolData: none
phenoData
sampleNames: LGG150
varLabels: name reads ... loess.family (6 total)
varMetadata: labelDescription
featureData
featureNames: 7:1-15000 7:15001-30000 ... 10:135525001-135534747
(38819 total)
fvarLabels: chromosome start ... use (9 total)
fvarMetadata: labelDescription
experimentData: use 'experimentData(object)'
Annotation:
>
> dataN <- normalizeBins(dataC)
Applying median normalization ...
> print(dataN)
QDNAseqCopyNumbers (storageMode: lockedEnvironment)
assayData: 38819 features, 1 samples
element names: copynumber
protocolData: none
phenoData
sampleNames: LGG150
varLabels: name reads ... loess.family (6 total)
varMetadata: labelDescription
featureData
featureNames: 7:1-15000 7:15001-30000 ... 10:135525001-135534747
(38819 total)
fvarLabels: chromosome start ... use (9 total)
fvarMetadata: labelDescription
experimentData: use 'experimentData(object)'
Annotation:
>
> fit <- segmentBins(dataN)
Performing segmentation:
Segmenting: LGG150 (1 of 1) ...
> print(fit)
QDNAseqCopyNumbers (storageMode: lockedEnvironment)
assayData: 38819 features, 1 samples
element names: copynumber, segmented
protocolData: none
phenoData
sampleNames: LGG150
varLabels: name reads ... loess.family (6 total)
varMetadata: labelDescription
featureData
featureNames: 7:1-15000 7:15001-30000 ... 10:135525001-135534747
(38819 total)
fvarLabels: chromosome start ... use (9 total)
fvarMetadata: labelDescription
experimentData: use 'experimentData(object)'
Annotation:
>
> fitC <- callBins(fit)
EM algorithm started ...
[1] "Total number of segments present in the data: 4"
[1] "Number of segments used for fitting the model: 4"
39456198015006210.861.2790048115677597422119.7NA6553679004811076499742282.2
Calling iteration1:
optim results
time: 0
minimum: 16682.0890247004
116682.0890247004-0.825303675797091-0.323169506423803-0.001754401929814960.2970863141060160.5078724084702190.9928769615298530.1100346090918040.0003692713871108020.0111811691191362-0.0001065348234756080.1102701734224670.145866377811007
39471248018427210.861.2790048115677597422119.7NA6553679004811076499742282.2
Calling iteration2:
optim results
time: 0
minimum: 16682.0888522346
116682.0888522346-0.816384144994661-0.31848916294222-0.00167850977268490.292952991143050.5008064461942260.9819310567480430.1311557982956840.0002223141320088620.01118096583020170.0001872099918784220.1313921659017140.175722206269368
EM algorithm done ...
Computing posterior probabilities for all segments ...
Total time:0minutes
Adjusting segmented data for cellularity ...
Cellularity sample1: 1
Adjusting normalized data for cellularity ...
Cellularity sample1: 1
1
3949792824018121162.9790048115677597422119.7NA6553679004811076499742282.2
3949811840692721164.2790048115677597422119.7NA6553679004811076499742282.2
3949808840692121164.2790048115677597422119.7NA6553679004811076499742282.2
3949836867370121166.2790048115677597422119.7NA6553679004811076499742282.2
3950263867465621166.2790048115677597422119.7NA6553679004811076499742282.2
3950272867466021166.2790048115677597422119.7NA6553679004811076499742282.2
3950281867466421166.2790048115677597422119.7NA6553679004811076499742282.2
3950290867466821166.2790048115677597422119.7NA6553679004811076499742282.2
3950299867467221166.2790048115677597422119.7NA6553679004811076499742282.2
3950305867467521166.2790048115677597422119.7NA6553679004811076499742282.2
3950324874140521166.7790048115677597422119.7NA6553679004811076499742282.2
3950741874172821166.7790048115677597422119.7NA6553679004811076499742282.2
FINISHED!
Total time:0minutes
There were 24 warnings (use warnings() to see them)
> print(fitC)
QDNAseqCopyNumbers (storageMode: lockedEnvironment)
assayData: 38819 features, 1 samples
element names: calls, copynumber, probamp, probdloss, probgain, probloss, probnorm, segmented
protocolData: none
phenoData
sampleNames: LGG150
varLabels: name reads ... loess.family (6 total)
varMetadata: labelDescription
featureData
featureNames: 7:1-15000 7:15001-30000 ... 10:135525001-135534747
(38819 total)
fvarLabels: chromosome start ... use (9 total)
fvarMetadata: labelDescription
experimentData: use 'experimentData(object)'
Annotation:
>
>
> ## Assert that everything is called copy-neutral
> calls <- assayDataElement(fitC, "calls")
> stopifnot(all(is.na(calls) | calls == 0))
>
> formats <- c("tsv", "igv", "bed", "seg", "vcf")
> types <- c("copynumber", "segments", "calls")
> for (format in formats) {
+ for (type in types) {
+ fileext <- sprintf(".%s.%s", type, format)
+ file <- tempfile(pattern = "QDNAseq-%s", fileext = fileext)
+ message(sprintf(" - exportBins(<%d samples>, format=\"%s\", type=\"%s\")", ncol(fitC), format, type))
+ file <- exportBins(fitC, format = format, type = type, file = file)
+ message(sprintf(" File(s) written: [n=%d] %s",
+ length(file), paste(sQuote(file), collapse = ", ")))
+ stopifnot(all(file_test("-f", file)))
+ if (format == "seg") {
+ segs <- read.table(file, sep = "\t", header = TRUE)
+ print(segs)
+ stopifnot(nrow(segs) == 0L)
+ } else if (format == "vcf") {
+ rows <- readLines(file)
+ rows <- grep("^#", rows, invert = TRUE, value = TRUE)
+ print(rows)
+ stopifnot(length(rows) == 0L)
+ }
+ file.remove(file)
+ stopifnot(!any(file_test("-f", file)))
+ }
+ }
- exportBins(<1 samples>, format="tsv", type="copynumber")
File(s) written: [n=1] '/tmp/RtmpO4vsKL/QDNAseq-%sad06448398f5.copynumber.tsv'
- exportBins(<1 samples>, format="tsv", type="segments")
File(s) written: [n=1] '/tmp/RtmpO4vsKL/QDNAseq-%sad061baf1ff7.segments.tsv'
- exportBins(<1 samples>, format="tsv", type="calls")
File(s) written: [n=1] '/tmp/RtmpO4vsKL/QDNAseq-%sad0665b9f54.calls.tsv'
- exportBins(<1 samples>, format="igv", type="copynumber")
File(s) written: [n=1] '/tmp/RtmpO4vsKL/QDNAseq-%sad066939470e.copynumber.igv'
- exportBins(<1 samples>, format="igv", type="segments")
File(s) written: [n=1] '/tmp/RtmpO4vsKL/QDNAseq-%sad062f681e1a.segments.igv'
- exportBins(<1 samples>, format="igv", type="calls")
File(s) written: [n=1] '/tmp/RtmpO4vsKL/QDNAseq-%sad065c905546.calls.igv'
- exportBins(<1 samples>, format="bed", type="copynumber")
File(s) written: [n=1] '/tmp/RtmpO4vsKL/QDNAseq-LGG150ad067ce9624.copynumber.bed'
- exportBins(<1 samples>, format="bed", type="segments")
File(s) written: [n=1] '/tmp/RtmpO4vsKL/QDNAseq-LGG150ad06be3197d.segments.bed'
- exportBins(<1 samples>, format="bed", type="calls")
File(s) written: [n=1] '/tmp/RtmpO4vsKL/QDNAseq-LGG150ad066a9e63a3.calls.bed'
- exportBins(<1 samples>, format="seg", type="copynumber")
File(s) written: [n=1] '/tmp/RtmpO4vsKL/QDNAseq-LGG150ad06449f9904.copynumber.seg'
[1] SAMPLE_NAME CHROMOSOME START STOP
[5] DATAPOINTS LOG2_RATIO_MEAN
<0 rows> (or 0-length row.names)
- exportBins(<1 samples>, format="seg", type="segments")
File(s) written: [n=1] '/tmp/RtmpO4vsKL/QDNAseq-LGG150ad0649f6f8ce.segments.seg'
[1] SAMPLE_NAME CHROMOSOME START STOP
[5] DATAPOINTS LOG2_RATIO_MEAN
<0 rows> (or 0-length row.names)
- exportBins(<1 samples>, format="seg", type="calls")
File(s) written: [n=1] '/tmp/RtmpO4vsKL/QDNAseq-LGG150ad067548c251.calls.seg'
[1] SAMPLE_NAME CHROMOSOME START STOP
[5] DATAPOINTS LOG2_RATIO_MEAN
<0 rows> (or 0-length row.names)
- exportBins(<1 samples>, format="vcf", type="copynumber")
File(s) written: [n=1] '/tmp/RtmpO4vsKL/QDNAseq-LGG150ad067bcd8ffe.copynumber.vcf'
character(0)
- exportBins(<1 samples>, format="vcf", type="segments")
File(s) written: [n=1] '/tmp/RtmpO4vsKL/QDNAseq-LGG150ad0674a8ac31.segments.vcf'
character(0)
- exportBins(<1 samples>, format="vcf", type="calls")
File(s) written: [n=1] '/tmp/RtmpO4vsKL/QDNAseq-LGG150ad066dc100cc.calls.vcf'
character(0)
>
> proc.time()
user system elapsed
25.961 0.854 26.824
QDNAseq.Rcheck/tests/QDNAseq,gain-copyneutral-gain.Rout
R version 4.1.3 (2022-03-10) -- "One Push-Up"
Copyright (C) 2022 The R Foundation for Statistical Computing
Platform: x86_64-apple-darwin17.0 (64-bit)
R is free software and comes with ABSOLUTELY NO WARRANTY.
You are welcome to redistribute it under certain conditions.
Type 'license()' or 'licence()' for distribution details.
R is a collaborative project with many contributors.
Type 'contributors()' for more information and
'citation()' on how to cite R or R packages in publications.
Type 'demo()' for some demos, 'help()' for on-line help, or
'help.start()' for an HTML browser interface to help.
Type 'q()' to quit R.
> library(QDNAseq)
> library(Biobase)
Loading required package: BiocGenerics
Attaching package: 'BiocGenerics'
The following objects are masked from 'package:stats':
IQR, mad, sd, var, xtabs
The following objects are masked from 'package:base':
Filter, Find, Map, Position, Reduce, anyDuplicated, append,
as.data.frame, basename, cbind, colnames, dirname, do.call,
duplicated, eval, evalq, get, grep, grepl, intersect, is.unsorted,
lapply, mapply, match, mget, order, paste, pmax, pmax.int, pmin,
pmin.int, rank, rbind, rownames, sapply, setdiff, sort, table,
tapply, union, unique, unsplit, which.max, which.min
Welcome to Bioconductor
Vignettes contain introductory material; view with
'browseVignettes()'. To cite Bioconductor, see
'citation("Biobase")', and for packages 'citation("pkgname")'.
> library(utils)
> set.seed(0xBEEF)
>
> data(LGG150)
> data <- LGG150
> print(data)
QDNAseqReadCounts (storageMode: lockedEnvironment)
assayData: 38819 features, 1 samples
element names: counts
protocolData: none
phenoData
sampleNames: LGG150
varLabels: name reads used.reads expected.variance
varMetadata: labelDescription
featureData
featureNames: 7:1-15000 7:15001-30000 ... 10:135525001-135534747
(38819 total)
fvarLabels: chromosome start ... use (9 total)
fvarMetadata: labelDescription
experimentData: use 'experimentData(object)'
Annotation:
>
> dataF <- applyFilters(data, residual=TRUE, blacklist=TRUE)
38,819 total bins
38,819 of which in selected chromosomes
36,722 of which with reference sequence
33,347 final bins
> print(dataF)
QDNAseqReadCounts (storageMode: lockedEnvironment)
assayData: 38819 features, 1 samples
element names: counts
protocolData: none
phenoData
sampleNames: LGG150
varLabels: name reads used.reads expected.variance
varMetadata: labelDescription
featureData
featureNames: 7:1-15000 7:15001-30000 ... 10:135525001-135534747
(38819 total)
fvarLabels: chromosome start ... use (9 total)
fvarMetadata: labelDescription
experimentData: use 'experimentData(object)'
Annotation:
>
> dataC <- correctBins(dataF)
Calculating correction for GC content and mappability
Calculating fit for sample LGG150 (1 of 1) ...
Done.
>
> ## Force results to have segments gain, copy neutral, and gain.
> cnAll <- assayDataElement(dataC, "copynumber")
> cnAll[,1] <- rnorm(nrow(cnAll), mean = 1.0, sd = 0.05)
> chr7 <- (chromosomes(dataC) == "7")
> cn <- cnAll[chr7, , drop = FALSE]
> n <- nrow(cn)
> idxs <- seq(from=1/3*n - 0.1*n, to=1/3*n + 0.1*n)
> cn[idxs,1] <- rnorm(length(idxs), mean = 2.0, sd = 0.05)
> idxs <- seq(from=2/3*n - 0.1*n, to=2/3*n + 0.1*n)
> cn[idxs,1] <- rnorm(length(idxs), mean = 2.0, sd = 0.05)
> cnAll[chr7, ] <- cn
> assayDataElement(dataC, "copynumber") <- cnAll
> print(dataC)
QDNAseqCopyNumbers (storageMode: lockedEnvironment)
assayData: 38819 features, 1 samples
element names: copynumber
protocolData: none
phenoData
sampleNames: LGG150
varLabels: name reads ... loess.family (6 total)
varMetadata: labelDescription
featureData
featureNames: 7:1-15000 7:15001-30000 ... 10:135525001-135534747
(38819 total)
fvarLabels: chromosome start ... use (9 total)
fvarMetadata: labelDescription
experimentData: use 'experimentData(object)'
Annotation:
>
> dataN <- normalizeBins(dataC)
Applying median normalization ...
> print(dataN)
QDNAseqCopyNumbers (storageMode: lockedEnvironment)
assayData: 38819 features, 1 samples
element names: copynumber
protocolData: none
phenoData
sampleNames: LGG150
varLabels: name reads ... loess.family (6 total)
varMetadata: labelDescription
featureData
featureNames: 7:1-15000 7:15001-30000 ... 10:135525001-135534747
(38819 total)
fvarLabels: chromosome start ... use (9 total)
fvarMetadata: labelDescription
experimentData: use 'experimentData(object)'
Annotation:
>
> fit <- segmentBins(dataN)
Performing segmentation:
Segmenting: LGG150 (1 of 1) ...
> print(fit)
QDNAseqCopyNumbers (storageMode: lockedEnvironment)
assayData: 38819 features, 1 samples
element names: copynumber, segmented
protocolData: none
phenoData
sampleNames: LGG150
varLabels: name reads ... loess.family (6 total)
varMetadata: labelDescription
featureData
featureNames: 7:1-15000 7:15001-30000 ... 10:135525001-135534747
(38819 total)
fvarLabels: chromosome start ... use (9 total)
fvarMetadata: labelDescription
experimentData: use 'experimentData(object)'
Annotation:
>
> fitC <- callBins(fit)
EM algorithm started ...
[1] "Total number of segments present in the data: 8"
[1] "Number of segments used for fitting the model: 8"
39459298058585210.861.5790048115677597422119.7NA6553679004811076499942282.2
Calling iteration1:
optim results
time: 0
minimum: 16691.936015802
116691.936015802-0.76889026698241-0.310183146024425-0.01185150972096230.2885943760685340.4933553445096880.9879385470392230.0299884700901994-0.0005485736219481460.0111821966975442-4.08995447325668e-050.01000052582656670.0100005260086061
EM algorithm done ...
Computing posterior probabilities for all segments ...
Total time:0minutes
Adjusting segmented data for cellularity ...
Cellularity sample1: 1
Adjusting normalized data for cellularity ...
Cellularity sample1: 1
1
3950102828356821163.2790048115677597422119.7NA6553679004811079918642282.4
3950121845031421164.5790048115677597422119.7NA6553679004811079918642282.4
3950118845030821164.5790048115677597422119.7NA6553679004811079918642282.4
3950146871883821166.6790048115677597422119.7NA6553679004811079918642282.4
3950573871979321166.6790048115677597422119.7NA6553679004811079918642282.4
3950582871979721166.6790048115677597422119.7NA6553679004811079918642282.4
3950591871980121166.6790048115677597422119.7NA6553679004811079918642282.4
3950600871980521166.6790048115677597422119.7NA6553679004811079918642282.4
3950609871980921166.6790048115677597422119.7NA6553679004811079918642282.4
3950615871981221166.6790048115677597422119.7NA6553679004811079918642282.4
3950634878654221167.1790048115677597422119.7NA6553679004811079918642282.4
39510518786865211.167.1790048115677597422119.7NA6553679004811079918642282.4
FINISHED!
Total time:0minutes
There were 32 warnings (use warnings() to see them)
> print(fitC)
QDNAseqCopyNumbers (storageMode: lockedEnvironment)
assayData: 38819 features, 1 samples
element names: calls, copynumber, probamp, probdloss, probgain, probloss, probnorm, segmented
protocolData: none
phenoData
sampleNames: LGG150
varLabels: name reads ... loess.family (6 total)
varMetadata: labelDescription
featureData
featureNames: 7:1-15000 7:15001-30000 ... 10:135525001-135534747
(38819 total)
fvarLabels: chromosome start ... use (9 total)
fvarMetadata: labelDescription
experimentData: use 'experimentData(object)'
Annotation:
>
> ## Assert that everything is called copy-neutral
> calls <- assayDataElement(fitC, "calls")
> stopifnot(all(is.na(calls) | calls %in% c(0, 2)))
>
> formats <- c("tsv", "igv", "bed", "seg", "vcf")
> types <- c("copynumber", "segments", "calls")
> for (format in formats) {
+ for (type in types) {
+ fileext <- sprintf(".%s.%s", type, format)
+ file <- tempfile(pattern = "QDNAseq-%s", fileext = fileext)
+ message(sprintf(" - exportBins(<%d samples>, format=\"%s\", type=\"%s\")", ncol(fitC), format, type))
+ file <- exportBins(fitC, format = format, type = type, file = file)
+ message(sprintf(" File(s) written: [n=%d] %s",
+ length(file), paste(sQuote(file), collapse = ", ")))
+ stopifnot(all(file_test("-f", file)))
+
+ if (format == "seg") {
+ segs <- read.table(file, sep = "\t", header = TRUE)
+ print(segs)
+ stopifnot(all(segs$CHROMOSOME == "7"), nrow(segs) == 2L)
+ } else if (format == "vcf") {
+ segs <- read.table(file, sep = "\t", header = FALSE)
+ print(segs)
+ stopifnot(all(segs$V1 == "7"), nrow(segs) == 2L)
+ }
+
+ file.remove(file)
+ stopifnot(!any(file_test("-f", file)))
+ }
+ }
- exportBins(<1 samples>, format="tsv", type="copynumber")
File(s) written: [n=1] '/tmp/Rtmp54485M/QDNAseq-%sb381bbad477.copynumber.tsv'
- exportBins(<1 samples>, format="tsv", type="segments")
File(s) written: [n=1] '/tmp/Rtmp54485M/QDNAseq-%sb38116d2d6a5.segments.tsv'
- exportBins(<1 samples>, format="tsv", type="calls")
File(s) written: [n=1] '/tmp/Rtmp54485M/QDNAseq-%sb3816c09f657.calls.tsv'
- exportBins(<1 samples>, format="igv", type="copynumber")
File(s) written: [n=1] '/tmp/Rtmp54485M/QDNAseq-%sb38120c012b.copynumber.igv'
- exportBins(<1 samples>, format="igv", type="segments")
File(s) written: [n=1] '/tmp/Rtmp54485M/QDNAseq-%sb3816220af19.segments.igv'
- exportBins(<1 samples>, format="igv", type="calls")
File(s) written: [n=1] '/tmp/Rtmp54485M/QDNAseq-%sb3814fc7c4a3.calls.igv'
- exportBins(<1 samples>, format="bed", type="copynumber")
File(s) written: [n=1] '/tmp/Rtmp54485M/QDNAseq-LGG150b381443ed240.copynumber.bed'
- exportBins(<1 samples>, format="bed", type="segments")
File(s) written: [n=1] '/tmp/Rtmp54485M/QDNAseq-LGG150b381785d8ac0.segments.bed'
- exportBins(<1 samples>, format="bed", type="calls")
File(s) written: [n=1] '/tmp/Rtmp54485M/QDNAseq-LGG150b381454080fc.calls.bed'
- exportBins(<1 samples>, format="seg", type="copynumber")
File(s) written: [n=1] '/tmp/Rtmp54485M/QDNAseq-LGG150b381dd443e9.copynumber.seg'
SAMPLE_NAME CHROMOSOME START
1 /tmp/Rtmp54485M/QDNAseq-LGG150b381dd443e9.copynumber.seg 7 37110001
2 /tmp/Rtmp54485M/QDNAseq-LGG150b381dd443e9.copynumber.seg 7 90165001
STOP DATAPOINTS LOG2_RATIO_MEAN
1 68955000 1487 0.99
2 122010000 2012 0.99
- exportBins(<1 samples>, format="seg", type="segments")
File(s) written: [n=1] '/tmp/Rtmp54485M/QDNAseq-LGG150b3816ab67d16.segments.seg'
SAMPLE_NAME CHROMOSOME START
1 /tmp/Rtmp54485M/QDNAseq-LGG150b3816ab67d16.segments.seg 7 37110001
2 /tmp/Rtmp54485M/QDNAseq-LGG150b3816ab67d16.segments.seg 7 90165001
STOP DATAPOINTS LOG2_RATIO_MEAN
1 68955000 1487 0.99
2 122010000 2012 0.99
- exportBins(<1 samples>, format="seg", type="calls")
File(s) written: [n=1] '/tmp/Rtmp54485M/QDNAseq-LGG150b38172ce6615.calls.seg'
SAMPLE_NAME CHROMOSOME START
1 /tmp/Rtmp54485M/QDNAseq-LGG150b38172ce6615.calls.seg 7 37110001
2 /tmp/Rtmp54485M/QDNAseq-LGG150b38172ce6615.calls.seg 7 90165001
STOP DATAPOINTS LOG2_RATIO_MEAN
1 68955000 1487 0.99
2 122010000 2012 0.99
- exportBins(<1 samples>, format="vcf", type="copynumber")
File(s) written: [n=1] '/tmp/Rtmp54485M/QDNAseq-LGG150b3814c902795.copynumber.vcf'
V1 V2 V3 V4 V5 V6 V7
1 7 37110001 . <DIP> <DUP> 1000 PASS
2 7 90165001 . <DIP> <DUP> 1000 PASS
V8 V9 V10
1 SVTYPE=DUP;END=68955000;SVLEN=31845000;BINS=1487;SCORE=2;LOG2CNT=0.99 GT 0/1
2 SVTYPE=DUP;END=122010000;SVLEN=31845000;BINS=2012;SCORE=2;LOG2CNT=0.99 GT 0/1
- exportBins(<1 samples>, format="vcf", type="segments")
File(s) written: [n=1] '/tmp/Rtmp54485M/QDNAseq-LGG150b381c16ce78.segments.vcf'
V1 V2 V3 V4 V5 V6 V7
1 7 37110001 . <DIP> <DUP> 1000 PASS
2 7 90165001 . <DIP> <DUP> 1000 PASS
V8 V9 V10
1 SVTYPE=DUP;END=68955000;SVLEN=31845000;BINS=1487;SCORE=2;LOG2CNT=0.99 GT 0/1
2 SVTYPE=DUP;END=122010000;SVLEN=31845000;BINS=2012;SCORE=2;LOG2CNT=0.99 GT 0/1
- exportBins(<1 samples>, format="vcf", type="calls")
File(s) written: [n=1] '/tmp/Rtmp54485M/QDNAseq-LGG150b3812d4d2e7b.calls.vcf'
V1 V2 V3 V4 V5 V6 V7
1 7 37110001 . <DIP> <DUP> 1000 PASS
2 7 90165001 . <DIP> <DUP> 1000 PASS
V8 V9 V10
1 SVTYPE=DUP;END=68955000;SVLEN=31845000;BINS=1487;SCORE=2;LOG2CNT=0.99 GT 0/1
2 SVTYPE=DUP;END=122010000;SVLEN=31845000;BINS=2012;SCORE=2;LOG2CNT=0.99 GT 0/1
>
> proc.time()
user system elapsed
26.169 0.864 27.030
QDNAseq.Rcheck/tests/QDNAseq,parallel-reproducibility.Rout
R version 4.1.3 (2022-03-10) -- "One Push-Up"
Copyright (C) 2022 The R Foundation for Statistical Computing
Platform: x86_64-apple-darwin17.0 (64-bit)
R is free software and comes with ABSOLUTELY NO WARRANTY.
You are welcome to redistribute it under certain conditions.
Type 'license()' or 'licence()' for distribution details.
R is a collaborative project with many contributors.
Type 'contributors()' for more information and
'citation()' on how to cite R or R packages in publications.
Type 'demo()' for some demos, 'help()' for on-line help, or
'help.start()' for an HTML browser interface to help.
Type 'q()' to quit R.
> ######################################################################
> # This scripts asserts that for each processing step of QDNAseq
> # the output/results are reproducible (numerically equal).
> ######################################################################
> library("QDNAseq")
> options("QDNAseq::verbose"=FALSE)
>
> # Load data
> data(LGG150)
> data <- LGG150
>
> # - - - - - - - - - - - - - - - - - - - - - - - - - - - - - - - - - -
> # TRUTH
> # - - - - - - - - - - - - - - - - - - - - - - - - - - - - - - - - - -
> # Filter out "bad" bins
> dataF <- applyFilters(data, residual=TRUE, blacklist=TRUE)
>
> # Correct read counts as a function of GC content and mappability
> dataC <- correctBins(dataF)
>
> # Normalize binned read counts to have diploid normal copy number
> dataN <- normalizeBins(dataC)
>
> # Segment copy numbers
> set.seed(42) ## segmentBins() relies on RNG via DNAcopy::segment()
> fit <- segmentBins(dataN)
>
> # Call copy-number segments
> fitC <- callBins(fit)
There were 50 or more warnings (use warnings() to see the first 50)
>
>
> # - - - - - - - - - - - - - - - - - - - - - - - - - - - - - - - - - -
> # REPRODUCIBILITY
> # - - - - - - - - - - - - - - - - - - - - - - - - - - - - - - - - - -
> strategies <- c("sequential", "multisession")
> if (parallelly::supportsMulticore()) strategies <- c(strategies, "multicore")
>
> oplan <- future::plan("list")
> for (strategy in strategies) {
+ message(sprintf("Reproducibility with plan(\"%s\") ...", strategy))
+
+ future::plan(strategy)
+
+ dataFr <- applyFilters(data, residual=TRUE, blacklist=TRUE)
+ stopifnot(all.equal(dataFr, dataF))
+
+ dataCr <- correctBins(dataF)
+ stopifnot(all.equal(dataCr, dataC))
+
+ dataNr <- normalizeBins(dataC)
+ stopifnot(all.equal(dataNr, dataN))
+
+ set.seed(42) ## segmentBins() relies on RNG via DNAcopy::segment()
+ fitr <- segmentBins(dataNr)
+ stopifnot(all.equal(fitr, fit))
+
+ fitCr <- callBins(fitr)
+ stopifnot(all.equal(fitCr, fitC))
+
+ message(sprintf("Reproducibility with plan(\"%s\") ... done", strategy))
+ }
Reproducibility with plan("sequential") ...
Reproducibility with plan("sequential") ... done
Reproducibility with plan("multisession") ...
Calculating fit for sample LGG150 (1 of 1) ...
Segmenting: LGG150 (1 of 1) ...
Reproducibility with plan("multisession") ... done
Reproducibility with plan("multicore") ...
Reproducibility with plan("multicore") ... done
There were 50 or more warnings (use warnings() to see the first 50)
>
> future::plan(oplan)
>
> proc.time()
user system elapsed
80.676 1.669 103.054
QDNAseq.Rcheck/tests/QDNAseq.Rout
R version 4.1.3 (2022-03-10) -- "One Push-Up"
Copyright (C) 2022 The R Foundation for Statistical Computing
Platform: x86_64-apple-darwin17.0 (64-bit)
R is free software and comes with ABSOLUTELY NO WARRANTY.
You are welcome to redistribute it under certain conditions.
Type 'license()' or 'licence()' for distribution details.
R is a collaborative project with many contributors.
Type 'contributors()' for more information and
'citation()' on how to cite R or R packages in publications.
Type 'demo()' for some demos, 'help()' for on-line help, or
'help.start()' for an HTML browser interface to help.
Type 'q()' to quit R.
> library(QDNAseq)
> library(Biobase) ## combine(), sampleNames()
Loading required package: BiocGenerics
Attaching package: 'BiocGenerics'
The following objects are masked from 'package:stats':
IQR, mad, sd, var, xtabs
The following objects are masked from 'package:base':
Filter, Find, Map, Position, Reduce, anyDuplicated, append,
as.data.frame, basename, cbind, colnames, dirname, do.call,
duplicated, eval, evalq, get, grep, grepl, intersect, is.unsorted,
lapply, mapply, match, mget, order, paste, pmax, pmax.int, pmin,
pmin.int, rank, rbind, rownames, sapply, setdiff, sort, table,
tapply, union, unique, unsplit, which.max, which.min
Welcome to Bioconductor
Vignettes contain introductory material; view with
'browseVignettes()'. To cite Bioconductor, see
'citation("Biobase")', and for packages 'citation("pkgname")'.
> library(utils)
>
> # Load data
> data(LGG150)
> data <- LGG150
> print(data)
QDNAseqReadCounts (storageMode: lockedEnvironment)
assayData: 38819 features, 1 samples
element names: counts
protocolData: none
phenoData
sampleNames: LGG150
varLabels: name reads used.reads expected.variance
varMetadata: labelDescription
featureData
featureNames: 7:1-15000 7:15001-30000 ... 10:135525001-135534747
(38819 total)
fvarLabels: chromosome start ... use (9 total)
fvarMetadata: labelDescription
experimentData: use 'experimentData(object)'
Annotation:
> stopifnot(inherits(data, "QDNAseqReadCounts"))
>
> # Plot isobars of read counts
> isobarPlot(data)
Plotting sample LGG150 median read counts
>
> # Plot copy number profile
> plot(data, ylim=c(-100, 200))
Plotting sample LGG150 (1 of 1) ...
> highlightFilters(data, residual=TRUE, blacklist=TRUE)
Highlighted 3,375 bins.
>
> # Filter out "bad" bins
> dataF <- applyFilters(data, residual=TRUE, blacklist=TRUE)
38,819 total bins
38,819 of which in selected chromosomes
36,722 of which with reference sequence
33,347 final bins
> print(dataF)
QDNAseqReadCounts (storageMode: lockedEnvironment)
assayData: 38819 features, 1 samples
element names: counts
protocolData: none
phenoData
sampleNames: LGG150
varLabels: name reads used.reads expected.variance
varMetadata: labelDescription
featureData
featureNames: 7:1-15000 7:15001-30000 ... 10:135525001-135534747
(38819 total)
fvarLabels: chromosome start ... use (9 total)
fvarMetadata: labelDescription
experimentData: use 'experimentData(object)'
Annotation:
> plot(dataF, ylim=c(-100, 200))
Plotting sample LGG150 (1 of 1) ...
> stopifnot(inherits(dataF, "QDNAseqReadCounts"))
>
> # Correct read counts as a function of GC content and mappability
> dataC <- correctBins(dataF)
Calculating correction for GC content and mappability
Calculating fit for sample LGG150 (1 of 1) ...
Done.
> print(dataC)
QDNAseqCopyNumbers (storageMode: lockedEnvironment)
assayData: 38819 features, 1 samples
element names: copynumber
protocolData: none
phenoData
sampleNames: LGG150
varLabels: name reads ... loess.family (6 total)
varMetadata: labelDescription
featureData
featureNames: 7:1-15000 7:15001-30000 ... 10:135525001-135534747
(38819 total)
fvarLabels: chromosome start ... use (9 total)
fvarMetadata: labelDescription
experimentData: use 'experimentData(object)'
Annotation:
> plot(dataC, ylim=c(-100, 200))
Plotting sample LGG150 (1 of 1) ...
> stopifnot(inherits(dataC, "QDNAseqCopyNumbers"))
>
> # Normalize binned read counts to have diploid normal copy number
> dataN <- normalizeBins(dataC)
Applying median normalization ...
> print(dataN)
QDNAseqCopyNumbers (storageMode: lockedEnvironment)
assayData: 38819 features, 1 samples
element names: copynumber
protocolData: none
phenoData
sampleNames: LGG150
varLabels: name reads ... loess.family (6 total)
varMetadata: labelDescription
featureData
featureNames: 7:1-15000 7:15001-30000 ... 10:135525001-135534747
(38819 total)
fvarLabels: chromosome start ... use (9 total)
fvarMetadata: labelDescription
experimentData: use 'experimentData(object)'
Annotation:
> plot(dataN)
Plotting sample LGG150 (1 of 1) ...
> stopifnot(inherits(dataN, "QDNAseqCopyNumbers"))
>
> # Plot noise
> noisePlot(dataF)
Calculating correction for GC content and mappability
Calculating fit for sample LGG150 (1 of 1) ...
Done.
>
> # Segment copy numbers
> fit <- segmentBins(dataN)
Performing segmentation:
Segmenting: LGG150 (1 of 1) ...
> print(fit)
QDNAseqCopyNumbers (storageMode: lockedEnvironment)
assayData: 38819 features, 1 samples
element names: copynumber, segmented
protocolData: none
phenoData
sampleNames: LGG150
varLabels: name reads ... loess.family (6 total)
varMetadata: labelDescription
featureData
featureNames: 7:1-15000 7:15001-30000 ... 10:135525001-135534747
(38819 total)
fvarLabels: chromosome start ... use (9 total)
fvarMetadata: labelDescription
experimentData: use 'experimentData(object)'
Annotation:
> plot(fit)
Plotting sample LGG150 (1 of 1) ...
> stopifnot(inherits(fit, "QDNAseqCopyNumbers"))
>
> # Call copy-number segments
> fitC <- callBins(fit)
EM algorithm started ...
[1] "Total number of segments present in the data: 10"
[1] "Number of segments used for fitting the model: 9"
39591448019698211.561.2769735015263396411.1116.5NA65536769735012652830411.196.6
Calling iteration1:
optim results
time: 1
minimum: 16445.6418287481
116443.1634295677-0.939948404909672-0.5351158716347190.04999922851584940.1357341814220170.2320391157632851.492692224927890.46336036623653-0.000744748796554230.0111894143724591-0.000962583906213420.3145629342085070.798554843389167
39606498023149211.661.3769735015263396411.1116.5NA65536769735012652830411.196.6
Calling iteration2:
optim results
time: 0
minimum: 16445.5781374328
116443.1331012469-0.932876677515091-0.5359433038809970.0499979048415910.1114729434735370.1905642555481931.861013902305770.4314700360573740.0001440687684073730.01118427659401560.0007568920162792620.2061088124299370.874022351578009
39606498023149211.661.3769735015263396411.1116.5NA65536769735012652830411.196.6
Calling iteration3:
optim results
time: 0
minimum: 16445.5975371627
116443.1273697069-0.924012853099608-0.5365177469718940.04999923288882760.108573194240180.1856071014916831.753751992204390.4694950401327692.93313204138107e-050.0111878614439676-0.0001759851682342870.07360543573369820.943675664015282
EM algorithm done ...
Computing posterior probabilities for all segments ...
Total time:0minutes
Adjusting segmented data for cellularity ...
Cellularity sample1: 1
Adjusting normalized data for cellularity ...
Cellularity sample1: 1
1
39633178244383211.762.9769735015263396411.1116.5NA65536769735012652830411.196.6
39633368411129211.764.2769735015263396411.1116.5NA65536769735012652830411.196.6
39633338411123211.764.2769735015263396411.1116.5NA65536769735012652830411.196.6
39633618678138211.766.3769735015263396411.1116.5NA65536769735012652830411.196.6
39637888679093211.766.3769735015263396411.1116.5NA65536769735012652830411.196.6
39637978679097211.766.3769735015263396411.1116.5NA65536769735012652830411.196.6
39638068679101211.766.3769735015263396411.1116.5NA65536769735012652830411.196.6
39638158679105211.766.3769735015263396411.1116.5NA65536769735012652830411.196.6
39638248679109211.766.3769735015263396411.1116.5NA65536769735012652830411.196.6
39638308679112211.766.3769735015263396411.1116.5NA65536769735012652830411.196.6
39638498745842211.766.8769735015263396411.1116.5NA65536769735012652830411.196.6
39642668746165211.866.8769735015263396411.1116.5NA65536769735012652830411.196.6
FINISHED!
Total time:0minutes
There were 50 or more warnings (use warnings() to see the first 50)
> print(fitC)
QDNAseqCopyNumbers (storageMode: lockedEnvironment)
assayData: 38819 features, 1 samples
element names: calls, copynumber, probamp, probdloss, probgain, probloss, probnorm, segmented
protocolData: none
phenoData
sampleNames: LGG150
varLabels: name reads ... loess.family (6 total)
varMetadata: labelDescription
featureData
featureNames: 7:1-15000 7:15001-30000 ... 10:135525001-135534747
(38819 total)
fvarLabels: chromosome start ... use (9 total)
fvarMetadata: labelDescription
experimentData: use 'experimentData(object)'
Annotation:
> plot(fitC)
Plotting sample LGG150 (1 of 1) ...
>
>
> # ---------------------------------------------------------------
> # Exporting
> # ---------------------------------------------------------------
> message("* exportBins() ...")
* exportBins() ...
>
> sets <- list(data = data, dataC = dataC, fit = fit, fitC = fitC)
> for (name in names(sets)) {
+ set <- sets[[name]]
+ formats <- c("tsv", "igv", "bed")
+ if (name == "fitC") formats <- c(formats, "vcf", "seg")
+ for (format in formats) {
+ types <- c("copynumber")
+ if (name %in% c("fit", "fitC")) types <- c(types, "segments")
+ if (name == "fitC") types <- c(types, "calls")
+ for (type in types) {
+ fileext <- sprintf(".%s.%s", type, format)
+ templates <- c("QDNAseq-%s.", "QDNAseq-%i.", "QDNAseq-%03i.")
+ if (ncol(set) == 1L || !(format %in% c("bed", "seg", "vcf"))) {
+ templates <- c("QDNAseq.", templates)
+ }
+ for (template in templates) {
+ file <- tempfile(pattern = template, fileext = fileext)
+ message(sprintf(" - exportBins(<%d samples>, format=\"%s\", type=\"%s\", file=\"%s\")", ncol(set), format, type, template))
+ file <- exportBins(set, file = file, format = format, type = type)
+ message(sprintf(" File(s) written: [n=%d] %s",
+ length(file), paste(sQuote(file), collapse = ", ")))
+ stopifnot(all(file_test("-f", file)))
+ file.remove(file)
+ stopifnot(!any(file_test("-f", file)))
+ }
+ }
+ }
+ }
- exportBins(<1 samples>, format="tsv", type="copynumber", file="QDNAseq.")
File(s) written: [n=1] '/tmp/RtmpGqEML5/QDNAseq.c9d452f1caee.copynumber.tsv'
- exportBins(<1 samples>, format="tsv", type="copynumber", file="QDNAseq-%s.")
File(s) written: [n=1] '/tmp/RtmpGqEML5/QDNAseq-%s.c9d441f9cd.copynumber.tsv'
- exportBins(<1 samples>, format="tsv", type="copynumber", file="QDNAseq-%i.")
File(s) written: [n=1] '/tmp/RtmpGqEML5/QDNAseq-%i.c9d46b7701dc.copynumber.tsv'
- exportBins(<1 samples>, format="tsv", type="copynumber", file="QDNAseq-%03i.")
File(s) written: [n=1] '/tmp/RtmpGqEML5/QDNAseq-%03i.c9d4521b49a2.copynumber.tsv'
- exportBins(<1 samples>, format="igv", type="copynumber", file="QDNAseq.")
File(s) written: [n=1] '/tmp/RtmpGqEML5/QDNAseq.c9d47d7f54ca.copynumber.igv'
- exportBins(<1 samples>, format="igv", type="copynumber", file="QDNAseq-%s.")
File(s) written: [n=1] '/tmp/RtmpGqEML5/QDNAseq-%s.c9d43297da24.copynumber.igv'
- exportBins(<1 samples>, format="igv", type="copynumber", file="QDNAseq-%i.")
File(s) written: [n=1] '/tmp/RtmpGqEML5/QDNAseq-%i.c9d4f728b6f.copynumber.igv'
- exportBins(<1 samples>, format="igv", type="copynumber", file="QDNAseq-%03i.")
File(s) written: [n=1] '/tmp/RtmpGqEML5/QDNAseq-%03i.c9d429202c55.copynumber.igv'
- exportBins(<1 samples>, format="bed", type="copynumber", file="QDNAseq.")
File(s) written: [n=1] '/tmp/RtmpGqEML5/QDNAseq.c9d47f3e958a.copynumber.bed'
- exportBins(<1 samples>, format="bed", type="copynumber", file="QDNAseq-%s.")
File(s) written: [n=1] '/tmp/RtmpGqEML5/QDNAseq-LGG150.c9d465cbd849.copynumber.bed'
- exportBins(<1 samples>, format="bed", type="copynumber", file="QDNAseq-%i.")
File(s) written: [n=1] '/tmp/RtmpGqEML5/QDNAseq-1.c9d429e4d4d5.copynumber.bed'
- exportBins(<1 samples>, format="bed", type="copynumber", file="QDNAseq-%03i.")
File(s) written: [n=1] '/tmp/RtmpGqEML5/QDNAseq-001.c9d46e51016f.copynumber.bed'
- exportBins(<1 samples>, format="tsv", type="copynumber", file="QDNAseq.")
File(s) written: [n=1] '/tmp/RtmpGqEML5/QDNAseq.c9d483556fe.copynumber.tsv'
- exportBins(<1 samples>, format="tsv", type="copynumber", file="QDNAseq-%s.")
File(s) written: [n=1] '/tmp/RtmpGqEML5/QDNAseq-%s.c9d465e241e7.copynumber.tsv'
- exportBins(<1 samples>, format="tsv", type="copynumber", file="QDNAseq-%i.")
File(s) written: [n=1] '/tmp/RtmpGqEML5/QDNAseq-%i.c9d46954d8f2.copynumber.tsv'
- exportBins(<1 samples>, format="tsv", type="copynumber", file="QDNAseq-%03i.")
File(s) written: [n=1] '/tmp/RtmpGqEML5/QDNAseq-%03i.c9d4416f2de4.copynumber.tsv'
- exportBins(<1 samples>, format="igv", type="copynumber", file="QDNAseq.")
File(s) written: [n=1] '/tmp/RtmpGqEML5/QDNAseq.c9d46a2df54b.copynumber.igv'
- exportBins(<1 samples>, format="igv", type="copynumber", file="QDNAseq-%s.")
File(s) written: [n=1] '/tmp/RtmpGqEML5/QDNAseq-%s.c9d46f434562.copynumber.igv'
- exportBins(<1 samples>, format="igv", type="copynumber", file="QDNAseq-%i.")
File(s) written: [n=1] '/tmp/RtmpGqEML5/QDNAseq-%i.c9d429805dff.copynumber.igv'
- exportBins(<1 samples>, format="igv", type="copynumber", file="QDNAseq-%03i.")
File(s) written: [n=1] '/tmp/RtmpGqEML5/QDNAseq-%03i.c9d42a9b25a2.copynumber.igv'
- exportBins(<1 samples>, format="bed", type="copynumber", file="QDNAseq.")
File(s) written: [n=1] '/tmp/RtmpGqEML5/QDNAseq.c9d42fc3c488.copynumber.bed'
- exportBins(<1 samples>, format="bed", type="copynumber", file="QDNAseq-%s.")
File(s) written: [n=1] '/tmp/RtmpGqEML5/QDNAseq-LGG150.c9d45d9bd537.copynumber.bed'
- exportBins(<1 samples>, format="bed", type="copynumber", file="QDNAseq-%i.")
File(s) written: [n=1] '/tmp/RtmpGqEML5/QDNAseq-1.c9d421cb3de4.copynumber.bed'
- exportBins(<1 samples>, format="bed", type="copynumber", file="QDNAseq-%03i.")
File(s) written: [n=1] '/tmp/RtmpGqEML5/QDNAseq-001.c9d4264c5511.copynumber.bed'
- exportBins(<1 samples>, format="tsv", type="copynumber", file="QDNAseq.")
File(s) written: [n=1] '/tmp/RtmpGqEML5/QDNAseq.c9d45d64e2bb.copynumber.tsv'
- exportBins(<1 samples>, format="tsv", type="copynumber", file="QDNAseq-%s.")
File(s) written: [n=1] '/tmp/RtmpGqEML5/QDNAseq-%s.c9d4a6192e4.copynumber.tsv'
- exportBins(<1 samples>, format="tsv", type="copynumber", file="QDNAseq-%i.")
File(s) written: [n=1] '/tmp/RtmpGqEML5/QDNAseq-%i.c9d4bf2bc0f.copynumber.tsv'
- exportBins(<1 samples>, format="tsv", type="copynumber", file="QDNAseq-%03i.")
File(s) written: [n=1] '/tmp/RtmpGqEML5/QDNAseq-%03i.c9d46d1882e9.copynumber.tsv'
- exportBins(<1 samples>, format="tsv", type="segments", file="QDNAseq.")
File(s) written: [n=1] '/tmp/RtmpGqEML5/QDNAseq.c9d4643ac6f3.segments.tsv'
- exportBins(<1 samples>, format="tsv", type="segments", file="QDNAseq-%s.")
File(s) written: [n=1] '/tmp/RtmpGqEML5/QDNAseq-%s.c9d44edbaeed.segments.tsv'
- exportBins(<1 samples>, format="tsv", type="segments", file="QDNAseq-%i.")
File(s) written: [n=1] '/tmp/RtmpGqEML5/QDNAseq-%i.c9d438b9720d.segments.tsv'
- exportBins(<1 samples>, format="tsv", type="segments", file="QDNAseq-%03i.")
File(s) written: [n=1] '/tmp/RtmpGqEML5/QDNAseq-%03i.c9d416eed093.segments.tsv'
- exportBins(<1 samples>, format="igv", type="copynumber", file="QDNAseq.")
File(s) written: [n=1] '/tmp/RtmpGqEML5/QDNAseq.c9d418bf6ea8.copynumber.igv'
- exportBins(<1 samples>, format="igv", type="copynumber", file="QDNAseq-%s.")
File(s) written: [n=1] '/tmp/RtmpGqEML5/QDNAseq-%s.c9d43ff9e449.copynumber.igv'
- exportBins(<1 samples>, format="igv", type="copynumber", file="QDNAseq-%i.")
File(s) written: [n=1] '/tmp/RtmpGqEML5/QDNAseq-%i.c9d42efa956f.copynumber.igv'
- exportBins(<1 samples>, format="igv", type="copynumber", file="QDNAseq-%03i.")
File(s) written: [n=1] '/tmp/RtmpGqEML5/QDNAseq-%03i.c9d44568c281.copynumber.igv'
- exportBins(<1 samples>, format="igv", type="segments", file="QDNAseq.")
File(s) written: [n=1] '/tmp/RtmpGqEML5/QDNAseq.c9d460b9c6c0.segments.igv'
- exportBins(<1 samples>, format="igv", type="segments", file="QDNAseq-%s.")
File(s) written: [n=1] '/tmp/RtmpGqEML5/QDNAseq-%s.c9d444a798dc.segments.igv'
- exportBins(<1 samples>, format="igv", type="segments", file="QDNAseq-%i.")
File(s) written: [n=1] '/tmp/RtmpGqEML5/QDNAseq-%i.c9d45724b6ba.segments.igv'
- exportBins(<1 samples>, format="igv", type="segments", file="QDNAseq-%03i.")
File(s) written: [n=1] '/tmp/RtmpGqEML5/QDNAseq-%03i.c9d42b589a08.segments.igv'
- exportBins(<1 samples>, format="bed", type="copynumber", file="QDNAseq.")
File(s) written: [n=1] '/tmp/RtmpGqEML5/QDNAseq.c9d445e89973.copynumber.bed'
- exportBins(<1 samples>, format="bed", type="copynumber", file="QDNAseq-%s.")
File(s) written: [n=1] '/tmp/RtmpGqEML5/QDNAseq-LGG150.c9d429b270e0.copynumber.bed'
- exportBins(<1 samples>, format="bed", type="copynumber", file="QDNAseq-%i.")
File(s) written: [n=1] '/tmp/RtmpGqEML5/QDNAseq-1.c9d42109783.copynumber.bed'
- exportBins(<1 samples>, format="bed", type="copynumber", file="QDNAseq-%03i.")
File(s) written: [n=1] '/tmp/RtmpGqEML5/QDNAseq-001.c9d4f4b1a84.copynumber.bed'
- exportBins(<1 samples>, format="bed", type="segments", file="QDNAseq.")
File(s) written: [n=1] '/tmp/RtmpGqEML5/QDNAseq.c9d4bb9d7f4.segments.bed'
- exportBins(<1 samples>, format="bed", type="segments", file="QDNAseq-%s.")
File(s) written: [n=1] '/tmp/RtmpGqEML5/QDNAseq-LGG150.c9d45610da2f.segments.bed'
- exportBins(<1 samples>, format="bed", type="segments", file="QDNAseq-%i.")
File(s) written: [n=1] '/tmp/RtmpGqEML5/QDNAseq-1.c9d46c646fcd.segments.bed'
- exportBins(<1 samples>, format="bed", type="segments", file="QDNAseq-%03i.")
File(s) written: [n=1] '/tmp/RtmpGqEML5/QDNAseq-001.c9d435e83353.segments.bed'
- exportBins(<1 samples>, format="tsv", type="copynumber", file="QDNAseq.")
File(s) written: [n=1] '/tmp/RtmpGqEML5/QDNAseq.c9d41f81a9cb.copynumber.tsv'
- exportBins(<1 samples>, format="tsv", type="copynumber", file="QDNAseq-%s.")
File(s) written: [n=1] '/tmp/RtmpGqEML5/QDNAseq-%s.c9d479b25e95.copynumber.tsv'
- exportBins(<1 samples>, format="tsv", type="copynumber", file="QDNAseq-%i.")
File(s) written: [n=1] '/tmp/RtmpGqEML5/QDNAseq-%i.c9d42d5fc69e.copynumber.tsv'
- exportBins(<1 samples>, format="tsv", type="copynumber", file="QDNAseq-%03i.")
File(s) written: [n=1] '/tmp/RtmpGqEML5/QDNAseq-%03i.c9d46ae8c657.copynumber.tsv'
- exportBins(<1 samples>, format="tsv", type="segments", file="QDNAseq.")
File(s) written: [n=1] '/tmp/RtmpGqEML5/QDNAseq.c9d45835b096.segments.tsv'
- exportBins(<1 samples>, format="tsv", type="segments", file="QDNAseq-%s.")
File(s) written: [n=1] '/tmp/RtmpGqEML5/QDNAseq-%s.c9d42cdc7518.segments.tsv'
- exportBins(<1 samples>, format="tsv", type="segments", file="QDNAseq-%i.")
File(s) written: [n=1] '/tmp/RtmpGqEML5/QDNAseq-%i.c9d43d8b91aa.segments.tsv'
- exportBins(<1 samples>, format="tsv", type="segments", file="QDNAseq-%03i.")
File(s) written: [n=1] '/tmp/RtmpGqEML5/QDNAseq-%03i.c9d416084f77.segments.tsv'
- exportBins(<1 samples>, format="tsv", type="calls", file="QDNAseq.")
File(s) written: [n=1] '/tmp/RtmpGqEML5/QDNAseq.c9d47b9918ed.calls.tsv'
- exportBins(<1 samples>, format="tsv", type="calls", file="QDNAseq-%s.")
File(s) written: [n=1] '/tmp/RtmpGqEML5/QDNAseq-%s.c9d433af00.calls.tsv'
- exportBins(<1 samples>, format="tsv", type="calls", file="QDNAseq-%i.")
File(s) written: [n=1] '/tmp/RtmpGqEML5/QDNAseq-%i.c9d44126291a.calls.tsv'
- exportBins(<1 samples>, format="tsv", type="calls", file="QDNAseq-%03i.")
File(s) written: [n=1] '/tmp/RtmpGqEML5/QDNAseq-%03i.c9d430548b60.calls.tsv'
- exportBins(<1 samples>, format="igv", type="copynumber", file="QDNAseq.")
File(s) written: [n=1] '/tmp/RtmpGqEML5/QDNAseq.c9d47e8a6469.copynumber.igv'
- exportBins(<1 samples>, format="igv", type="copynumber", file="QDNAseq-%s.")
File(s) written: [n=1] '/tmp/RtmpGqEML5/QDNAseq-%s.c9d42fc66a66.copynumber.igv'
- exportBins(<1 samples>, format="igv", type="copynumber", file="QDNAseq-%i.")
File(s) written: [n=1] '/tmp/RtmpGqEML5/QDNAseq-%i.c9d4b73670b.copynumber.igv'
- exportBins(<1 samples>, format="igv", type="copynumber", file="QDNAseq-%03i.")
File(s) written: [n=1] '/tmp/RtmpGqEML5/QDNAseq-%03i.c9d44572090c.copynumber.igv'
- exportBins(<1 samples>, format="igv", type="segments", file="QDNAseq.")
File(s) written: [n=1] '/tmp/RtmpGqEML5/QDNAseq.c9d441b01672.segments.igv'
- exportBins(<1 samples>, format="igv", type="segments", file="QDNAseq-%s.")
File(s) written: [n=1] '/tmp/RtmpGqEML5/QDNAseq-%s.c9d4f91b80f.segments.igv'
- exportBins(<1 samples>, format="igv", type="segments", file="QDNAseq-%i.")
File(s) written: [n=1] '/tmp/RtmpGqEML5/QDNAseq-%i.c9d427cae8c5.segments.igv'
- exportBins(<1 samples>, format="igv", type="segments", file="QDNAseq-%03i.")
File(s) written: [n=1] '/tmp/RtmpGqEML5/QDNAseq-%03i.c9d47a77f1eb.segments.igv'
- exportBins(<1 samples>, format="igv", type="calls", file="QDNAseq.")
File(s) written: [n=1] '/tmp/RtmpGqEML5/QDNAseq.c9d458abba1d.calls.igv'
- exportBins(<1 samples>, format="igv", type="calls", file="QDNAseq-%s.")
File(s) written: [n=1] '/tmp/RtmpGqEML5/QDNAseq-%s.c9d47247f365.calls.igv'
- exportBins(<1 samples>, format="igv", type="calls", file="QDNAseq-%i.")
File(s) written: [n=1] '/tmp/RtmpGqEML5/QDNAseq-%i.c9d451bca680.calls.igv'
- exportBins(<1 samples>, format="igv", type="calls", file="QDNAseq-%03i.")
File(s) written: [n=1] '/tmp/RtmpGqEML5/QDNAseq-%03i.c9d43857476c.calls.igv'
- exportBins(<1 samples>, format="bed", type="copynumber", file="QDNAseq.")
File(s) written: [n=1] '/tmp/RtmpGqEML5/QDNAseq.c9d46a122059.copynumber.bed'
- exportBins(<1 samples>, format="bed", type="copynumber", file="QDNAseq-%s.")
File(s) written: [n=1] '/tmp/RtmpGqEML5/QDNAseq-LGG150.c9d44c09e976.copynumber.bed'
- exportBins(<1 samples>, format="bed", type="copynumber", file="QDNAseq-%i.")
File(s) written: [n=1] '/tmp/RtmpGqEML5/QDNAseq-1.c9d41ebe68fa.copynumber.bed'
- exportBins(<1 samples>, format="bed", type="copynumber", file="QDNAseq-%03i.")
File(s) written: [n=1] '/tmp/RtmpGqEML5/QDNAseq-001.c9d466de04da.copynumber.bed'
- exportBins(<1 samples>, format="bed", type="segments", file="QDNAseq.")
File(s) written: [n=1] '/tmp/RtmpGqEML5/QDNAseq.c9d47a10b8f8.segments.bed'
- exportBins(<1 samples>, format="bed", type="segments", file="QDNAseq-%s.")
File(s) written: [n=1] '/tmp/RtmpGqEML5/QDNAseq-LGG150.c9d45fdfe063.segments.bed'
- exportBins(<1 samples>, format="bed", type="segments", file="QDNAseq-%i.")
File(s) written: [n=1] '/tmp/RtmpGqEML5/QDNAseq-1.c9d46304b4c1.segments.bed'
- exportBins(<1 samples>, format="bed", type="segments", file="QDNAseq-%03i.")
File(s) written: [n=1] '/tmp/RtmpGqEML5/QDNAseq-001.c9d449f71db0.segments.bed'
- exportBins(<1 samples>, format="bed", type="calls", file="QDNAseq.")
File(s) written: [n=1] '/tmp/RtmpGqEML5/QDNAseq.c9d47ebe33bf.calls.bed'
- exportBins(<1 samples>, format="bed", type="calls", file="QDNAseq-%s.")
File(s) written: [n=1] '/tmp/RtmpGqEML5/QDNAseq-LGG150.c9d47937819a.calls.bed'
- exportBins(<1 samples>, format="bed", type="calls", file="QDNAseq-%i.")
File(s) written: [n=1] '/tmp/RtmpGqEML5/QDNAseq-1.c9d42b1de3a2.calls.bed'
- exportBins(<1 samples>, format="bed", type="calls", file="QDNAseq-%03i.")
File(s) written: [n=1] '/tmp/RtmpGqEML5/QDNAseq-001.c9d4374bb6cb.calls.bed'
- exportBins(<1 samples>, format="vcf", type="copynumber", file="QDNAseq.")
File(s) written: [n=1] '/tmp/RtmpGqEML5/QDNAseq.c9d44bcde5c9.copynumber.vcf'
- exportBins(<1 samples>, format="vcf", type="copynumber", file="QDNAseq-%s.")
File(s) written: [n=1] '/tmp/RtmpGqEML5/QDNAseq-LGG150.c9d43aa91600.copynumber.vcf'
- exportBins(<1 samples>, format="vcf", type="copynumber", file="QDNAseq-%i.")
File(s) written: [n=1] '/tmp/RtmpGqEML5/QDNAseq-1.c9d432e37816.copynumber.vcf'
- exportBins(<1 samples>, format="vcf", type="copynumber", file="QDNAseq-%03i.")
File(s) written: [n=1] '/tmp/RtmpGqEML5/QDNAseq-001.c9d473e10673.copynumber.vcf'
- exportBins(<1 samples>, format="vcf", type="segments", file="QDNAseq.")
File(s) written: [n=1] '/tmp/RtmpGqEML5/QDNAseq.c9d43a6ea374.segments.vcf'
- exportBins(<1 samples>, format="vcf", type="segments", file="QDNAseq-%s.")
File(s) written: [n=1] '/tmp/RtmpGqEML5/QDNAseq-LGG150.c9d435ad32a4.segments.vcf'
- exportBins(<1 samples>, format="vcf", type="segments", file="QDNAseq-%i.")
File(s) written: [n=1] '/tmp/RtmpGqEML5/QDNAseq-1.c9d47dd7c883.segments.vcf'
- exportBins(<1 samples>, format="vcf", type="segments", file="QDNAseq-%03i.")
File(s) written: [n=1] '/tmp/RtmpGqEML5/QDNAseq-001.c9d461ad5100.segments.vcf'
- exportBins(<1 samples>, format="vcf", type="calls", file="QDNAseq.")
File(s) written: [n=1] '/tmp/RtmpGqEML5/QDNAseq.c9d439a10919.calls.vcf'
- exportBins(<1 samples>, format="vcf", type="calls", file="QDNAseq-%s.")
File(s) written: [n=1] '/tmp/RtmpGqEML5/QDNAseq-LGG150.c9d47b5c65dd.calls.vcf'
- exportBins(<1 samples>, format="vcf", type="calls", file="QDNAseq-%i.")
File(s) written: [n=1] '/tmp/RtmpGqEML5/QDNAseq-1.c9d46f23cf70.calls.vcf'
- exportBins(<1 samples>, format="vcf", type="calls", file="QDNAseq-%03i.")
File(s) written: [n=1] '/tmp/RtmpGqEML5/QDNAseq-001.c9d41807fb11.calls.vcf'
- exportBins(<1 samples>, format="seg", type="copynumber", file="QDNAseq.")
File(s) written: [n=1] '/tmp/RtmpGqEML5/QDNAseq.c9d433f4256a.copynumber.seg'
- exportBins(<1 samples>, format="seg", type="copynumber", file="QDNAseq-%s.")
File(s) written: [n=1] '/tmp/RtmpGqEML5/QDNAseq-LGG150.c9d461c46ccb.copynumber.seg'
- exportBins(<1 samples>, format="seg", type="copynumber", file="QDNAseq-%i.")
File(s) written: [n=1] '/tmp/RtmpGqEML5/QDNAseq-1.c9d426c2b592.copynumber.seg'
- exportBins(<1 samples>, format="seg", type="copynumber", file="QDNAseq-%03i.")
File(s) written: [n=1] '/tmp/RtmpGqEML5/QDNAseq-001.c9d4391e981f.copynumber.seg'
- exportBins(<1 samples>, format="seg", type="segments", file="QDNAseq.")
File(s) written: [n=1] '/tmp/RtmpGqEML5/QDNAseq.c9d47953885.segments.seg'
- exportBins(<1 samples>, format="seg", type="segments", file="QDNAseq-%s.")
File(s) written: [n=1] '/tmp/RtmpGqEML5/QDNAseq-LGG150.c9d455b1a7a6.segments.seg'
- exportBins(<1 samples>, format="seg", type="segments", file="QDNAseq-%i.")
File(s) written: [n=1] '/tmp/RtmpGqEML5/QDNAseq-1.c9d4275af3e.segments.seg'
- exportBins(<1 samples>, format="seg", type="segments", file="QDNAseq-%03i.")
File(s) written: [n=1] '/tmp/RtmpGqEML5/QDNAseq-001.c9d47c4410b4.segments.seg'
- exportBins(<1 samples>, format="seg", type="calls", file="QDNAseq.")
File(s) written: [n=1] '/tmp/RtmpGqEML5/QDNAseq.c9d458a4d928.calls.seg'
- exportBins(<1 samples>, format="seg", type="calls", file="QDNAseq-%s.")
File(s) written: [n=1] '/tmp/RtmpGqEML5/QDNAseq-LGG150.c9d42eacfe8f.calls.seg'
- exportBins(<1 samples>, format="seg", type="calls", file="QDNAseq-%i.")
File(s) written: [n=1] '/tmp/RtmpGqEML5/QDNAseq-1.c9d45f7c7639.calls.seg'
- exportBins(<1 samples>, format="seg", type="calls", file="QDNAseq-%03i.")
File(s) written: [n=1] '/tmp/RtmpGqEML5/QDNAseq-001.c9d46435c928.calls.seg'
>
> sets <- list(data = data, dataC = dataC, fit = fit, fitC = fitC)
> sets <- lapply(sets, FUN = function(set) {
+ stopifnot(ncol(set) == 1L)
+ name <- sampleNames(set)
+ setA <- set
+ sampleNames(setA) <- sprintf("%sa", name)
+ setB <- set
+ sampleNames(setB) <- sprintf("%sb", name)
+ combine(setA, setB)
+ })
>
> for (name in names(sets)) {
+ set <- sets[[name]]
+ stopifnot(ncol(set) == 2L)
+ formats <- c("tsv", "igv", "bed")
+ if (name == "fitC") formats <- c(formats, "vcf", "seg")
+ for (format in formats) {
+ types <- c("copynumber")
+ if (name %in% c("fit", "fitC")) types <- c(types, "segments")
+ if (name == "fitC") types <- c(types, "calls")
+ for (type in types) {
+ fileext <- sprintf(".%s.%s", type, format)
+ templates <- c("QDNAseq-%s.", "QDNAseq-%i.", "QDNAseq-%03i.")
+ if (ncol(set) == 1L || !(format %in% c("bed", "seg", "vcf"))) {
+ templates <- c("QDNAseq.", templates)
+ }
+ for (template in templates) {
+ file <- tempfile(pattern = template, fileext = fileext)
+ message(sprintf(" - exportBins(<%d samples>, format=\"%s\", type=\"%s\", file=\"%s\")", ncol(set), format, type, template))
+ file <- exportBins(set, file = file, format = format, type = type)
+ message(sprintf(" File(s) written: [n=%d] %s",
+ length(file), paste(sQuote(file), collapse = ", ")))
+ stopifnot(all(file_test("-f", file)))
+ file.remove(file)
+ stopifnot(!any(file_test("-f", file)))
+ }
+ }
+ }
+ }
- exportBins(<2 samples>, format="tsv", type="copynumber", file="QDNAseq.")
File(s) written: [n=1] '/tmp/RtmpGqEML5/QDNAseq.c9d4729947e.copynumber.tsv'
- exportBins(<2 samples>, format="tsv", type="copynumber", file="QDNAseq-%s.")
File(s) written: [n=1] '/tmp/RtmpGqEML5/QDNAseq-%s.c9d43ad3dfde.copynumber.tsv'
- exportBins(<2 samples>, format="tsv", type="copynumber", file="QDNAseq-%i.")
File(s) written: [n=1] '/tmp/RtmpGqEML5/QDNAseq-%i.c9d42c0e85fe.copynumber.tsv'
- exportBins(<2 samples>, format="tsv", type="copynumber", file="QDNAseq-%03i.")
File(s) written: [n=1] '/tmp/RtmpGqEML5/QDNAseq-%03i.c9d46d7efd4a.copynumber.tsv'
- exportBins(<2 samples>, format="igv", type="copynumber", file="QDNAseq.")
File(s) written: [n=1] '/tmp/RtmpGqEML5/QDNAseq.c9d42c273d6f.copynumber.igv'
- exportBins(<2 samples>, format="igv", type="copynumber", file="QDNAseq-%s.")
File(s) written: [n=1] '/tmp/RtmpGqEML5/QDNAseq-%s.c9d44432590e.copynumber.igv'
- exportBins(<2 samples>, format="igv", type="copynumber", file="QDNAseq-%i.")
File(s) written: [n=1] '/tmp/RtmpGqEML5/QDNAseq-%i.c9d44574c91c.copynumber.igv'
- exportBins(<2 samples>, format="igv", type="copynumber", file="QDNAseq-%03i.")
File(s) written: [n=1] '/tmp/RtmpGqEML5/QDNAseq-%03i.c9d4763f70e3.copynumber.igv'
- exportBins(<2 samples>, format="bed", type="copynumber", file="QDNAseq-%s.")
File(s) written: [n=2] '/tmp/RtmpGqEML5/QDNAseq-LGG150a.c9d43f0c83bb.copynumber.bed', '/tmp/RtmpGqEML5/QDNAseq-LGG150b.c9d43f0c83bb.copynumber.bed'
- exportBins(<2 samples>, format="bed", type="copynumber", file="QDNAseq-%i.")
File(s) written: [n=2] '/tmp/RtmpGqEML5/QDNAseq-1.c9d44e9c8a53.copynumber.bed', '/tmp/RtmpGqEML5/QDNAseq-2.c9d44e9c8a53.copynumber.bed'
- exportBins(<2 samples>, format="bed", type="copynumber", file="QDNAseq-%03i.")
File(s) written: [n=2] '/tmp/RtmpGqEML5/QDNAseq-001.c9d473d7777.copynumber.bed', '/tmp/RtmpGqEML5/QDNAseq-002.c9d473d7777.copynumber.bed'
- exportBins(<2 samples>, format="tsv", type="copynumber", file="QDNAseq.")
File(s) written: [n=1] '/tmp/RtmpGqEML5/QDNAseq.c9d4546e2957.copynumber.tsv'
- exportBins(<2 samples>, format="tsv", type="copynumber", file="QDNAseq-%s.")
File(s) written: [n=1] '/tmp/RtmpGqEML5/QDNAseq-%s.c9d4c5c3a0f.copynumber.tsv'
- exportBins(<2 samples>, format="tsv", type="copynumber", file="QDNAseq-%i.")
File(s) written: [n=1] '/tmp/RtmpGqEML5/QDNAseq-%i.c9d47ae7b51f.copynumber.tsv'
- exportBins(<2 samples>, format="tsv", type="copynumber", file="QDNAseq-%03i.")
File(s) written: [n=1] '/tmp/RtmpGqEML5/QDNAseq-%03i.c9d42244543.copynumber.tsv'
- exportBins(<2 samples>, format="igv", type="copynumber", file="QDNAseq.")
File(s) written: [n=1] '/tmp/RtmpGqEML5/QDNAseq.c9d41b3f32ce.copynumber.igv'
- exportBins(<2 samples>, format="igv", type="copynumber", file="QDNAseq-%s.")
File(s) written: [n=1] '/tmp/RtmpGqEML5/QDNAseq-%s.c9d45220805b.copynumber.igv'
- exportBins(<2 samples>, format="igv", type="copynumber", file="QDNAseq-%i.")
File(s) written: [n=1] '/tmp/RtmpGqEML5/QDNAseq-%i.c9d453cb007c.copynumber.igv'
- exportBins(<2 samples>, format="igv", type="copynumber", file="QDNAseq-%03i.")
File(s) written: [n=1] '/tmp/RtmpGqEML5/QDNAseq-%03i.c9d4348cf7de.copynumber.igv'
- exportBins(<2 samples>, format="bed", type="copynumber", file="QDNAseq-%s.")
File(s) written: [n=2] '/tmp/RtmpGqEML5/QDNAseq-LGG150a.c9d412e52ac6.copynumber.bed', '/tmp/RtmpGqEML5/QDNAseq-LGG150b.c9d412e52ac6.copynumber.bed'
- exportBins(<2 samples>, format="bed", type="copynumber", file="QDNAseq-%i.")
File(s) written: [n=2] '/tmp/RtmpGqEML5/QDNAseq-1.c9d435b36db.copynumber.bed', '/tmp/RtmpGqEML5/QDNAseq-2.c9d435b36db.copynumber.bed'
- exportBins(<2 samples>, format="bed", type="copynumber", file="QDNAseq-%03i.")
File(s) written: [n=2] '/tmp/RtmpGqEML5/QDNAseq-001.c9d4596e6595.copynumber.bed', '/tmp/RtmpGqEML5/QDNAseq-002.c9d4596e6595.copynumber.bed'
- exportBins(<2 samples>, format="tsv", type="copynumber", file="QDNAseq.")
File(s) written: [n=1] '/tmp/RtmpGqEML5/QDNAseq.c9d45ecf4711.copynumber.tsv'
- exportBins(<2 samples>, format="tsv", type="copynumber", file="QDNAseq-%s.")
File(s) written: [n=1] '/tmp/RtmpGqEML5/QDNAseq-%s.c9d47a42ddb7.copynumber.tsv'
- exportBins(<2 samples>, format="tsv", type="copynumber", file="QDNAseq-%i.")
File(s) written: [n=1] '/tmp/RtmpGqEML5/QDNAseq-%i.c9d43bea5816.copynumber.tsv'
- exportBins(<2 samples>, format="tsv", type="copynumber", file="QDNAseq-%03i.")
File(s) written: [n=1] '/tmp/RtmpGqEML5/QDNAseq-%03i.c9d4163d2b15.copynumber.tsv'
- exportBins(<2 samples>, format="tsv", type="segments", file="QDNAseq.")
File(s) written: [n=1] '/tmp/RtmpGqEML5/QDNAseq.c9d49d77b1b.segments.tsv'
- exportBins(<2 samples>, format="tsv", type="segments", file="QDNAseq-%s.")
File(s) written: [n=1] '/tmp/RtmpGqEML5/QDNAseq-%s.c9d421d32ea9.segments.tsv'
- exportBins(<2 samples>, format="tsv", type="segments", file="QDNAseq-%i.")
File(s) written: [n=1] '/tmp/RtmpGqEML5/QDNAseq-%i.c9d42f9c6a98.segments.tsv'
- exportBins(<2 samples>, format="tsv", type="segments", file="QDNAseq-%03i.")
File(s) written: [n=1] '/tmp/RtmpGqEML5/QDNAseq-%03i.c9d4461a3993.segments.tsv'
- exportBins(<2 samples>, format="igv", type="copynumber", file="QDNAseq.")
File(s) written: [n=1] '/tmp/RtmpGqEML5/QDNAseq.c9d463ba05d9.copynumber.igv'
- exportBins(<2 samples>, format="igv", type="copynumber", file="QDNAseq-%s.")
File(s) written: [n=1] '/tmp/RtmpGqEML5/QDNAseq-%s.c9d449d61cb5.copynumber.igv'
- exportBins(<2 samples>, format="igv", type="copynumber", file="QDNAseq-%i.")
File(s) written: [n=1] '/tmp/RtmpGqEML5/QDNAseq-%i.c9d47f6d4f2.copynumber.igv'
- exportBins(<2 samples>, format="igv", type="copynumber", file="QDNAseq-%03i.")
File(s) written: [n=1] '/tmp/RtmpGqEML5/QDNAseq-%03i.c9d45e165ff3.copynumber.igv'
- exportBins(<2 samples>, format="igv", type="segments", file="QDNAseq.")
File(s) written: [n=1] '/tmp/RtmpGqEML5/QDNAseq.c9d4ef57ac7.segments.igv'
- exportBins(<2 samples>, format="igv", type="segments", file="QDNAseq-%s.")
File(s) written: [n=1] '/tmp/RtmpGqEML5/QDNAseq-%s.c9d4164fa67d.segments.igv'
- exportBins(<2 samples>, format="igv", type="segments", file="QDNAseq-%i.")
File(s) written: [n=1] '/tmp/RtmpGqEML5/QDNAseq-%i.c9d4473b63fc.segments.igv'
- exportBins(<2 samples>, format="igv", type="segments", file="QDNAseq-%03i.")
File(s) written: [n=1] '/tmp/RtmpGqEML5/QDNAseq-%03i.c9d4c2159ed.segments.igv'
- exportBins(<2 samples>, format="bed", type="copynumber", file="QDNAseq-%s.")
File(s) written: [n=2] '/tmp/RtmpGqEML5/QDNAseq-LGG150a.c9d46196dcd3.copynumber.bed', '/tmp/RtmpGqEML5/QDNAseq-LGG150b.c9d46196dcd3.copynumber.bed'
- exportBins(<2 samples>, format="bed", type="copynumber", file="QDNAseq-%i.")
File(s) written: [n=2] '/tmp/RtmpGqEML5/QDNAseq-1.c9d4777bd2b2.copynumber.bed', '/tmp/RtmpGqEML5/QDNAseq-2.c9d4777bd2b2.copynumber.bed'
- exportBins(<2 samples>, format="bed", type="copynumber", file="QDNAseq-%03i.")
File(s) written: [n=2] '/tmp/RtmpGqEML5/QDNAseq-001.c9d46245e166.copynumber.bed', '/tmp/RtmpGqEML5/QDNAseq-002.c9d46245e166.copynumber.bed'
- exportBins(<2 samples>, format="bed", type="segments", file="QDNAseq-%s.")
File(s) written: [n=2] '/tmp/RtmpGqEML5/QDNAseq-LGG150a.c9d459d121f1.segments.bed', '/tmp/RtmpGqEML5/QDNAseq-LGG150b.c9d459d121f1.segments.bed'
- exportBins(<2 samples>, format="bed", type="segments", file="QDNAseq-%i.")
File(s) written: [n=2] '/tmp/RtmpGqEML5/QDNAseq-1.c9d4310b8348.segments.bed', '/tmp/RtmpGqEML5/QDNAseq-2.c9d4310b8348.segments.bed'
- exportBins(<2 samples>, format="bed", type="segments", file="QDNAseq-%03i.")
File(s) written: [n=2] '/tmp/RtmpGqEML5/QDNAseq-001.c9d46ad8051f.segments.bed', '/tmp/RtmpGqEML5/QDNAseq-002.c9d46ad8051f.segments.bed'
- exportBins(<2 samples>, format="tsv", type="copynumber", file="QDNAseq.")
File(s) written: [n=1] '/tmp/RtmpGqEML5/QDNAseq.c9d4c386d06.copynumber.tsv'
- exportBins(<2 samples>, format="tsv", type="copynumber", file="QDNAseq-%s.")
File(s) written: [n=1] '/tmp/RtmpGqEML5/QDNAseq-%s.c9d44c7dab2e.copynumber.tsv'
- exportBins(<2 samples>, format="tsv", type="copynumber", file="QDNAseq-%i.")
File(s) written: [n=1] '/tmp/RtmpGqEML5/QDNAseq-%i.c9d44e71803d.copynumber.tsv'
- exportBins(<2 samples>, format="tsv", type="copynumber", file="QDNAseq-%03i.")
File(s) written: [n=1] '/tmp/RtmpGqEML5/QDNAseq-%03i.c9d47d9a4d06.copynumber.tsv'
- exportBins(<2 samples>, format="tsv", type="segments", file="QDNAseq.")
File(s) written: [n=1] '/tmp/RtmpGqEML5/QDNAseq.c9d41d370556.segments.tsv'
- exportBins(<2 samples>, format="tsv", type="segments", file="QDNAseq-%s.")
File(s) written: [n=1] '/tmp/RtmpGqEML5/QDNAseq-%s.c9d473f6016.segments.tsv'
- exportBins(<2 samples>, format="tsv", type="segments", file="QDNAseq-%i.")
File(s) written: [n=1] '/tmp/RtmpGqEML5/QDNAseq-%i.c9d451bd4811.segments.tsv'
- exportBins(<2 samples>, format="tsv", type="segments", file="QDNAseq-%03i.")
File(s) written: [n=1] '/tmp/RtmpGqEML5/QDNAseq-%03i.c9d461c67e03.segments.tsv'
- exportBins(<2 samples>, format="tsv", type="calls", file="QDNAseq.")
File(s) written: [n=1] '/tmp/RtmpGqEML5/QDNAseq.c9d42e7b291b.calls.tsv'
- exportBins(<2 samples>, format="tsv", type="calls", file="QDNAseq-%s.")
File(s) written: [n=1] '/tmp/RtmpGqEML5/QDNAseq-%s.c9d417c7c374.calls.tsv'
- exportBins(<2 samples>, format="tsv", type="calls", file="QDNAseq-%i.")
File(s) written: [n=1] '/tmp/RtmpGqEML5/QDNAseq-%i.c9d43bf100de.calls.tsv'
- exportBins(<2 samples>, format="tsv", type="calls", file="QDNAseq-%03i.")
File(s) written: [n=1] '/tmp/RtmpGqEML5/QDNAseq-%03i.c9d44b700d90.calls.tsv'
- exportBins(<2 samples>, format="igv", type="copynumber", file="QDNAseq.")
File(s) written: [n=1] '/tmp/RtmpGqEML5/QDNAseq.c9d4298a8fa1.copynumber.igv'
- exportBins(<2 samples>, format="igv", type="copynumber", file="QDNAseq-%s.")
File(s) written: [n=1] '/tmp/RtmpGqEML5/QDNAseq-%s.c9d447dba855.copynumber.igv'
- exportBins(<2 samples>, format="igv", type="copynumber", file="QDNAseq-%i.")
File(s) written: [n=1] '/tmp/RtmpGqEML5/QDNAseq-%i.c9d42608894e.copynumber.igv'
- exportBins(<2 samples>, format="igv", type="copynumber", file="QDNAseq-%03i.")
File(s) written: [n=1] '/tmp/RtmpGqEML5/QDNAseq-%03i.c9d47a6e7363.copynumber.igv'
- exportBins(<2 samples>, format="igv", type="segments", file="QDNAseq.")
File(s) written: [n=1] '/tmp/RtmpGqEML5/QDNAseq.c9d46959a760.segments.igv'
- exportBins(<2 samples>, format="igv", type="segments", file="QDNAseq-%s.")
File(s) written: [n=1] '/tmp/RtmpGqEML5/QDNAseq-%s.c9d47cfbc5a8.segments.igv'
- exportBins(<2 samples>, format="igv", type="segments", file="QDNAseq-%i.")
File(s) written: [n=1] '/tmp/RtmpGqEML5/QDNAseq-%i.c9d4756dd8b2.segments.igv'
- exportBins(<2 samples>, format="igv", type="segments", file="QDNAseq-%03i.")
File(s) written: [n=1] '/tmp/RtmpGqEML5/QDNAseq-%03i.c9d47eadca58.segments.igv'
- exportBins(<2 samples>, format="igv", type="calls", file="QDNAseq.")
File(s) written: [n=1] '/tmp/RtmpGqEML5/QDNAseq.c9d443bf9861.calls.igv'
- exportBins(<2 samples>, format="igv", type="calls", file="QDNAseq-%s.")
File(s) written: [n=1] '/tmp/RtmpGqEML5/QDNAseq-%s.c9d457ad2b06.calls.igv'
- exportBins(<2 samples>, format="igv", type="calls", file="QDNAseq-%i.")
File(s) written: [n=1] '/tmp/RtmpGqEML5/QDNAseq-%i.c9d429e3c3e2.calls.igv'
- exportBins(<2 samples>, format="igv", type="calls", file="QDNAseq-%03i.")
File(s) written: [n=1] '/tmp/RtmpGqEML5/QDNAseq-%03i.c9d428513fea.calls.igv'
- exportBins(<2 samples>, format="bed", type="copynumber", file="QDNAseq-%s.")
File(s) written: [n=2] '/tmp/RtmpGqEML5/QDNAseq-LGG150a.c9d46e3b3053.copynumber.bed', '/tmp/RtmpGqEML5/QDNAseq-LGG150b.c9d46e3b3053.copynumber.bed'
- exportBins(<2 samples>, format="bed", type="copynumber", file="QDNAseq-%i.")
File(s) written: [n=2] '/tmp/RtmpGqEML5/QDNAseq-1.c9d46fe1d1ae.copynumber.bed', '/tmp/RtmpGqEML5/QDNAseq-2.c9d46fe1d1ae.copynumber.bed'
- exportBins(<2 samples>, format="bed", type="copynumber", file="QDNAseq-%03i.")
File(s) written: [n=2] '/tmp/RtmpGqEML5/QDNAseq-001.c9d4528d2fe4.copynumber.bed', '/tmp/RtmpGqEML5/QDNAseq-002.c9d4528d2fe4.copynumber.bed'
- exportBins(<2 samples>, format="bed", type="segments", file="QDNAseq-%s.")
File(s) written: [n=2] '/tmp/RtmpGqEML5/QDNAseq-LGG150a.c9d433434c13.segments.bed', '/tmp/RtmpGqEML5/QDNAseq-LGG150b.c9d433434c13.segments.bed'
- exportBins(<2 samples>, format="bed", type="segments", file="QDNAseq-%i.")
File(s) written: [n=2] '/tmp/RtmpGqEML5/QDNAseq-1.c9d47378db0.segments.bed', '/tmp/RtmpGqEML5/QDNAseq-2.c9d47378db0.segments.bed'
- exportBins(<2 samples>, format="bed", type="segments", file="QDNAseq-%03i.")
File(s) written: [n=2] '/tmp/RtmpGqEML5/QDNAseq-001.c9d450372183.segments.bed', '/tmp/RtmpGqEML5/QDNAseq-002.c9d450372183.segments.bed'
- exportBins(<2 samples>, format="bed", type="calls", file="QDNAseq-%s.")
File(s) written: [n=2] '/tmp/RtmpGqEML5/QDNAseq-LGG150a.c9d453794899.calls.bed', '/tmp/RtmpGqEML5/QDNAseq-LGG150b.c9d453794899.calls.bed'
- exportBins(<2 samples>, format="bed", type="calls", file="QDNAseq-%i.")
File(s) written: [n=2] '/tmp/RtmpGqEML5/QDNAseq-1.c9d43f8d5f9f.calls.bed', '/tmp/RtmpGqEML5/QDNAseq-2.c9d43f8d5f9f.calls.bed'
- exportBins(<2 samples>, format="bed", type="calls", file="QDNAseq-%03i.")
File(s) written: [n=2] '/tmp/RtmpGqEML5/QDNAseq-001.c9d45a80e051.calls.bed', '/tmp/RtmpGqEML5/QDNAseq-002.c9d45a80e051.calls.bed'
- exportBins(<2 samples>, format="vcf", type="copynumber", file="QDNAseq-%s.")
File(s) written: [n=2] '/tmp/RtmpGqEML5/QDNAseq-LGG150a.c9d443071442.copynumber.vcf', '/tmp/RtmpGqEML5/QDNAseq-LGG150b.c9d443071442.copynumber.vcf'
- exportBins(<2 samples>, format="vcf", type="copynumber", file="QDNAseq-%i.")
File(s) written: [n=2] '/tmp/RtmpGqEML5/QDNAseq-1.c9d45c31b6f.copynumber.vcf', '/tmp/RtmpGqEML5/QDNAseq-2.c9d45c31b6f.copynumber.vcf'
- exportBins(<2 samples>, format="vcf", type="copynumber", file="QDNAseq-%03i.")
File(s) written: [n=2] '/tmp/RtmpGqEML5/QDNAseq-001.c9d44c3e175d.copynumber.vcf', '/tmp/RtmpGqEML5/QDNAseq-002.c9d44c3e175d.copynumber.vcf'
- exportBins(<2 samples>, format="vcf", type="segments", file="QDNAseq-%s.")
File(s) written: [n=2] '/tmp/RtmpGqEML5/QDNAseq-LGG150a.c9d47001c6.segments.vcf', '/tmp/RtmpGqEML5/QDNAseq-LGG150b.c9d47001c6.segments.vcf'
- exportBins(<2 samples>, format="vcf", type="segments", file="QDNAseq-%i.")
File(s) written: [n=2] '/tmp/RtmpGqEML5/QDNAseq-1.c9d439846e63.segments.vcf', '/tmp/RtmpGqEML5/QDNAseq-2.c9d439846e63.segments.vcf'
- exportBins(<2 samples>, format="vcf", type="segments", file="QDNAseq-%03i.")
File(s) written: [n=2] '/tmp/RtmpGqEML5/QDNAseq-001.c9d4256b4315.segments.vcf', '/tmp/RtmpGqEML5/QDNAseq-002.c9d4256b4315.segments.vcf'
- exportBins(<2 samples>, format="vcf", type="calls", file="QDNAseq-%s.")
File(s) written: [n=2] '/tmp/RtmpGqEML5/QDNAseq-LGG150a.c9d425012ae4.calls.vcf', '/tmp/RtmpGqEML5/QDNAseq-LGG150b.c9d425012ae4.calls.vcf'
- exportBins(<2 samples>, format="vcf", type="calls", file="QDNAseq-%i.")
File(s) written: [n=2] '/tmp/RtmpGqEML5/QDNAseq-1.c9d46fa6f1b6.calls.vcf', '/tmp/RtmpGqEML5/QDNAseq-2.c9d46fa6f1b6.calls.vcf'
- exportBins(<2 samples>, format="vcf", type="calls", file="QDNAseq-%03i.")
File(s) written: [n=2] '/tmp/RtmpGqEML5/QDNAseq-001.c9d439471cfe.calls.vcf', '/tmp/RtmpGqEML5/QDNAseq-002.c9d439471cfe.calls.vcf'
- exportBins(<2 samples>, format="seg", type="copynumber", file="QDNAseq-%s.")
File(s) written: [n=2] '/tmp/RtmpGqEML5/QDNAseq-LGG150a.c9d46bc08512.copynumber.seg', '/tmp/RtmpGqEML5/QDNAseq-LGG150b.c9d46bc08512.copynumber.seg'
- exportBins(<2 samples>, format="seg", type="copynumber", file="QDNAseq-%i.")
File(s) written: [n=2] '/tmp/RtmpGqEML5/QDNAseq-1.c9d42c609802.copynumber.seg', '/tmp/RtmpGqEML5/QDNAseq-2.c9d42c609802.copynumber.seg'
- exportBins(<2 samples>, format="seg", type="copynumber", file="QDNAseq-%03i.")
File(s) written: [n=2] '/tmp/RtmpGqEML5/QDNAseq-001.c9d4799bc210.copynumber.seg', '/tmp/RtmpGqEML5/QDNAseq-002.c9d4799bc210.copynumber.seg'
- exportBins(<2 samples>, format="seg", type="segments", file="QDNAseq-%s.")
File(s) written: [n=2] '/tmp/RtmpGqEML5/QDNAseq-LGG150a.c9d460e1e6cf.segments.seg', '/tmp/RtmpGqEML5/QDNAseq-LGG150b.c9d460e1e6cf.segments.seg'
- exportBins(<2 samples>, format="seg", type="segments", file="QDNAseq-%i.")
File(s) written: [n=2] '/tmp/RtmpGqEML5/QDNAseq-1.c9d4ef851ba.segments.seg', '/tmp/RtmpGqEML5/QDNAseq-2.c9d4ef851ba.segments.seg'
- exportBins(<2 samples>, format="seg", type="segments", file="QDNAseq-%03i.")
File(s) written: [n=2] '/tmp/RtmpGqEML5/QDNAseq-001.c9d450bd9203.segments.seg', '/tmp/RtmpGqEML5/QDNAseq-002.c9d450bd9203.segments.seg'
- exportBins(<2 samples>, format="seg", type="calls", file="QDNAseq-%s.")
File(s) written: [n=2] '/tmp/RtmpGqEML5/QDNAseq-LGG150a.c9d44dbd2c5e.calls.seg', '/tmp/RtmpGqEML5/QDNAseq-LGG150b.c9d44dbd2c5e.calls.seg'
- exportBins(<2 samples>, format="seg", type="calls", file="QDNAseq-%i.")
File(s) written: [n=2] '/tmp/RtmpGqEML5/QDNAseq-1.c9d43eabf731.calls.seg', '/tmp/RtmpGqEML5/QDNAseq-2.c9d43eabf731.calls.seg'
- exportBins(<2 samples>, format="seg", type="calls", file="QDNAseq-%03i.")
File(s) written: [n=2] '/tmp/RtmpGqEML5/QDNAseq-001.c9d4bf1d21c.calls.seg', '/tmp/RtmpGqEML5/QDNAseq-002.c9d4bf1d21c.calls.seg'
>
> message("* exportBins() ... done")
* exportBins() ... done
>
> proc.time()
user system elapsed
95.612 4.732 100.773
QDNAseq.Rcheck/QDNAseq-Ex.timings
| name | user | system | elapsed | |
| addPhenodata | 0.222 | 0.008 | 0.231 | |
| applyFilters | 0.348 | 0.008 | 0.356 | |
| binReadCounts | 0 | 0 | 0 | |
| callBins | 23.297 | 0.344 | 23.714 | |
| compareToReference | 4.058 | 0.064 | 4.139 | |
| correctBins | 3.595 | 0.027 | 3.627 | |
| createBins | 0.001 | 0.000 | 0.001 | |
| estimateCorrection | 3.823 | 0.021 | 3.898 | |
| exportBins | 0.000 | 0.000 | 0.001 | |
| frequencyPlot | 22.681 | 0.185 | 22.935 | |
| getBinAnnotations | 0 | 0 | 0 | |
| highlightFilters | 0.838 | 0.084 | 0.926 | |
| isobarPlot | 1.485 | 0.031 | 1.521 | |
| makeCgh | 3.388 | 0.032 | 3.421 | |
| noisePlot | 3.151 | 0.020 | 3.173 | |
| normalizeBins | 3.963 | 0.030 | 4.003 | |
| normalizeSegmentedBins | 8.592 | 0.056 | 8.655 | |
| plot | 4.686 | 0.087 | 4.780 | |
| poolRuns | 0.224 | 0.002 | 0.226 | |
| segmentBins | 9.575 | 0.037 | 9.642 | |
| smoothOutlierBins | 3.984 | 0.025 | 4.016 | |