| Back to Multiple platform build/check report for BioC 3.14 |
|
This page was generated on 2022-04-13 12:08:34 -0400 (Wed, 13 Apr 2022).
| Hostname | OS | Arch (*) | R version | Installed pkgs |
|---|---|---|---|---|
| nebbiolo2 | Linux (Ubuntu 20.04.4 LTS) | x86_64 | 4.1.3 (2022-03-10) -- "One Push-Up" | 4324 |
| tokay2 | Windows Server 2012 R2 Standard | x64 | 4.1.3 (2022-03-10) -- "One Push-Up" | 4077 |
| machv2 | macOS 10.14.6 Mojave | x86_64 | 4.1.3 (2022-03-10) -- "One Push-Up" | 4137 |
| Click on any hostname to see more info about the system (e.g. compilers) (*) as reported by 'uname -p', except on Windows and Mac OS X | ||||
|
To the developers/maintainers of the ProteoMM package: - Please allow up to 24 hours (and sometimes 48 hours) for your latest push to git@git.bioconductor.org:packages/ProteoMM.git to reflect on this report. See How and When does the builder pull? When will my changes propagate? for more information. - Make sure to use the following settings in order to reproduce any error or warning you see on this page. |
| Package 1477/2083 | Hostname | OS / Arch | INSTALL | BUILD | CHECK | BUILD BIN | ||||||||
| ProteoMM 1.12.0 (landing page) Yuliya V Karpievitch
| nebbiolo2 | Linux (Ubuntu 20.04.4 LTS) / x86_64 | OK | OK | OK | |||||||||
| tokay2 | Windows Server 2012 R2 Standard / x64 | OK | OK | OK | OK | |||||||||
| machv2 | macOS 10.14.6 Mojave / x86_64 | OK | OK | OK | OK | |||||||||
| Package: ProteoMM |
| Version: 1.12.0 |
| Command: /Library/Frameworks/R.framework/Resources/bin/R CMD check --install=check:ProteoMM.install-out.txt --library=/Library/Frameworks/R.framework/Resources/library --no-vignettes --timings ProteoMM_1.12.0.tar.gz |
| StartedAt: 2022-04-12 17:03:49 -0400 (Tue, 12 Apr 2022) |
| EndedAt: 2022-04-12 17:07:07 -0400 (Tue, 12 Apr 2022) |
| EllapsedTime: 197.8 seconds |
| RetCode: 0 |
| Status: OK |
| CheckDir: ProteoMM.Rcheck |
| Warnings: 0 |
##############################################################################
##############################################################################
###
### Running command:
###
### /Library/Frameworks/R.framework/Resources/bin/R CMD check --install=check:ProteoMM.install-out.txt --library=/Library/Frameworks/R.framework/Resources/library --no-vignettes --timings ProteoMM_1.12.0.tar.gz
###
##############################################################################
##############################################################################
* using log directory ‘/Users/biocbuild/bbs-3.14-bioc/meat/ProteoMM.Rcheck’
* using R version 4.1.3 (2022-03-10)
* using platform: x86_64-apple-darwin17.0 (64-bit)
* using session charset: UTF-8
* using option ‘--no-vignettes’
* checking for file ‘ProteoMM/DESCRIPTION’ ... OK
* this is package ‘ProteoMM’ version ‘1.12.0’
* package encoding: UTF-8
* checking package namespace information ... OK
* checking package dependencies ... OK
* checking if this is a source package ... OK
* checking if there is a namespace ... OK
* checking for hidden files and directories ... OK
* checking for portable file names ... OK
* checking for sufficient/correct file permissions ... OK
* checking whether package ‘ProteoMM’ can be installed ... OK
* checking installed package size ... OK
* checking package directory ... OK
* checking ‘build’ directory ... OK
* checking DESCRIPTION meta-information ... NOTE
License components which are templates and need '+ file LICENSE':
MIT
* checking top-level files ... OK
* checking for left-over files ... OK
* checking index information ... OK
* checking package subdirectories ... OK
* checking R files for non-ASCII characters ... OK
* checking R files for syntax errors ... OK
* checking whether the package can be loaded ... OK
* checking whether the package can be loaded with stated dependencies ... OK
* checking whether the package can be unloaded cleanly ... OK
* checking whether the namespace can be loaded with stated dependencies ... OK
* checking whether the namespace can be unloaded cleanly ... OK
* checking dependencies in R code ... OK
* checking S3 generic/method consistency ... OK
* checking replacement functions ... OK
* checking foreign function calls ... OK
* checking R code for possible problems ... OK
* checking Rd files ... OK
* checking Rd metadata ... OK
* checking Rd cross-references ... OK
* checking for missing documentation entries ... OK
* checking for code/documentation mismatches ... OK
* checking Rd \usage sections ... OK
* checking Rd contents ... OK
* checking for unstated dependencies in examples ... OK
* checking contents of ‘data’ directory ... OK
* checking data for non-ASCII characters ... OK
* checking LazyData ... OK
* checking data for ASCII and uncompressed saves ... OK
* checking files in ‘vignettes’ ... OK
* checking examples ... OK
Examples with CPU (user + system) or elapsed time > 5s
user system elapsed
prot_level_multi_part 37.640 0.180 37.863
prot_level_multiMat_PresAbs 12.828 0.125 12.962
subset_proteins 12.542 0.118 12.726
peptideLevel_PresAbsDE 9.982 0.092 10.084
get_presAbs_prots 9.677 0.091 9.817
plot_volcano_wLab 8.106 0.072 8.234
MBimpute 7.820 0.182 8.027
plot_volcano 7.924 0.058 7.991
peptideLevel_DE 7.637 0.075 7.800
eig_norm1 6.136 0.102 6.242
eig_norm2 5.387 0.057 5.451
plot_3_pep_trends_NOfile 5.310 0.042 5.355
* checking for unstated dependencies in vignettes ... OK
* checking package vignettes in ‘inst/doc’ ... OK
* checking running R code from vignettes ... SKIPPED
* checking re-building of vignette outputs ... SKIPPED
* checking PDF version of manual ... OK
* DONE
Status: 1 NOTE
See
‘/Users/biocbuild/bbs-3.14-bioc/meat/ProteoMM.Rcheck/00check.log’
for details.
ProteoMM.Rcheck/00install.out
############################################################################## ############################################################################## ### ### Running command: ### ### /Library/Frameworks/R.framework/Resources/bin/R CMD INSTALL ProteoMM ### ############################################################################## ############################################################################## * installing to library ‘/Library/Frameworks/R.framework/Versions/4.1/Resources/library’ * installing *source* package ‘ProteoMM’ ... ** using staged installation ** R ** data *** moving datasets to lazyload DB ** byte-compile and prepare package for lazy loading ** help *** installing help indices ** building package indices ** installing vignettes ** testing if installed package can be loaded from temporary location ** testing if installed package can be loaded from final location ** testing if installed package keeps a record of temporary installation path * DONE (ProteoMM)
ProteoMM.Rcheck/ProteoMM-Ex.timings
| name | user | system | elapsed | |
| MBimpute | 7.820 | 0.182 | 8.027 | |
| convert_log2 | 0.007 | 0.002 | 0.008 | |
| eig_norm1 | 6.136 | 0.102 | 6.242 | |
| eig_norm2 | 5.387 | 0.057 | 5.451 | |
| eigen_pi | 0.018 | 0.004 | 0.021 | |
| g.test | 0.004 | 0.000 | 0.004 | |
| get_presAbs_prots | 9.677 | 0.091 | 9.817 | |
| makeLMFormula | 0.001 | 0.000 | 0.001 | |
| make_intencities | 0.009 | 0.002 | 0.012 | |
| make_meta | 0.009 | 0.002 | 0.012 | |
| peptideLevel_DE | 7.637 | 0.075 | 7.800 | |
| peptideLevel_PresAbsDE | 9.982 | 0.092 | 10.084 | |
| plot_3_pep_trends_NOfile | 5.310 | 0.042 | 5.355 | |
| plot_volcano | 7.924 | 0.058 | 7.991 | |
| plot_volcano_wLab | 8.106 | 0.072 | 8.234 | |
| prot_level_multiMat_PresAbs | 12.828 | 0.125 | 12.962 | |
| prot_level_multi_part | 37.640 | 0.180 | 37.863 | |
| subset_proteins | 12.542 | 0.118 | 12.726 | |