| Back to Multiple platform build/check report for BioC 3.14 | 
 | 
This page was generated on 2022-04-13 12:05:46 -0400 (Wed, 13 Apr 2022).
| Hostname | OS | Arch (*) | R version | Installed pkgs | 
|---|---|---|---|---|
| nebbiolo2 | Linux (Ubuntu 20.04.4 LTS) | x86_64 | 4.1.3 (2022-03-10) -- "One Push-Up" | 4324 | 
| tokay2 | Windows Server 2012 R2 Standard | x64 | 4.1.3 (2022-03-10) -- "One Push-Up" | 4077 | 
| machv2 | macOS 10.14.6 Mojave | x86_64 | 4.1.3 (2022-03-10) -- "One Push-Up" | 4137 | 
| Click on any hostname to see more info about the system (e.g. compilers) (*) as reported by 'uname -p', except on Windows and Mac OS X | ||||
| To the developers/maintainers of the PrecisionTrialDrawer package: - Please allow up to 24 hours (and sometimes 48 hours) for your latest push to git@git.bioconductor.org:packages/PrecisionTrialDrawer.git to reflect on this report. See How and When does the builder pull? When will my changes propagate? for more information. - Make sure to use the following settings in order to reproduce any error or warning you see on this page. | 
| Package 1451/2083 | Hostname | OS / Arch | INSTALL | BUILD | CHECK | BUILD BIN | ||||||||
| PrecisionTrialDrawer 1.10.0  (landing page) Giorgio Melloni 
 | nebbiolo2 | Linux (Ubuntu 20.04.4 LTS) / x86_64 | OK | OK | OK |  | ||||||||
| tokay2 | Windows Server 2012 R2 Standard / x64 | OK | OK | OK | OK |  | ||||||||
| machv2 | macOS 10.14.6 Mojave / x86_64 | OK | OK | OK | OK |  | ||||||||
| Package: PrecisionTrialDrawer | 
| Version: 1.10.0 | 
| Command: /home/biocbuild/bbs-3.14-bioc/R/bin/R CMD check --install=check:PrecisionTrialDrawer.install-out.txt --library=/home/biocbuild/bbs-3.14-bioc/R/library --no-vignettes --timings PrecisionTrialDrawer_1.10.0.tar.gz | 
| StartedAt: 2022-04-12 08:47:31 -0400 (Tue, 12 Apr 2022) | 
| EndedAt: 2022-04-12 08:51:40 -0400 (Tue, 12 Apr 2022) | 
| EllapsedTime: 249.2 seconds | 
| RetCode: 0 | 
| Status: OK | 
| CheckDir: PrecisionTrialDrawer.Rcheck | 
| Warnings: 0 | 
##############################################################################
##############################################################################
###
### Running command:
###
###   /home/biocbuild/bbs-3.14-bioc/R/bin/R CMD check --install=check:PrecisionTrialDrawer.install-out.txt --library=/home/biocbuild/bbs-3.14-bioc/R/library --no-vignettes --timings PrecisionTrialDrawer_1.10.0.tar.gz
###
##############################################################################
##############################################################################
* using log directory ‘/home/biocbuild/bbs-3.14-bioc/meat/PrecisionTrialDrawer.Rcheck’
* using R version 4.1.3 (2022-03-10)
* using platform: x86_64-pc-linux-gnu (64-bit)
* using session charset: UTF-8
* using option ‘--no-vignettes’
* checking for file ‘PrecisionTrialDrawer/DESCRIPTION’ ... OK
* checking extension type ... Package
* this is package ‘PrecisionTrialDrawer’ version ‘1.10.0’
* checking package namespace information ... OK
* checking package dependencies ... OK
* checking if this is a source package ... OK
* checking if there is a namespace ... OK
* checking for hidden files and directories ... OK
* checking for portable file names ... OK
* checking for sufficient/correct file permissions ... OK
* checking whether package ‘PrecisionTrialDrawer’ can be installed ... OK
* checking installed package size ... OK
* checking package directory ... OK
* checking ‘build’ directory ... OK
* checking DESCRIPTION meta-information ... OK
* checking top-level files ... OK
* checking for left-over files ... OK
* checking index information ... OK
* checking package subdirectories ... OK
* checking R files for non-ASCII characters ... OK
* checking R files for syntax errors ... OK
* checking whether the package can be loaded ... OK
* checking whether the package can be loaded with stated dependencies ... OK
* checking whether the package can be unloaded cleanly ... OK
* checking whether the namespace can be loaded with stated dependencies ... OK
* checking whether the namespace can be unloaded cleanly ... OK
* checking dependencies in R code ... OK
* checking S3 generic/method consistency ... OK
* checking replacement functions ... OK
* checking foreign function calls ... OK
* checking R code for possible problems ... OK
* checking Rd files ... OK
* checking Rd metadata ... OK
* checking Rd cross-references ... OK
* checking for missing documentation entries ... OK
* checking for code/documentation mismatches ... OK
* checking Rd \usage sections ... OK
* checking Rd contents ... OK
* checking for unstated dependencies in examples ... OK
* checking contents of ‘data’ directory ... OK
* checking data for non-ASCII characters ... OK
* checking data for ASCII and uncompressed saves ... OK
* checking files in ‘vignettes’ ... OK
* checking examples ... OK
Examples with CPU (user + system) or elapsed time > 5s
                user system elapsed
newCancerPanel 4.648  0.308  33.926
panelDesigner  2.563  0.180  60.114
* checking for unstated dependencies in vignettes ... OK
* checking package vignettes in ‘inst/doc’ ... OK
* checking running R code from vignettes ... SKIPPED
* checking re-building of vignette outputs ... SKIPPED
* checking PDF version of manual ... OK
* DONE
Status: OK
PrecisionTrialDrawer.Rcheck/00install.out
############################################################################## ############################################################################## ### ### Running command: ### ### /home/biocbuild/bbs-3.14-bioc/R/bin/R CMD INSTALL PrecisionTrialDrawer ### ############################################################################## ############################################################################## * installing to library ‘/home/biocbuild/bbs-3.14-bioc/R/library’ * installing *source* package ‘PrecisionTrialDrawer’ ... ** using staged installation ** R ** data ** inst ** byte-compile and prepare package for lazy loading Creating a generic function for ‘toJSON’ from package ‘jsonlite’ in package ‘googleVis’ ** help *** installing help indices ** building package indices ** installing vignettes ** testing if installed package can be loaded from temporary location Creating a generic function for ‘toJSON’ from package ‘jsonlite’ in package ‘googleVis’ ** testing if installed package can be loaded from final location Creating a generic function for ‘toJSON’ from package ‘jsonlite’ in package ‘googleVis’ ** testing if installed package keeps a record of temporary installation path * DONE (PrecisionTrialDrawer)
PrecisionTrialDrawer.Rcheck/PrecisionTrialDrawer-Ex.timings
| name | user | system | elapsed | |
| CancerPanel-class | 0.002 | 0.000 | 0.001 | |
| PrecisionTrialDrawer-package | 0.184 | 0.056 | 0.239 | |
| appendRepo | 0.879 | 0.135 | 1.015 | |
| coocMutexPlot | 1.363 | 0.119 | 1.483 | |
| coveragePlot | 0.159 | 0.012 | 0.170 | |
| coverageStackPlot | 0.188 | 0.012 | 0.200 | |
| cpArguments | 0.012 | 0.000 | 0.012 | |
| cpData | 0.014 | 0.000 | 0.014 | |
| cpDataSubset | 0.004 | 0.003 | 0.008 | |
| cpDesign | 0.013 | 0.004 | 0.017 | |
| cpFreq | 0.175 | 0.025 | 0.199 | |
| cpObj | 0.140 | 0.011 | 0.152 | |
| cpObj2 | 0.031 | 0.000 | 0.031 | |
| dataExtractor | 0.323 | 0.000 | 0.324 | |
| filterFusions | 0.331 | 0.007 | 0.338 | |
| filterMutations | 0.763 | 0.016 | 0.778 | |
| getAlterations | 0.221 | 0.000 | 0.586 | |
| newCancerPanel | 4.648 | 0.308 | 33.926 | |
| panelDesigner | 2.563 | 0.180 | 60.114 | |
| panelOptimizer | 0 | 0 | 0 | |
| panelexample | 0.005 | 0.000 | 0.005 | |
| propPowerSampleSize | 0.603 | 0.040 | 0.643 | |
| saturationPlot | 1.194 | 0.044 | 1.237 | |
| showCancerStudy | 0.024 | 0.003 | 0.084 | |
| showTumorType | 0.051 | 0.003 | 0.091 | |
| subsetAlterations | 0.422 | 0.036 | 0.459 | |
| survPowerSampleSize | 0.463 | 0.024 | 0.487 | |
| survPowerSampleSize1Arm | 0.498 | 0.040 | 0.538 | |