| Back to Multiple platform build/check report for BioC 3.14 |
|
This page was generated on 2022-04-13 12:07:07 -0400 (Wed, 13 Apr 2022).
| Hostname | OS | Arch (*) | R version | Installed pkgs |
|---|---|---|---|---|
| nebbiolo2 | Linux (Ubuntu 20.04.4 LTS) | x86_64 | 4.1.3 (2022-03-10) -- "One Push-Up" | 4324 |
| tokay2 | Windows Server 2012 R2 Standard | x64 | 4.1.3 (2022-03-10) -- "One Push-Up" | 4077 |
| machv2 | macOS 10.14.6 Mojave | x86_64 | 4.1.3 (2022-03-10) -- "One Push-Up" | 4137 |
| Click on any hostname to see more info about the system (e.g. compilers) (*) as reported by 'uname -p', except on Windows and Mac OS X | ||||
|
To the developers/maintainers of the PREDA package: - Please allow up to 24 hours (and sometimes 48 hours) for your latest push to git@git.bioconductor.org:packages/PREDA.git to reflect on this report. See How and When does the builder pull? When will my changes propagate? for more information. - Make sure to use the following settings in order to reproduce any error or warning you see on this page. |
| Package 1452/2083 | Hostname | OS / Arch | INSTALL | BUILD | CHECK | BUILD BIN | ||||||||
| PREDA 1.40.0 (landing page) Francesco Ferrari
| nebbiolo2 | Linux (Ubuntu 20.04.4 LTS) / x86_64 | OK | OK | WARNINGS | |||||||||
| tokay2 | Windows Server 2012 R2 Standard / x64 | OK | OK | WARNINGS | OK | |||||||||
| machv2 | macOS 10.14.6 Mojave / x86_64 | OK | OK | WARNINGS | OK | |||||||||
| Package: PREDA |
| Version: 1.40.0 |
| Command: rm -rf PREDA.buildbin-libdir && mkdir PREDA.buildbin-libdir && C:\Users\biocbuild\bbs-3.14-bioc\R\bin\R.exe --arch x64 CMD INSTALL --no-multiarch --build --library=PREDA.buildbin-libdir PREDA_1.40.0.tar.gz |
| StartedAt: 2022-04-13 06:50:16 -0400 (Wed, 13 Apr 2022) |
| EndedAt: 2022-04-13 06:51:01 -0400 (Wed, 13 Apr 2022) |
| EllapsedTime: 44.7 seconds |
| RetCode: 0 |
| Status: OK |
| PackageFile: PREDA_1.40.0.zip |
| PackageFileSize: 1.968 MiB |
##############################################################################
##############################################################################
###
### Running command:
###
### rm -rf PREDA.buildbin-libdir && mkdir PREDA.buildbin-libdir && C:\Users\biocbuild\bbs-3.14-bioc\R\bin\R.exe --arch x64 CMD INSTALL --no-multiarch --build --library=PREDA.buildbin-libdir PREDA_1.40.0.tar.gz
###
##############################################################################
##############################################################################
* installing *source* package 'PREDA' ...
** using staged installation
** R
** inst
** byte-compile and prepare package for lazy loading
** help
*** installing help indices
converting help for package 'PREDA'
finding HTML links ... done
DataForPREDA-class html
DataForPREDA2GenomicAnnotationsForPREDA
html
DataForPREDA2StatisticsForPREDA html
DataForPREDA2dataframe html
DataForPREDAMedianCenter html
GenomicAnnotations-class html
GenomicAnnotations2GenomicAnnotationsForPREDA
html
GenomicAnnotations2dataframe html
GenomicAnnotations2reference_positions
html
GenomicAnnotationsExtract html
GenomicAnnotationsFilter_neg html
GenomicAnnotationsFilter_pos html
GenomicAnnotationsForPREDA-class html
GenomicAnnotationsForPREDA2GenomicAnnotations
html
GenomicAnnotationsForPREDA2PREDAResults
html
GenomicAnnotationsForPREDA2dataframe html
GenomicAnnotationsForPREDAFromfile html
GenomicAnnotationsFromLibrary html
GenomicAnnotationsFromdataframe html
GenomicAnnotationsFromfile html
GenomicAnnotationsSortAndCleanNA html
GenomicRegions-class html
GenomicRegions2dataframe html
GenomicRegionsAnnotate html
GenomicRegionsChrNumber html
GenomicRegionsComparison html
GenomicRegionsCreateRegionsIds html
GenomicRegionsFilter_neg html
GenomicRegionsFilter_pos html
GenomicRegionsFindOverlap html
GenomicRegionsFromdataframe html
GenomicRegionsFromfile html
GenomicRegionsNumber html
GenomicRegionsSpan html
GenomicRegionsTotalSpan html
MergeStatisticAnnotations2DataForPREDA
html
PREDADataAndResults-class html
PREDADataAndResults2dataframe html
PREDAResults-class html
PREDAResults2GenomicRegions html
PREDAResults2GenomicRegionsSingle html
PREDAResults2PREDADataAndResults html
PREDAResults2dataframe html
PREDAResultsGetObservedFlags html
PREDA_main html
SODEGIR_GEstatistics html
finding level-2 HTML links ... done
SODEGIRpreprocessingGE html
StatisticsForPREDA-class html
StatisticsForPREDA2dataframe html
StatisticsForPREDAFilterColumns_neg html
StatisticsForPREDAFilterColumns_pos html
StatisticsForPREDAFromdataframe html
StatisticsForPREDAFromfile html
analysesNames html
computeDatasetSignature html
eset2GenomicAnnotations html
genomePlot html
getStatisticByName html
preprocessingGE html
statisticsForPREDAfromEset html
** building package indices
** installing vignettes
** testing if installed package can be loaded from temporary location
** testing if installed package can be loaded from final location
** testing if installed package keeps a record of temporary installation path
* MD5 sums
packaged installation of 'PREDA' as PREDA_1.40.0.zip
* DONE (PREDA)