| Back to Multiple platform build/check report for BioC 3.14 |
|
This page was generated on 2022-04-13 12:07:04 -0400 (Wed, 13 Apr 2022).
| Hostname | OS | Arch (*) | R version | Installed pkgs |
|---|---|---|---|---|
| nebbiolo2 | Linux (Ubuntu 20.04.4 LTS) | x86_64 | 4.1.3 (2022-03-10) -- "One Push-Up" | 4324 |
| tokay2 | Windows Server 2012 R2 Standard | x64 | 4.1.3 (2022-03-10) -- "One Push-Up" | 4077 |
| machv2 | macOS 10.14.6 Mojave | x86_64 | 4.1.3 (2022-03-10) -- "One Push-Up" | 4137 |
| Click on any hostname to see more info about the system (e.g. compilers) (*) as reported by 'uname -p', except on Windows and Mac OS X | ||||
|
To the developers/maintainers of the PERFect package: - Please allow up to 24 hours (and sometimes 48 hours) for your latest push to git@git.bioconductor.org:packages/PERFect.git to reflect on this report. See How and When does the builder pull? When will my changes propagate? for more information. - Make sure to use the following settings in order to reproduce any error or warning you see on this page. |
| Package 1398/2083 | Hostname | OS / Arch | INSTALL | BUILD | CHECK | BUILD BIN | ||||||||
| PERFect 1.8.0 (landing page) Quy Cao
| nebbiolo2 | Linux (Ubuntu 20.04.4 LTS) / x86_64 | OK | OK | OK | |||||||||
| tokay2 | Windows Server 2012 R2 Standard / x64 | OK | OK | OK | OK | |||||||||
| machv2 | macOS 10.14.6 Mojave / x86_64 | OK | OK | OK | OK | |||||||||
| Package: PERFect |
| Version: 1.8.0 |
| Command: rm -rf PERFect.buildbin-libdir && mkdir PERFect.buildbin-libdir && C:\Users\biocbuild\bbs-3.14-bioc\R\bin\R.exe CMD INSTALL --merge-multiarch --build --library=PERFect.buildbin-libdir PERFect_1.8.0.tar.gz |
| StartedAt: 2022-04-13 06:47:52 -0400 (Wed, 13 Apr 2022) |
| EndedAt: 2022-04-13 06:48:31 -0400 (Wed, 13 Apr 2022) |
| EllapsedTime: 38.4 seconds |
| RetCode: 0 |
| Status: OK |
| PackageFile: PERFect_1.8.0.zip |
| PackageFileSize: 694 KiB |
##############################################################################
##############################################################################
###
### Running command:
###
### rm -rf PERFect.buildbin-libdir && mkdir PERFect.buildbin-libdir && C:\Users\biocbuild\bbs-3.14-bioc\R\bin\R.exe CMD INSTALL --merge-multiarch --build --library=PERFect.buildbin-libdir PERFect_1.8.0.tar.gz
###
##############################################################################
##############################################################################
install for i386
* installing *source* package 'PERFect' ...
** using staged installation
** R
** data
** inst
** byte-compile and prepare package for lazy loading
** help
*** installing help indices
converting help for package 'PERFect'
finding HTML links ... done
DiffFiltLoss html
FL_J html
FiltLoss html
NC_Order html
NCw_Order html
NP_Order html
PERFect_perm html
PERFect_perm_reorder html
PERFect_sim html
TraditR1 html
TraditR2 html
mock2 html
pvals_Order html
pvals_Plots html
** building package indices
** installing vignettes
** testing if installed package can be loaded from temporary location
** testing if installed package can be loaded from final location
** testing if installed package keeps a record of temporary installation path
install for x64
* installing *source* package 'PERFect' ...
** testing if installed package can be loaded
* MD5 sums
packaged installation of 'PERFect' as PERFect_1.8.0.zip
* DONE (PERFect)