| Back to Multiple platform build/check report for BioC 3.14 |
|
This page was generated on 2022-04-13 12:08:28 -0400 (Wed, 13 Apr 2022).
| Hostname | OS | Arch (*) | R version | Installed pkgs |
|---|---|---|---|---|
| nebbiolo2 | Linux (Ubuntu 20.04.4 LTS) | x86_64 | 4.1.3 (2022-03-10) -- "One Push-Up" | 4324 |
| tokay2 | Windows Server 2012 R2 Standard | x64 | 4.1.3 (2022-03-10) -- "One Push-Up" | 4077 |
| machv2 | macOS 10.14.6 Mojave | x86_64 | 4.1.3 (2022-03-10) -- "One Push-Up" | 4137 |
| Click on any hostname to see more info about the system (e.g. compilers) (*) as reported by 'uname -p', except on Windows and Mac OS X | ||||
|
To the developers/maintainers of the OpenStats package: - Please allow up to 24 hours (and sometimes 48 hours) for your latest push to git@git.bioconductor.org:packages/OpenStats.git to reflect on this report. See How and When does the builder pull? When will my changes propagate? for more information. - Make sure to use the following settings in order to reproduce any error or warning you see on this page. |
| Package 1341/2083 | Hostname | OS / Arch | INSTALL | BUILD | CHECK | BUILD BIN | ||||||||
| OpenStats 1.6.0 (landing page) Hamed Haseli Mashhadi
| nebbiolo2 | Linux (Ubuntu 20.04.4 LTS) / x86_64 | OK | OK | OK | |||||||||
| tokay2 | Windows Server 2012 R2 Standard / x64 | OK | OK | OK | OK | |||||||||
| machv2 | macOS 10.14.6 Mojave / x86_64 | OK | OK | OK | OK | |||||||||
| Package: OpenStats |
| Version: 1.6.0 |
| Command: /Library/Frameworks/R.framework/Resources/bin/R CMD check --install=check:OpenStats.install-out.txt --library=/Library/Frameworks/R.framework/Resources/library --no-vignettes --timings OpenStats_1.6.0.tar.gz |
| StartedAt: 2022-04-12 16:22:25 -0400 (Tue, 12 Apr 2022) |
| EndedAt: 2022-04-12 16:27:40 -0400 (Tue, 12 Apr 2022) |
| EllapsedTime: 315.1 seconds |
| RetCode: 0 |
| Status: OK |
| CheckDir: OpenStats.Rcheck |
| Warnings: 0 |
############################################################################## ############################################################################## ### ### Running command: ### ### /Library/Frameworks/R.framework/Resources/bin/R CMD check --install=check:OpenStats.install-out.txt --library=/Library/Frameworks/R.framework/Resources/library --no-vignettes --timings OpenStats_1.6.0.tar.gz ### ############################################################################## ############################################################################## * using log directory ‘/Users/biocbuild/bbs-3.14-bioc/meat/OpenStats.Rcheck’ * using R version 4.1.3 (2022-03-10) * using platform: x86_64-apple-darwin17.0 (64-bit) * using session charset: UTF-8 * using option ‘--no-vignettes’ * checking for file ‘OpenStats/DESCRIPTION’ ... OK * checking extension type ... Package * this is package ‘OpenStats’ version ‘1.6.0’ * package encoding: UTF-8 * checking package namespace information ... OK * checking package dependencies ... OK * checking if this is a source package ... OK * checking if there is a namespace ... OK * checking for hidden files and directories ... OK * checking for portable file names ... OK * checking for sufficient/correct file permissions ... OK * checking whether package ‘OpenStats’ can be installed ... OK * checking installed package size ... OK * checking package directory ... OK * checking ‘build’ directory ... OK * checking DESCRIPTION meta-information ... OK * checking top-level files ... OK * checking for left-over files ... OK * checking index information ... OK * checking package subdirectories ... OK * checking R files for non-ASCII characters ... OK * checking R files for syntax errors ... OK * checking whether the package can be loaded ... OK * checking whether the package can be loaded with stated dependencies ... OK * checking whether the package can be unloaded cleanly ... OK * checking whether the namespace can be loaded with stated dependencies ... OK * checking whether the namespace can be unloaded cleanly ... OK * checking dependencies in R code ... OK * checking S3 generic/method consistency ... OK * checking replacement functions ... OK * checking foreign function calls ... OK * checking R code for possible problems ... OK * checking Rd files ... OK * checking Rd metadata ... OK * checking Rd cross-references ... OK * checking for missing documentation entries ... OK * checking for code/documentation mismatches ... OK * checking Rd \usage sections ... OK * checking Rd contents ... OK * checking for unstated dependencies in examples ... OK * checking files in ‘vignettes’ ... OK * checking examples ... OK * checking for unstated dependencies in vignettes ... OK * checking package vignettes in ‘inst/doc’ ... OK * checking running R code from vignettes ... SKIPPED * checking re-building of vignette outputs ... SKIPPED * checking PDF version of manual ... OK * DONE Status: OK
OpenStats.Rcheck/00install.out
############################################################################## ############################################################################## ### ### Running command: ### ### /Library/Frameworks/R.framework/Resources/bin/R CMD INSTALL OpenStats ### ############################################################################## ############################################################################## * installing to library ‘/Library/Frameworks/R.framework/Versions/4.1/Resources/library’ * installing *source* package ‘OpenStats’ ... ** using staged installation ** R ** inst ** byte-compile and prepare package for lazy loading ** help *** installing help indices ** building package indices ** installing vignettes ** testing if installed package can be loaded from temporary location ** testing if installed package can be loaded from final location ** testing if installed package keeps a record of temporary installation path * DONE (OpenStats)
OpenStats.Rcheck/OpenStats-Ex.timings
| name | user | system | elapsed | |
| OpenStatsAnalysis | 3.768 | 0.109 | 3.918 | |
| OpenStatsBuilder | 0.000 | 0.001 | 0.000 | |
| OpenStatsComplementarySplit | 2.207 | 0.058 | 2.279 | |
| OpenStatsList | 3.154 | 0.633 | 3.809 | |
| OpenStatsReport | 3.606 | 0.440 | 4.005 | |
| plot.OpenStats | 0.757 | 0.098 | 0.847 | |
| plot.OpenStatsComplementarySplit | 2.761 | 0.346 | 3.071 | |
| plot.OpenStatsFE | 0.147 | 0.013 | 0.160 | |
| plot.OpenStatsMM | 0.991 | 0.116 | 1.093 | |
| plot.OpenStatsRR | 0.521 | 0.054 | 0.570 | |
| print.OpenStats | 0.640 | 0.096 | 0.740 | |
| print.OpenStatsComplementarySplit | 2.810 | 0.370 | 3.162 | |
| print.OpenStatsFE | 0.130 | 0.013 | 0.142 | |
| print.OpenStatsMM | 0.992 | 0.115 | 1.094 | |
| print.OpenStatsRR | 0.502 | 0.057 | 0.552 | |
| summary.OpenStats | 0.713 | 0.081 | 0.787 | |
| summary.OpenStatsComplementarySplit | 2.969 | 0.331 | 3.261 | |
| summary.OpenStatsFE | 0.129 | 0.014 | 0.143 | |
| summary.OpenStatsMM | 1.009 | 0.139 | 1.152 | |
| summary.OpenStatsRR | 0.517 | 0.063 | 0.577 | |