| Back to Multiple platform build/check report for BioC 3.14 |
|
This page was generated on 2022-04-13 12:08:29 -0400 (Wed, 13 Apr 2022).
| Hostname | OS | Arch (*) | R version | Installed pkgs |
|---|---|---|---|---|
| nebbiolo2 | Linux (Ubuntu 20.04.4 LTS) | x86_64 | 4.1.3 (2022-03-10) -- "One Push-Up" | 4324 |
| tokay2 | Windows Server 2012 R2 Standard | x64 | 4.1.3 (2022-03-10) -- "One Push-Up" | 4077 |
| machv2 | macOS 10.14.6 Mojave | x86_64 | 4.1.3 (2022-03-10) -- "One Push-Up" | 4137 |
| Click on any hostname to see more info about the system (e.g. compilers) (*) as reported by 'uname -p', except on Windows and Mac OS X | ||||
|
To the developers/maintainers of the OUTRIDER package: - Please allow up to 24 hours (and sometimes 48 hours) for your latest push to git@git.bioconductor.org:packages/OUTRIDER.git to reflect on this report. See How and When does the builder pull? When will my changes propagate? for more information. - Make sure to use the following settings in order to reproduce any error or warning you see on this page. |
| Package 1356/2083 | Hostname | OS / Arch | INSTALL | BUILD | CHECK | BUILD BIN | ||||||||
| OUTRIDER 1.12.0 (landing page) Christian Mertes
| nebbiolo2 | Linux (Ubuntu 20.04.4 LTS) / x86_64 | OK | OK | OK | |||||||||
| tokay2 | Windows Server 2012 R2 Standard / x64 | OK | OK | OK | OK | |||||||||
| machv2 | macOS 10.14.6 Mojave / x86_64 | OK | OK | OK | OK | |||||||||
| Package: OUTRIDER |
| Version: 1.12.0 |
| Command: /Library/Frameworks/R.framework/Resources/bin/R CMD check --install=check:OUTRIDER.install-out.txt --library=/Library/Frameworks/R.framework/Resources/library --no-vignettes --timings OUTRIDER_1.12.0.tar.gz |
| StartedAt: 2022-04-12 16:27:40 -0400 (Tue, 12 Apr 2022) |
| EndedAt: 2022-04-12 16:40:17 -0400 (Tue, 12 Apr 2022) |
| EllapsedTime: 757.2 seconds |
| RetCode: 0 |
| Status: OK |
| CheckDir: OUTRIDER.Rcheck |
| Warnings: 0 |
##############################################################################
##############################################################################
###
### Running command:
###
### /Library/Frameworks/R.framework/Resources/bin/R CMD check --install=check:OUTRIDER.install-out.txt --library=/Library/Frameworks/R.framework/Resources/library --no-vignettes --timings OUTRIDER_1.12.0.tar.gz
###
##############################################################################
##############################################################################
* using log directory ‘/Users/biocbuild/bbs-3.14-bioc/meat/OUTRIDER.Rcheck’
* using R version 4.1.3 (2022-03-10)
* using platform: x86_64-apple-darwin17.0 (64-bit)
* using session charset: UTF-8
* using option ‘--no-vignettes’
* checking for file ‘OUTRIDER/DESCRIPTION’ ... OK
* checking extension type ... Package
* this is package ‘OUTRIDER’ version ‘1.12.0’
* package encoding: UTF-8
* checking package namespace information ... OK
* checking package dependencies ... OK
* checking if this is a source package ... OK
* checking if there is a namespace ... OK
* checking for hidden files and directories ... OK
* checking for portable file names ... OK
* checking for sufficient/correct file permissions ... OK
* checking whether package ‘OUTRIDER’ can be installed ... OK
* checking installed package size ... OK
* checking package directory ... OK
* checking ‘build’ directory ... OK
* checking DESCRIPTION meta-information ... OK
* checking top-level files ... OK
* checking for left-over files ... OK
* checking index information ... OK
* checking package subdirectories ... OK
* checking R files for non-ASCII characters ... OK
* checking R files for syntax errors ... OK
* checking whether the package can be loaded ... OK
* checking whether the package can be loaded with stated dependencies ... OK
* checking whether the package can be unloaded cleanly ... OK
* checking whether the namespace can be loaded with stated dependencies ... OK
* checking whether the namespace can be unloaded cleanly ... OK
* checking dependencies in R code ... NOTE
Namespace in Imports field not imported from: ‘Rcpp’
All declared Imports should be used.
* checking S3 generic/method consistency ... OK
* checking replacement functions ... OK
* checking foreign function calls ... OK
* checking R code for possible problems ... OK
* checking Rd files ... OK
* checking Rd metadata ... OK
* checking Rd cross-references ... OK
* checking for missing documentation entries ... OK
* checking for code/documentation mismatches ... OK
* checking Rd \usage sections ... OK
* checking Rd contents ... OK
* checking for unstated dependencies in examples ... OK
* checking line endings in C/C++/Fortran sources/headers ... OK
* checking line endings in Makefiles ... OK
* checking compilation flags in Makevars ... OK
* checking for GNU extensions in Makefiles ... OK
* checking for portable use of $(BLAS_LIBS) and $(LAPACK_LIBS) ... OK
* checking use of PKG_*FLAGS in Makefiles ... OK
* checking compiled code ... NOTE
Note: information on .o files is not available
* checking sizes of PDF files under ‘inst/doc’ ... OK
* checking files in ‘vignettes’ ... OK
* checking examples ... OK
Examples with CPU (user + system) or elapsed time > 5s
user system elapsed
findEncodingDim 37.673 0.130 38.013
plotFunctions 19.113 0.630 19.774
aberrant 10.599 2.283 6.636
getter_setter_functions 12.013 0.019 12.038
OUTRIDER 9.003 1.195 9.315
results 9.602 0.168 9.785
* checking for unstated dependencies in ‘tests’ ... OK
* checking tests ...
Running ‘testthat.R’
OK
* checking for unstated dependencies in vignettes ... OK
* checking package vignettes in ‘inst/doc’ ... OK
* checking running R code from vignettes ... SKIPPED
* checking re-building of vignette outputs ... SKIPPED
* checking PDF version of manual ... OK
* DONE
Status: 2 NOTEs
See
‘/Users/biocbuild/bbs-3.14-bioc/meat/OUTRIDER.Rcheck/00check.log’
for details.
OUTRIDER.Rcheck/00install.out
############################################################################## ############################################################################## ### ### Running command: ### ### /Library/Frameworks/R.framework/Resources/bin/R CMD INSTALL OUTRIDER ### ############################################################################## ############################################################################## * installing to library ‘/Library/Frameworks/R.framework/Versions/4.1/Resources/library’ * installing *source* package ‘OUTRIDER’ ... ** using staged installation ** libs clang++ -mmacosx-version-min=10.13 -std=gnu++11 -I"/Library/Frameworks/R.framework/Resources/include" -DNDEBUG -I'/Library/Frameworks/R.framework/Versions/4.1/Resources/library/Rcpp/include' -I'/Library/Frameworks/R.framework/Versions/4.1/Resources/library/RcppArmadillo/include' -I/usr/local/include -DARMA_DONT_USE_OPENMP -fPIC -Wall -g -O2 -c RcppExports.cpp -o RcppExports.o clang++ -mmacosx-version-min=10.13 -std=gnu++11 -I"/Library/Frameworks/R.framework/Resources/include" -DNDEBUG -I'/Library/Frameworks/R.framework/Versions/4.1/Resources/library/Rcpp/include' -I'/Library/Frameworks/R.framework/Versions/4.1/Resources/library/RcppArmadillo/include' -I/usr/local/include -DARMA_DONT_USE_OPENMP -fPIC -Wall -g -O2 -c loss_n_gradient_functions.cpp -o loss_n_gradient_functions.o clang++ -mmacosx-version-min=10.13 -std=gnu++11 -dynamiclib -Wl,-headerpad_max_install_names -undefined dynamic_lookup -single_module -multiply_defined suppress -L/Library/Frameworks/R.framework/Resources/lib -L/usr/local/lib -o OUTRIDER.so RcppExports.o loss_n_gradient_functions.o -L/Library/Frameworks/R.framework/Resources/lib -lRlapack -L/Library/Frameworks/R.framework/Resources/lib -lRblas -L/usr/local/gfortran/lib/gcc/x86_64-apple-darwin18/8.2.0 -L/usr/local/gfortran/lib -lgfortran -lquadmath -lm -F/Library/Frameworks/R.framework/.. -framework R -Wl,-framework -Wl,CoreFoundation installing to /Library/Frameworks/R.framework/Versions/4.1/Resources/library/00LOCK-OUTRIDER/00new/OUTRIDER/libs ** R ** inst ** byte-compile and prepare package for lazy loading ** help *** installing help indices ** building package indices ** installing vignettes ** testing if installed package can be loaded from temporary location ** checking absolute paths in shared objects and dynamic libraries ** testing if installed package can be loaded from final location ** testing if installed package keeps a record of temporary installation path * DONE (OUTRIDER)
OUTRIDER.Rcheck/tests/testthat.Rout
R version 4.1.3 (2022-03-10) -- "One Push-Up"
Copyright (C) 2022 The R Foundation for Statistical Computing
Platform: x86_64-apple-darwin17.0 (64-bit)
R is free software and comes with ABSOLUTELY NO WARRANTY.
You are welcome to redistribute it under certain conditions.
Type 'license()' or 'licence()' for distribution details.
R is a collaborative project with many contributors.
Type 'contributors()' for more information and
'citation()' on how to cite R or R packages in publications.
Type 'demo()' for some demos, 'help()' for on-line help, or
'help.start()' for an HTML browser interface to help.
Type 'q()' to quit R.
> library(testthat)
> library(OUTRIDER)
Loading required package: BiocParallel
Loading required package: GenomicFeatures
Loading required package: BiocGenerics
Attaching package: 'BiocGenerics'
The following objects are masked from 'package:stats':
IQR, mad, sd, var, xtabs
The following objects are masked from 'package:base':
Filter, Find, Map, Position, Reduce, anyDuplicated, append,
as.data.frame, basename, cbind, colnames, dirname, do.call,
duplicated, eval, evalq, get, grep, grepl, intersect, is.unsorted,
lapply, mapply, match, mget, order, paste, pmax, pmax.int, pmin,
pmin.int, rank, rbind, rownames, sapply, setdiff, sort, table,
tapply, union, unique, unsplit, which.max, which.min
Loading required package: S4Vectors
Loading required package: stats4
Attaching package: 'S4Vectors'
The following objects are masked from 'package:base':
I, expand.grid, unname
Loading required package: IRanges
Loading required package: GenomeInfoDb
Loading required package: GenomicRanges
Loading required package: AnnotationDbi
Loading required package: Biobase
Welcome to Bioconductor
Vignettes contain introductory material; view with
'browseVignettes()'. To cite Bioconductor, see
'citation("Biobase")', and for packages 'citation("pkgname")'.
Loading required package: SummarizedExperiment
Loading required package: MatrixGenerics
Loading required package: matrixStats
Attaching package: 'matrixStats'
The following objects are masked from 'package:Biobase':
anyMissing, rowMedians
Attaching package: 'MatrixGenerics'
The following objects are masked from 'package:matrixStats':
colAlls, colAnyNAs, colAnys, colAvgsPerRowSet, colCollapse,
colCounts, colCummaxs, colCummins, colCumprods, colCumsums,
colDiffs, colIQRDiffs, colIQRs, colLogSumExps, colMadDiffs,
colMads, colMaxs, colMeans2, colMedians, colMins, colOrderStats,
colProds, colQuantiles, colRanges, colRanks, colSdDiffs, colSds,
colSums2, colTabulates, colVarDiffs, colVars, colWeightedMads,
colWeightedMeans, colWeightedMedians, colWeightedSds,
colWeightedVars, rowAlls, rowAnyNAs, rowAnys, rowAvgsPerColSet,
rowCollapse, rowCounts, rowCummaxs, rowCummins, rowCumprods,
rowCumsums, rowDiffs, rowIQRDiffs, rowIQRs, rowLogSumExps,
rowMadDiffs, rowMads, rowMaxs, rowMeans2, rowMedians, rowMins,
rowOrderStats, rowProds, rowQuantiles, rowRanges, rowRanks,
rowSdDiffs, rowSds, rowSums2, rowTabulates, rowVarDiffs, rowVars,
rowWeightedMads, rowWeightedMeans, rowWeightedMedians,
rowWeightedSds, rowWeightedVars
The following object is masked from 'package:Biobase':
rowMedians
Loading required package: data.table
Attaching package: 'data.table'
The following object is masked from 'package:SummarizedExperiment':
shift
The following object is masked from 'package:GenomicRanges':
shift
The following object is masked from 'package:IRanges':
shift
The following objects are masked from 'package:S4Vectors':
first, second
>
> register(SerialParam())
>
> test_check("OUTRIDER")
[1] "Tue Apr 12 16:37:45 2022: Initial PCA loss: 6.338522025895"
[1] "Tue Apr 12 16:37:49 2022: Iteration: 1 loss: 4.70007797343228"
[1] "Tue Apr 12 16:37:51 2022: Iteration: 2 loss: 4.58300428492125"
[1] "Tue Apr 12 16:37:53 2022: Iteration: 3 loss: 4.52260600665283"
[1] "Tue Apr 12 16:37:55 2022: Iteration: 4 loss: 4.49436695488808"
[1] "Tue Apr 12 16:37:58 2022: Iteration: 5 loss: 4.46042019873179"
[1] "Tue Apr 12 16:38:00 2022: Iteration: 6 loss: 4.42270044080423"
Time difference of 12.82829 secs
[1] "Tue Apr 12 16:38:00 2022: 6 Final nb-AE loss: 4.42270044080423"
[1] "Tue Apr 12 16:38:03 2022: Initial PCA loss: 6.338522025895"
[1] "Tue Apr 12 16:38:06 2022: Iteration: 1 loss: 4.70007797343228"
[1] "Tue Apr 12 16:38:08 2022: Iteration: 2 loss: 4.58300428492125"
[1] "Tue Apr 12 16:38:10 2022: Iteration: 3 loss: 4.52260600665283"
[1] "Tue Apr 12 16:38:12 2022: Iteration: 4 loss: 4.49436695488808"
[1] "Tue Apr 12 16:38:14 2022: Iteration: 5 loss: 4.46042019873179"
[1] "Tue Apr 12 16:38:16 2022: Iteration: 6 loss: 4.42270044080423"
Time difference of 11.92104 secs
[1] "Tue Apr 12 16:38:16 2022: 6 Final nb-AE loss: 4.42270044080423"
class: OutriderDataSet
class: RangedSummarizedExperiment
dim: 100 50
metadata(1): version
assays(1): counts
rownames(100): ENSG00000223972.4 ENSG00000227232.4 ...
ENSG00000107404.13 ENSG00000162576.12
rowData names(0):
colnames(50): GTEX.UPK5.0426.SM.3GAEK GTEX.WFG7.2026.SM.3GIL7 ...
GTEX.11UD2.2526.SM.5CVNU GTEX.13O61.1426.SM.5KM3D
colData names(1): sampleID
[1] "Tue Apr 12 16:38:41 2022: Initial PCA loss: 4.45279920786161"
[1] "Tue Apr 12 16:38:44 2022: Iteration: 1 loss: 4.1199188786657"
[1] "Tue Apr 12 16:38:47 2022: Iteration: 2 loss: 4.10109949983732"
Time difference of 4.37842 secs
[1] "Tue Apr 12 16:38:47 2022: 2 Final nb-AE loss: 4.10109949983732"
[1] "Evaluation loss: 0.58836973996862 for q=3"
[1] "Tue Apr 12 16:38:49 2022: Initial PCA loss: 4.42560002533915"
[1] "Tue Apr 12 16:38:54 2022: Iteration: 1 loss: 4.0431030188532"
[1] "Tue Apr 12 16:38:56 2022: Iteration: 2 loss: 4.02121484975103"
Time difference of 4.74151 secs
[1] "Tue Apr 12 16:38:56 2022: 2 Final nb-AE loss: 4.02121484975103"
[1] "Evaluation loss: 0.523710458991006 for q=4"
[1] "Tue Apr 12 16:38:59 2022: Initial PCA loss: 4.40454476225531"
[1] "Tue Apr 12 16:39:03 2022: Iteration: 1 loss: 3.98468090266304"
[1] "Tue Apr 12 16:39:06 2022: Iteration: 2 loss: 3.96587656661305"
Time difference of 4.950125 secs
[1] "Tue Apr 12 16:39:06 2022: 2 Final nb-AE loss: 3.96587656661305"
[1] "Evaluation loss: 0.516151430053025 for q=5"
[1] "Tue Apr 12 16:39:32 2022: Initial PCA loss: 6.46616282459584"
[1] "Tue Apr 12 16:39:37 2022: Iteration: 1 loss: 4.81532936393225"
[1] "Tue Apr 12 16:39:39 2022: Iteration: 2 loss: 4.78978181403925"
Time difference of 5.736623 secs
[1] "Tue Apr 12 16:39:39 2022: 2 Final nb-AE loss: 4.78978181403925"
[ FAIL 0 | WARN 33 | SKIP 0 | PASS 103 ]
[ FAIL 0 | WARN 33 | SKIP 0 | PASS 103 ]
>
> proc.time()
user system elapsed
163.091 1.664 164.891
OUTRIDER.Rcheck/OUTRIDER-Ex.timings
| name | user | system | elapsed | |
| OUTRIDER | 9.003 | 1.195 | 9.315 | |
| OutriderDataSet-class | 2.431 | 0.025 | 2.459 | |
| aberrant | 10.599 | 2.283 | 6.636 | |
| computeGeneLength | 3.170 | 0.084 | 3.259 | |
| computeLatentSpace | 2.363 | 0.006 | 2.372 | |
| computePvalues | 3.705 | 1.059 | 3.568 | |
| computeZscores | 2.576 | 0.074 | 2.652 | |
| controlForConfounders | 3.316 | 0.024 | 3.343 | |
| counts | 1.941 | 0.008 | 1.950 | |
| estimateBestQ | 1.255 | 0.003 | 1.259 | |
| filterExpression | 3.571 | 0.024 | 3.597 | |
| findEncodingDim | 37.673 | 0.130 | 38.013 | |
| fit | 2.943 | 0.027 | 2.975 | |
| fpkm | 2.500 | 0.016 | 2.523 | |
| getter_setter_functions | 12.013 | 0.019 | 12.038 | |
| makeExampleOutriderDataSet | 3.680 | 0.007 | 3.689 | |
| normalizationFactors | 2.304 | 0.006 | 2.311 | |
| plotFunctions | 19.113 | 0.630 | 19.774 | |
| results | 9.602 | 0.168 | 9.785 | |
| sampleExclusionMask | 1.313 | 0.005 | 1.320 | |
| sizeFactors | 2.268 | 0.007 | 2.276 | |