| Back to Multiple platform build/check report for BioC 3.14 |
|
This page was generated on 2022-04-13 12:07:02 -0400 (Wed, 13 Apr 2022).
| Hostname | OS | Arch (*) | R version | Installed pkgs |
|---|---|---|---|---|
| nebbiolo2 | Linux (Ubuntu 20.04.4 LTS) | x86_64 | 4.1.3 (2022-03-10) -- "One Push-Up" | 4324 |
| tokay2 | Windows Server 2012 R2 Standard | x64 | 4.1.3 (2022-03-10) -- "One Push-Up" | 4077 |
| machv2 | macOS 10.14.6 Mojave | x86_64 | 4.1.3 (2022-03-10) -- "One Push-Up" | 4137 |
| Click on any hostname to see more info about the system (e.g. compilers) (*) as reported by 'uname -p', except on Windows and Mac OS X | ||||
|
To the developers/maintainers of the OSAT package: - Please allow up to 24 hours (and sometimes 48 hours) for your latest push to git@git.bioconductor.org:packages/OSAT.git to reflect on this report. See How and When does the builder pull? When will my changes propagate? for more information. - Make sure to use the following settings in order to reproduce any error or warning you see on this page. |
| Package 1353/2083 | Hostname | OS / Arch | INSTALL | BUILD | CHECK | BUILD BIN | ||||||||
| OSAT 1.42.0 (landing page) Li Yan
| nebbiolo2 | Linux (Ubuntu 20.04.4 LTS) / x86_64 | OK | OK | OK | |||||||||
| tokay2 | Windows Server 2012 R2 Standard / x64 | OK | OK | OK | OK | |||||||||
| machv2 | macOS 10.14.6 Mojave / x86_64 | OK | OK | OK | OK | |||||||||
| Package: OSAT |
| Version: 1.42.0 |
| Command: C:\cygwin\bin\curl.exe -O http://155.52.207.166/BBS/3.14/bioc/src/contrib/OSAT_1.42.0.tar.gz && rm -rf OSAT.buildbin-libdir && mkdir OSAT.buildbin-libdir && C:\Users\biocbuild\bbs-3.14-bioc\R\bin\R.exe CMD INSTALL --merge-multiarch --build --library=OSAT.buildbin-libdir OSAT_1.42.0.tar.gz && C:\Users\biocbuild\bbs-3.14-bioc\R\bin\R.exe CMD INSTALL OSAT_1.42.0.zip && rm OSAT_1.42.0.tar.gz OSAT_1.42.0.zip |
| StartedAt: 2022-04-12 05:15:15 -0400 (Tue, 12 Apr 2022) |
| EndedAt: 2022-04-12 05:16:31 -0400 (Tue, 12 Apr 2022) |
| EllapsedTime: 75.6 seconds |
| RetCode: 0 |
| Status: OK |
##############################################################################
##############################################################################
###
### Running command:
###
### C:\cygwin\bin\curl.exe -O http://155.52.207.166/BBS/3.14/bioc/src/contrib/OSAT_1.42.0.tar.gz && rm -rf OSAT.buildbin-libdir && mkdir OSAT.buildbin-libdir && C:\Users\biocbuild\bbs-3.14-bioc\R\bin\R.exe CMD INSTALL --merge-multiarch --build --library=OSAT.buildbin-libdir OSAT_1.42.0.tar.gz && C:\Users\biocbuild\bbs-3.14-bioc\R\bin\R.exe CMD INSTALL OSAT_1.42.0.zip && rm OSAT_1.42.0.tar.gz OSAT_1.42.0.zip
###
##############################################################################
##############################################################################
% Total % Received % Xferd Average Speed Time Time Time Current
Dload Upload Total Spent Left Speed
0 0 0 0 0 0 0 0 --:--:-- --:--:-- --:--:-- 0
24 623k 24 151k 0 0 210k 0 0:00:02 --:--:-- 0:00:02 210k
100 623k 100 623k 0 0 435k 0 0:00:01 0:00:01 --:--:-- 435k
install for i386
* installing *source* package 'OSAT' ...
** using staged installation
** R
** data
** inst
** byte-compile and prepare package for lazy loading
** help
*** installing help indices
converting help for package 'OSAT'
finding HTML links ... done
BeadChip-class html
BeadPlate-class html
MSAroboticPlate-class html
QC html
create.optimized.setup html
example.setup html
gArray-class html
gAssembly-class html
gContainer-class html
gExperimentSetup-class html
gPlate-class html
gSample-class html
gSlide-class html
get.experiment.setup html
multi.barplot html
multi.chisq.test html
optimal.block html
optimal.shuffle html
plot-methods html
predefined html
** building package indices
** installing vignettes
** testing if installed package can be loaded from temporary location
** testing if installed package can be loaded from final location
** testing if installed package keeps a record of temporary installation path
install for x64
* installing *source* package 'OSAT' ...
** testing if installed package can be loaded
* MD5 sums
packaged installation of 'OSAT' as OSAT_1.42.0.zip
* DONE (OSAT)
* installing to library 'C:/Users/biocbuild/bbs-3.14-bioc/R/library'
package 'OSAT' successfully unpacked and MD5 sums checked