| Back to Multiple platform build/check report for BioC 3.14 |
|
This page was generated on 2022-04-13 12:08:29 -0400 (Wed, 13 Apr 2022).
| Hostname | OS | Arch (*) | R version | Installed pkgs |
|---|---|---|---|---|
| nebbiolo2 | Linux (Ubuntu 20.04.4 LTS) | x86_64 | 4.1.3 (2022-03-10) -- "One Push-Up" | 4324 |
| tokay2 | Windows Server 2012 R2 Standard | x64 | 4.1.3 (2022-03-10) -- "One Push-Up" | 4077 |
| machv2 | macOS 10.14.6 Mojave | x86_64 | 4.1.3 (2022-03-10) -- "One Push-Up" | 4137 |
| Click on any hostname to see more info about the system (e.g. compilers) (*) as reported by 'uname -p', except on Windows and Mac OS X | ||||
|
To the developers/maintainers of the ORFik package: - Please allow up to 24 hours (and sometimes 48 hours) for your latest push to git@git.bioconductor.org:packages/ORFik.git to reflect on this report. See How and When does the builder pull? When will my changes propagate? for more information. - Make sure to use the following settings in order to reproduce any error or warning you see on this page. |
| Package 1349/2083 | Hostname | OS / Arch | INSTALL | BUILD | CHECK | BUILD BIN | ||||||||
| ORFik 1.14.7 (landing page) Haakon Tjeldnes
| nebbiolo2 | Linux (Ubuntu 20.04.4 LTS) / x86_64 | OK | OK | OK | |||||||||
| tokay2 | Windows Server 2012 R2 Standard / x64 | OK | OK | OK | OK | |||||||||
| machv2 | macOS 10.14.6 Mojave / x86_64 | OK | OK | OK | OK | |||||||||
| Package: ORFik |
| Version: 1.14.7 |
| Command: /Library/Frameworks/R.framework/Resources/bin/R CMD check --install=check:ORFik.install-out.txt --library=/Library/Frameworks/R.framework/Resources/library --no-vignettes --timings ORFik_1.14.7.tar.gz |
| StartedAt: 2022-04-12 16:24:14 -0400 (Tue, 12 Apr 2022) |
| EndedAt: 2022-04-12 16:37:14 -0400 (Tue, 12 Apr 2022) |
| EllapsedTime: 780.3 seconds |
| RetCode: 0 |
| Status: OK |
| CheckDir: ORFik.Rcheck |
| Warnings: 0 |
##############################################################################
##############################################################################
###
### Running command:
###
### /Library/Frameworks/R.framework/Resources/bin/R CMD check --install=check:ORFik.install-out.txt --library=/Library/Frameworks/R.framework/Resources/library --no-vignettes --timings ORFik_1.14.7.tar.gz
###
##############################################################################
##############################################################################
* using log directory ‘/Users/biocbuild/bbs-3.14-bioc/meat/ORFik.Rcheck’
* using R version 4.1.3 (2022-03-10)
* using platform: x86_64-apple-darwin17.0 (64-bit)
* using session charset: UTF-8
* using option ‘--no-vignettes’
* checking for file ‘ORFik/DESCRIPTION’ ... OK
* checking extension type ... Package
* this is package ‘ORFik’ version ‘1.14.7’
* package encoding: UTF-8
* checking package namespace information ... OK
* checking package dependencies ... OK
* checking if this is a source package ... OK
* checking if there is a namespace ... OK
* checking for hidden files and directories ... OK
* checking for portable file names ... OK
* checking for sufficient/correct file permissions ... OK
* checking whether package ‘ORFik’ can be installed ... OK
* checking installed package size ... OK
* checking package directory ... OK
* checking ‘build’ directory ... OK
* checking DESCRIPTION meta-information ... OK
* checking top-level files ... OK
* checking for left-over files ... OK
* checking index information ... OK
* checking package subdirectories ... OK
* checking R files for non-ASCII characters ... OK
* checking R files for syntax errors ... OK
* checking whether the package can be loaded ... OK
* checking whether the package can be loaded with stated dependencies ... OK
* checking whether the package can be unloaded cleanly ... OK
* checking whether the namespace can be loaded with stated dependencies ... OK
* checking whether the namespace can be unloaded cleanly ... OK
* checking dependencies in R code ... NOTE
Unexported objects imported by ':::' calls:
‘GenomicFeatures:::.merge_seqinfo_and_infer_missing_seqlengths’
‘IRanges:::regroupBySupergroup’ ‘S4Vectors:::normarg_mcols’
‘biomartr:::getENSEMBL.Seq’ ‘biomartr:::getENSEMBL.gtf’
See the note in ?`:::` about the use of this operator.
There are ::: calls to the package's namespace in its code. A package
almost never needs to use ::: for its own objects:
‘find_url_ebi’ ‘trimming.table’
* checking S3 generic/method consistency ... OK
* checking replacement functions ... OK
* checking foreign function calls ... OK
* checking R code for possible problems ... NOTE
DEG.plot.static: no visible binding for global variable ‘Regulation’
DEG.plot.static: no visible binding for global variable ‘meanCounts’
DEG.plot.static: no visible binding for global variable ‘LFC’
DTEG.plot: no visible binding for global variable ‘Regulation’
DTEG.plot: no visible binding for global variable ‘rna’
DTEG.plot: no visible binding for global variable ‘rfp’
QCplots: no visible binding for global variable ‘leaders’
QCplots: no visible binding for global variable ‘trailers’
QCstats.plot: no visible binding for global variable ‘variable’
QCstats.plot: no visible binding for global variable ‘sample_total’
QCstats.plot: no visible binding for global variable ‘value’
QCstats.plot: no visible global function definition for ‘.’
QCstats.plot: no visible binding for global variable ‘sample_id’
QCstats.plot: no visible binding for global variable ‘percentage’
QCstats.plot: no visible binding for global variable
‘perc_of_counts_per_sample’
QCstats.plot: no visible binding for global variable ‘read length’
RiboQC.plot: no visible binding for global variable ‘variable’
RiboQC.plot: no visible binding for global variable ‘sample_total’
RiboQC.plot: no visible binding for global variable ‘value’
RiboQC.plot: no visible global function definition for ‘.’
RiboQC.plot: no visible binding for global variable ‘sample_id’
RiboQC.plot: no visible binding for global variable ‘percentage’
RiboQC.plot: no visible binding for global variable ‘percent’
RiboQC.plot: no visible binding for global variable ‘frame’
STAR.multiQC: no visible binding for global variable ‘sample_id’
STAR.multiQC: no visible binding for global variable ‘value’
TOP.Motif.ecdf: no visible binding for global variable ‘seq1’
TOP.Motif.ecdf: no visible binding for global variable ‘TOP’
alignmentFeatureStatistics : <anonymous>: no visible binding for global
variable ‘percentage_mrna_aligned’
alignmentFeatureStatistics : <anonymous>: no visible binding for global
variable ‘mRNA’
alignmentFeatureStatistics : <anonymous>: no visible binding for global
variable ‘percentage_tx_aligned’
alignmentFeatureStatistics : <anonymous>: no visible binding for global
variable ‘Transcript’
alignmentFeatureStatistics : <anonymous>: no visible binding for global
variable ‘ratio_cds_mrna’
alignmentFeatureStatistics : <anonymous>: no visible binding for global
variable ‘CDS’
alignmentFeatureStatistics : <anonymous>: no visible binding for global
variable ‘ratio_cds_leader’
alignmentFeatureStatistics : <anonymous>: no visible binding for global
variable ‘LEADERS’
allFeaturesHelper: no visible binding for global variable ‘te’
allFeaturesHelper: no visible binding for global variable ‘fpkmRFP’
allFeaturesHelper: no visible binding for global variable ‘fpkmRNA’
allFeaturesHelper: no visible binding for global variable ‘countRFP’
allFeaturesHelper: no visible binding for global variable ‘entropyRFP’
allFeaturesHelper: no visible binding for global variable
‘disengagementScores’
allFeaturesHelper: no visible binding for global variable ‘RRS’
allFeaturesHelper: no visible binding for global variable ‘RSS’
allFeaturesHelper: no visible binding for global variable ‘ORFScores’
allFeaturesHelper: no visible binding for global variable ‘ioScore’
allFeaturesHelper: no visible binding for global variable
‘startCodonCoverage’
allFeaturesHelper: no visible binding for global variable
‘startRegionRelative’
allFeaturesHelper: no visible binding for global variable ‘kozak’
allFeaturesHelper: no visible binding for global variable ‘StartCodons’
allFeaturesHelper: no visible binding for global variable ‘StopCodons’
allFeaturesHelper: no visible binding for global variable
‘fractionLengths’
allFeaturesHelper: no visible binding for global variable ‘distORFCDS’
allFeaturesHelper: no visible binding for global variable ‘inFrameCDS’
allFeaturesHelper: no visible binding for global variable
‘isOverlappingCds’
allFeaturesHelper: no visible binding for global variable ‘rankInTx’
appendZeroes: no visible binding for global variable ‘frame’
appendZeroes: no visible binding for global variable ‘position’
appendZeroes: no visible binding for global variable ‘count’
artificial.orfs: no visible binding for global variable ‘random’
artificial.orfs: no visible binding for global variable ‘pick’
artificial.orfs: no visible global function definition for ‘.’
collapse.by.scores: no visible global function definition for ‘.’
collapse.fastq: no visible binding for global variable ‘N’
coverageHeatMap: no visible binding for global variable ‘position’
coverageHeatMap: no visible binding for global variable ‘fraction’
coveragePerTiling: no visible binding for global variable ‘frame’
coveragePerTiling: no visible binding for global variable ‘position’
coverageScorings: no visible binding for global variable ‘count’
coverageScorings: no visible binding for global variable ‘zscore’
coverageScorings: no visible binding for global variable ‘windowMean’
coverageScorings: no visible binding for global variable ‘windowSD’
coverageScorings: no visible global function definition for ‘.’
coverageScorings: no visible binding for global variable ‘gene_sum’
coverageScorings: no visible binding for global variable ‘fraction’
detectRibosomeShifts: no visible global function definition for ‘.’
detectRibosomeShifts: no visible binding for global variable ‘size’
detectRibosomeShifts: no visible binding for global variable ‘fraction’
detectRibosomeShifts: no visible binding for global variable ‘pShifted’
detectRibosomeShifts: no visible binding for global variable
‘sum.count’
detectRibosomeShifts: no visible binding for global variable ‘count’
detectRibosomeShifts: no visible binding for global variable
‘frac.score’
download.SRA.metadata: no visible binding for global variable ‘spots’
download.SRA.metadata: no visible binding for global variable ‘MONTH’
download.SRA.metadata: no visible binding for global variable
‘ReleaseDate’
download.SRA.metadata: no visible binding for global variable ‘YEAR’
download.SRA.metadata: no visible binding for global variable ‘Run’
download.SRA.metadata: no visible binding for global variable
‘LIBRARYTYPE’
download.SRA.metadata: no visible binding for global variable
‘LibraryStrategy’
entropy: no visible binding for global variable ‘Hx’
entropy: no visible binding for global variable ‘codonSums’
entropy: no visible global function definition for ‘.’
filterExtremePeakGenes: no visible binding for global variable ‘count’
filterExtremePeakGenes: no visible binding for global variable
‘median_per_gene’
filterExtremePeakGenes: no visible global function definition for ‘.’
filterTranscripts: no visible binding for global variable ‘utr5_len’
filterTranscripts: no visible binding for global variable ‘utr3_len’
findNGSPairs: no visible global function definition for ‘.’
findNGSPairs: no visible binding for global variable ‘forward’
findPeaksPerGene: no visible binding for global variable ‘sum_per_gene’
findPeaksPerGene: no visible binding for global variable ‘count’
findPeaksPerGene: no visible binding for global variable
‘mean_per_gene’
findPeaksPerGene: no visible binding for global variable ‘sd_per_gene’
findPeaksPerGene: no visible binding for global variable ‘zscore’
findPeaksPerGene: no visible binding for global variable ‘gene_id’
find_url_ebi_safe: no visible binding for global variable
‘run_accession’
flankPerGroup: no visible global function definition for ‘.’
flankPerGroup: no visible binding for global variable ‘group_name’
floss: no visible binding for global variable ‘ORFGrouping’
floss: no visible binding for global variable ‘widths’
floss: no visible global function definition for ‘.’
floss: no visible binding for global variable ‘CDSGrouping’
floss: no visible binding for global variable ‘fraction.x’
floss: no visible binding for global variable ‘fraction.y’
gSort: no visible binding for global variable ‘grnames’
getNGenesCoverage: no visible global function definition for ‘.’
getNGenesCoverage: no visible binding for global variable ‘fraction’
get_phix_genome: no visible binding for global variable ‘phix.url’
initiationScore: no visible global function definition for ‘.’
initiationScore: no visible binding for global variable ‘dif’
initiationScore: no visible binding for global variable ‘fraction’
initiationScore: no visible binding for global variable ‘difPer’
isPeriodic: no visible binding for global variable ‘spec’
kozakHeatmap: no visible global function definition for ‘.’
kozakHeatmap: no visible binding for global variable ‘variable’
kozakHeatmap: no visible binding for global variable ‘value’
kozakHeatmap: no visible binding for global variable
‘count_seq_pos_with_count’
kozakHeatmap: no visible binding for global variable ‘median_score’
kozak_IR_ranking: no visible global function definition for ‘.’
kozak_IR_ranking: no visible binding for global variable ‘IR’
kozak_IR_ranking: no visible binding for global variable
‘upstream_kozak_strength’
kozak_IR_ranking: no visible binding for global variable ‘count’
kozak_IR_ranking: no visible binding for global variable ‘mean_IR’
list.genomes: no visible binding for global variable ‘STAR_index’
longestORFs: no visible global function definition for ‘.’
metaWindow: no visible binding for global variable ‘position’
metaWindow: no visible binding for global variable ‘frame’
orfFrameDistributions : <anonymous>: no visible binding for global
variable ‘fraction’
orfFrameDistributions: no visible binding for global variable ‘percent’
orfFrameDistributions: no visible binding for global variable
‘fraction’
orfFrameDistributions: no visible binding for global variable
‘percent_length’
orfFrameDistributions: no visible global function definition for ‘.’
orfFrameDistributions: no visible binding for global variable
‘best_frame’
orfScore: no visible binding for global variable ‘frame’
orfScore: no visible binding for global variable ‘frame_one_RP’
orfScore: no visible binding for global variable ‘frame_two_RP’
pSitePlot: no visible binding for global variable ‘count’
pSitePlot: no visible binding for global variable ‘frame’
pSitePlot: no visible binding for global variable ‘position’
pcaExperiment: no visible binding for global variable ‘PC1’
pcaExperiment: no visible binding for global variable ‘PC2’
readLengthTable: no visible binding for global variable
‘counts_per_sample’
readLengthTable: no visible binding for global variable
‘perc_of_counts_per_sample’
regionPerReadLength : <anonymous>: no visible binding for global
variable ‘fraction’
remakeTxdbExonIds: no visible global function definition for ‘.’
remakeTxdbExonIds: no visible binding for global variable ‘chr’
removeTxdbExons: no visible binding for global variable ‘exon_rank’
removeTxdbExons: no visible binding for global variable ‘ranks’
rnaNormalize: no visible binding for global variable ‘feature’
scaledWindowPositions: no visible binding for global variable
‘scalingFactor’
scaledWindowPositions: no visible binding for global variable
‘position’
scaledWindowPositions: no visible global function definition for ‘.’
scoreSummarizedExperiment: no visible global function definition for
‘rowSums2’
shiftPlots : <anonymous>: no visible binding for global variable
‘frame’
shiftPlots : <anonymous>: no visible binding for global variable
‘position’
te.plot: no visible global function definition for ‘rowMin’
te.plot: no visible binding for global variable ‘variable’
te.plot: no visible binding for global variable ‘LFC_TE’
te.plot: no visible binding for global variable ‘rfp_log2’
te.plot: no visible binding for global variable ‘rna_log2’
te.plot: no visible binding for global variable ‘rna_log10’
te.table: no visible global function definition for ‘rowMin’
te.table: no visible binding for global variable ‘variable’
te.table: no visible binding for global variable ‘TE_log2’
te.table: no visible binding for global variable ‘rfp_log2’
te.table: no visible binding for global variable ‘rna_log2’
te_rna.plot: no visible binding for global variable ‘subtitle’
te_rna.plot: no visible binding for global variable ‘rna_log10’
te_rna.plot: no visible binding for global variable ‘TE_log2’
topMotif: no visible binding for global variable ‘seq1’
topMotif: no visible binding for global variable ‘seq2’
topMotif: no visible binding for global variable ‘seq3’
topMotif: no visible binding for global variable ‘seq4’
topMotif: no visible binding for global variable ‘seq5’
transcriptWindow: no visible binding for global variable ‘fractions’
transcriptWindow: no visible binding for global variable ‘feature’
windowCoveragePlot: no visible binding for global variable ‘feature’
windowCoveragePlot: no visible binding for global variable ‘fraction’
windowCoveragePlot: no visible binding for global variable
‘fraction_min’
windowCoveragePlot: no visible binding for global variable ‘position’
collapseDuplicatedReads,GAlignmentPairs: no visible global function
definition for ‘.’
collapseDuplicatedReads,GAlignmentPairs: no visible binding for global
variable ‘start1’
collapseDuplicatedReads,GAlignmentPairs: no visible binding for global
variable ‘start2’
collapseDuplicatedReads,GAlignmentPairs: no visible binding for global
variable ‘cigar1’
collapseDuplicatedReads,GAlignmentPairs: no visible binding for global
variable ‘cigar2’
collapseDuplicatedReads,GAlignments: no visible global function
definition for ‘.’
collapseDuplicatedReads,GRanges: no visible binding for global variable
‘size’
collapseDuplicatedReads,GRanges: no visible global function definition
for ‘.’
design,experiment: no visible binding for global variable ‘..formula’
Undefined global functions or variables:
. ..formula CDS CDSGrouping Hx IR LEADERS LFC LFC_TE LIBRARYTYPE
LibraryStrategy MONTH N ORFGrouping ORFScores PC1 PC2 RRS RSS
Regulation ReleaseDate Run STAR_index StartCodons StopCodons TE_log2
TOP Transcript YEAR best_frame chr cigar1 cigar2 codonSums count
countRFP count_seq_pos_with_count counts_per_sample dif difPer
disengagementScores distORFCDS entropyRFP exon_rank feature forward
fpkmRFP fpkmRNA frac.score fraction fraction.x fraction.y
fractionLengths fraction_min fractions frame frame_one_RP
frame_two_RP gene_id gene_sum grnames group_name inFrameCDS ioScore
isOverlappingCds kozak leaders mRNA meanCounts mean_IR mean_per_gene
median_per_gene median_score pShifted perc_of_counts_per_sample
percent percent_length percentage percentage_mrna_aligned
percentage_tx_aligned phix.url pick position random rankInTx ranks
ratio_cds_leader ratio_cds_mrna read length rfp rfp_log2 rna
rna_log10 rna_log2 rowMin rowSums2 run_accession sample_id
sample_total scalingFactor sd_per_gene seq1 seq2 seq3 seq4 seq5 size
spec spots start1 start2 startCodonCoverage startRegionRelative
subtitle sum.count sum_per_gene te trailers upstream_kozak_strength
utr3_len utr5_len value variable widths windowMean windowSD zscore
Consider adding
importFrom("base", "length")
importFrom("graphics", "frame")
to your NAMESPACE file.
* checking Rd files ... OK
* checking Rd metadata ... OK
* checking Rd cross-references ... OK
* checking for missing documentation entries ... OK
* checking for code/documentation mismatches ... OK
* checking Rd \usage sections ... OK
* checking Rd contents ... OK
* checking for unstated dependencies in examples ... OK
* checking line endings in C/C++/Fortran sources/headers ... OK
* checking line endings in Makefiles ... OK
* checking compilation flags in Makevars ... OK
* checking for GNU extensions in Makefiles ... OK
* checking for portable use of $(BLAS_LIBS) and $(LAPACK_LIBS) ... OK
* checking use of PKG_*FLAGS in Makefiles ... OK
* checking compiled code ... NOTE
Note: information on .o files is not available
* checking files in ‘vignettes’ ... OK
* checking examples ... OK
Examples with CPU (user + system) or elapsed time > 5s
user system elapsed
shiftPlots 7.533 1.326 0.102
computeFeatures 7.741 0.030 7.782
shiftFootprintsByExperiment 2.281 0.053 17.396
* checking for unstated dependencies in ‘tests’ ... OK
* checking tests ...
Running ‘testthat.R’
OK
* checking for unstated dependencies in vignettes ... OK
* checking package vignettes in ‘inst/doc’ ... OK
* checking running R code from vignettes ... SKIPPED
* checking re-building of vignette outputs ... SKIPPED
* checking PDF version of manual ... OK
* DONE
Status: 3 NOTEs
See
‘/Users/biocbuild/bbs-3.14-bioc/meat/ORFik.Rcheck/00check.log’
for details.
ORFik.Rcheck/00install.out
############################################################################## ############################################################################## ### ### Running command: ### ### /Library/Frameworks/R.framework/Resources/bin/R CMD INSTALL ORFik ### ############################################################################## ############################################################################## * installing to library ‘/Library/Frameworks/R.framework/Versions/4.1/Resources/library’ * installing *source* package ‘ORFik’ ... ** using staged installation ** libs clang++ -mmacosx-version-min=10.13 -std=gnu++11 -I"/Library/Frameworks/R.framework/Resources/include" -DNDEBUG -I'/Library/Frameworks/R.framework/Versions/4.1/Resources/library/Rcpp/include' -I/usr/local/include -fPIC -Wall -g -O2 -c RcppExports.cpp -o RcppExports.o clang++ -mmacosx-version-min=10.13 -std=gnu++11 -I"/Library/Frameworks/R.framework/Resources/include" -DNDEBUG -I'/Library/Frameworks/R.framework/Versions/4.1/Resources/library/Rcpp/include' -I/usr/local/include -fPIC -Wall -g -O2 -c findORFsHelpers.cpp -o findORFsHelpers.o clang++ -mmacosx-version-min=10.13 -std=gnu++11 -I"/Library/Frameworks/R.framework/Resources/include" -DNDEBUG -I'/Library/Frameworks/R.framework/Versions/4.1/Resources/library/Rcpp/include' -I/usr/local/include -fPIC -Wall -g -O2 -c findOrfs.cpp -o findOrfs.o clang++ -mmacosx-version-min=10.13 -std=gnu++11 -I"/Library/Frameworks/R.framework/Resources/include" -DNDEBUG -I'/Library/Frameworks/R.framework/Versions/4.1/Resources/library/Rcpp/include' -I/usr/local/include -fPIC -Wall -g -O2 -c findOrfsFasta.cpp -o findOrfsFasta.o clang++ -mmacosx-version-min=10.13 -std=gnu++11 -I"/Library/Frameworks/R.framework/Resources/include" -DNDEBUG -I'/Library/Frameworks/R.framework/Versions/4.1/Resources/library/Rcpp/include' -I/usr/local/include -fPIC -Wall -g -O2 -c pmapFromTranscripts.cpp -o pmapFromTranscripts.o clang++ -mmacosx-version-min=10.13 -std=gnu++11 -I"/Library/Frameworks/R.framework/Resources/include" -DNDEBUG -I'/Library/Frameworks/R.framework/Versions/4.1/Resources/library/Rcpp/include' -I/usr/local/include -fPIC -Wall -g -O2 -c pmapToTranscripts.cpp -o pmapToTranscripts.o clang++ -mmacosx-version-min=10.13 -std=gnu++11 -dynamiclib -Wl,-headerpad_max_install_names -undefined dynamic_lookup -single_module -multiply_defined suppress -L/Library/Frameworks/R.framework/Resources/lib -L/usr/local/lib -o ORFik.so RcppExports.o findORFsHelpers.o findOrfs.o findOrfsFasta.o pmapFromTranscripts.o pmapToTranscripts.o -F/Library/Frameworks/R.framework/.. -framework R -Wl,-framework -Wl,CoreFoundation installing to /Library/Frameworks/R.framework/Versions/4.1/Resources/library/00LOCK-ORFik/00new/ORFik/libs ** R ** inst ** byte-compile and prepare package for lazy loading ** help *** installing help indices ** building package indices ** installing vignettes ** testing if installed package can be loaded from temporary location ** checking absolute paths in shared objects and dynamic libraries ** testing if installed package can be loaded from final location ** testing if installed package keeps a record of temporary installation path * DONE (ORFik)
ORFik.Rcheck/tests/testthat.Rout
R version 4.1.3 (2022-03-10) -- "One Push-Up"
Copyright (C) 2022 The R Foundation for Statistical Computing
Platform: x86_64-apple-darwin17.0 (64-bit)
R is free software and comes with ABSOLUTELY NO WARRANTY.
You are welcome to redistribute it under certain conditions.
Type 'license()' or 'licence()' for distribution details.
R is a collaborative project with many contributors.
Type 'contributors()' for more information and
'citation()' on how to cite R or R packages in publications.
Type 'demo()' for some demos, 'help()' for on-line help, or
'help.start()' for an HTML browser interface to help.
Type 'q()' to quit R.
> library(testthat)
> library(ORFik)
Loading required package: IRanges
Loading required package: BiocGenerics
Attaching package: 'BiocGenerics'
The following objects are masked from 'package:stats':
IQR, mad, sd, var, xtabs
The following objects are masked from 'package:base':
Filter, Find, Map, Position, Reduce, anyDuplicated, append,
as.data.frame, basename, cbind, colnames, dirname, do.call,
duplicated, eval, evalq, get, grep, grepl, intersect, is.unsorted,
lapply, mapply, match, mget, order, paste, pmax, pmax.int, pmin,
pmin.int, rank, rbind, rownames, sapply, setdiff, sort, table,
tapply, union, unique, unsplit, which.max, which.min
Loading required package: S4Vectors
Loading required package: stats4
Attaching package: 'S4Vectors'
The following objects are masked from 'package:base':
I, expand.grid, unname
Loading required package: GenomicRanges
Loading required package: GenomeInfoDb
Loading required package: GenomicAlignments
Loading required package: SummarizedExperiment
Loading required package: MatrixGenerics
Loading required package: matrixStats
Attaching package: 'MatrixGenerics'
The following objects are masked from 'package:matrixStats':
colAlls, colAnyNAs, colAnys, colAvgsPerRowSet, colCollapse,
colCounts, colCummaxs, colCummins, colCumprods, colCumsums,
colDiffs, colIQRDiffs, colIQRs, colLogSumExps, colMadDiffs,
colMads, colMaxs, colMeans2, colMedians, colMins, colOrderStats,
colProds, colQuantiles, colRanges, colRanks, colSdDiffs, colSds,
colSums2, colTabulates, colVarDiffs, colVars, colWeightedMads,
colWeightedMeans, colWeightedMedians, colWeightedSds,
colWeightedVars, rowAlls, rowAnyNAs, rowAnys, rowAvgsPerColSet,
rowCollapse, rowCounts, rowCummaxs, rowCummins, rowCumprods,
rowCumsums, rowDiffs, rowIQRDiffs, rowIQRs, rowLogSumExps,
rowMadDiffs, rowMads, rowMaxs, rowMeans2, rowMedians, rowMins,
rowOrderStats, rowProds, rowQuantiles, rowRanges, rowRanks,
rowSdDiffs, rowSds, rowSums2, rowTabulates, rowVarDiffs, rowVars,
rowWeightedMads, rowWeightedMeans, rowWeightedMedians,
rowWeightedSds, rowWeightedVars
Loading required package: Biobase
Welcome to Bioconductor
Vignettes contain introductory material; view with
'browseVignettes()'. To cite Bioconductor, see
'citation("Biobase")', and for packages 'citation("pkgname")'.
Attaching package: 'Biobase'
The following object is masked from 'package:MatrixGenerics':
rowMedians
The following objects are masked from 'package:matrixStats':
anyMissing, rowMedians
Loading required package: Biostrings
Loading required package: XVector
Attaching package: 'Biostrings'
The following object is masked from 'package:base':
strsplit
Loading required package: Rsamtools
>
> test_check("ORFik")
widths group.size
Min. : 6.0 Min. :1.00
1st Qu.: 7.5 1st Qu.:1.75
Median : 9.0 Median :2.50
Mean : 9.0 Mean :2.50
3rd Qu.:10.5 3rd Qu.:3.25
Max. :12.0 Max. :4.00
[1] "CAGE_Mutant_r1"
[1] "CAGE_Mutant_r2"
[1] "CAGE_WT_r1"
[1] "CAGE_WT_r2"
[1] "PAS_Mutant_r1"
[1] "PAS_Mutant_r2"
[1] "PAS_WT_r1"
[1] "PAS_WT_r2"
[1] "RFP_Mutant_r1"
[1] "RFP_Mutant_r2"
[1] "RFP_WT_r1"
[1] "RFP_WT_r2"
[1] "RNA_Mutant_r1"
[1] "RNA_Mutant_r2"
[1] "RNA_WT_r1"
[1] "RNA_WT_r2"
[1] "RFP"
[1] "RFP"
[1] "RFP"
[1] "RFP"
[ FAIL 0 | WARN 0 | SKIP 0 | PASS 361 ]
>
> proc.time()
user system elapsed
132.490 4.435 151.672
ORFik.Rcheck/ORFik-Ex.timings
| name | user | system | elapsed | |
| DEG.analysis | 0.614 | 0.031 | 0.646 | |
| DEG.plot.static | 1.390 | 0.054 | 1.445 | |
| DTEG.analysis | 0.410 | 0.002 | 0.413 | |
| DTEG.plot | 0.467 | 0.004 | 0.470 | |
| ORFik.template.experiment | 0.498 | 0.026 | 0.525 | |
| ORFik.template.experiment.zf | 0.081 | 0.009 | 0.089 | |
| ORFikQC | 0.541 | 0.048 | 0.589 | |
| QCreport | 0.485 | 0.045 | 0.531 | |
| QCstats | 0.445 | 0.041 | 0.486 | |
| QCstats.plot | 0.446 | 0.003 | 0.449 | |
| RiboQC.plot | 0.440 | 0.003 | 0.443 | |
| STAR.align.folder | 0.000 | 0.001 | 0.001 | |
| STAR.align.single | 0 | 0 | 0 | |
| STAR.index | 0.000 | 0.001 | 0.001 | |
| STAR.install | 0.001 | 0.001 | 0.000 | |
| STAR.remove.crashed.genome | 0.001 | 0.000 | 0.000 | |
| TOP.Motif.ecdf | 0.001 | 0.000 | 0.001 | |
| artificial.orfs | 0.494 | 0.003 | 0.497 | |
| asTX | 1.415 | 0.014 | 1.431 | |
| assignTSSByCage | 0.002 | 0.000 | 0.002 | |
| bamVarName | 0.707 | 0.002 | 0.710 | |
| collapse.by.scores | 0.242 | 0.001 | 0.244 | |
| collapse.fastq | 0.001 | 0.001 | 0.000 | |
| collapseDuplicatedReads-GAlignmentPairs-method | 0.124 | 0.001 | 0.125 | |
| collapseDuplicatedReads-GAlignments-method | 0.072 | 0.001 | 0.073 | |
| collapseDuplicatedReads-GRanges-method | 0.068 | 0.001 | 0.069 | |
| collapseDuplicatedReads | 0.066 | 0.000 | 0.066 | |
| combn.pairs | 0.491 | 0.002 | 0.493 | |
| computeFeatures | 7.741 | 0.030 | 7.782 | |
| computeFeaturesCage | 0.000 | 0.000 | 0.001 | |
| config | 0 | 0 | 0 | |
| config.exper | 0.000 | 0.000 | 0.001 | |
| config.save | 0.001 | 0.000 | 0.000 | |
| convertLibs | 0.456 | 0.002 | 0.458 | |
| convertToOneBasedRanges | 0.316 | 0.002 | 0.319 | |
| countOverlapsW | 0.145 | 0.001 | 0.146 | |
| countTable | 0.521 | 0.003 | 0.524 | |
| countTable_regions | 0.498 | 0.002 | 0.500 | |
| coverageHeatMap | 1.804 | 0.007 | 1.813 | |
| coveragePerTiling | 1.223 | 0.004 | 1.227 | |
| coverageScorings | 0.013 | 0.001 | 0.014 | |
| create.experiment | 0.464 | 0.002 | 0.466 | |
| defineTrailer | 0.278 | 0.001 | 0.279 | |
| design-experiment-method | 0.517 | 0.002 | 0.520 | |
| detectRibosomeShifts | 0.002 | 0.001 | 0.003 | |
| disengagementScore | 0.949 | 0.001 | 0.952 | |
| distToCds | 0.307 | 0.000 | 0.308 | |
| distToTSS | 0.4 | 0.0 | 0.4 | |
| download.SRA | 0.001 | 0.000 | 0.000 | |
| download.SRA.metadata | 0.384 | 0.016 | 1.667 | |
| entropy | 1.505 | 0.004 | 1.510 | |
| experiment-class | 0.533 | 0.004 | 0.537 | |
| export.bed12 | 0.048 | 0.001 | 0.049 | |
| export.bigWig | 0.091 | 0.001 | 0.092 | |
| export.ofst-GAlignmentPairs-method | 0.131 | 0.001 | 0.132 | |
| export.ofst-GAlignments-method | 0.091 | 0.000 | 0.092 | |
| export.ofst-GRanges-method | 0.134 | 0.000 | 0.135 | |
| export.ofst | 0.091 | 0.001 | 0.091 | |
| export.wiggle | 0.070 | 0.000 | 0.069 | |
| extendLeaders | 1.971 | 0.021 | 2.000 | |
| extendTrailers | 1.158 | 0.012 | 1.171 | |
| filepath | 0.406 | 0.001 | 0.408 | |
| filterTranscripts | 2.278 | 0.011 | 2.293 | |
| fimport | 0.555 | 0.021 | 0.578 | |
| findFa | 0.009 | 0.001 | 0.010 | |
| findMapORFs | 1.091 | 0.005 | 1.097 | |
| findORFs | 0.366 | 0.004 | 0.370 | |
| findORFsFasta | 0.146 | 0.014 | 0.194 | |
| findPeaksPerGene | 1.775 | 0.011 | 1.789 | |
| findUORFs | 0.001 | 0.001 | 0.001 | |
| find_url_ebi | 0.046 | 0.007 | 3.594 | |
| firstEndPerGroup | 0.147 | 0.001 | 0.149 | |
| firstExonPerGroup | 0.166 | 0.002 | 0.168 | |
| firstStartPerGroup | 0.145 | 0.001 | 0.145 | |
| flankPerGroup | 0.404 | 0.032 | 0.438 | |
| floss | 0.600 | 0.004 | 0.604 | |
| fpkm | 0.276 | 0.002 | 0.278 | |
| fractionLength | 0.142 | 0.001 | 0.142 | |
| fread.bed | 0.075 | 0.010 | 0.086 | |
| gcContent | 0.828 | 0.024 | 0.852 | |
| getGenomeAndAnnotation | 0.000 | 0.001 | 0.001 | |
| get_genome_fasta | 0.000 | 0.001 | 0.000 | |
| get_genome_gtf | 0 | 0 | 0 | |
| get_noncoding_rna | 0.000 | 0.000 | 0.001 | |
| get_phix_genome | 0.000 | 0.001 | 0.001 | |
| get_silva_rRNA | 0.000 | 0.001 | 0.001 | |
| groupGRangesBy | 0.137 | 0.005 | 0.143 | |
| groupings | 0.105 | 0.006 | 0.111 | |
| heatMapRegion | 0.542 | 0.016 | 0.560 | |
| import.ofst | 0.146 | 0.002 | 0.148 | |
| initiationScore | 2.037 | 0.004 | 2.042 | |
| insideOutsideORF | 1.414 | 0.003 | 1.416 | |
| install.fastp | 0 | 0 | 0 | |
| install.sratoolkit | 0 | 0 | 0 | |
| isInFrame | 0.461 | 0.001 | 0.461 | |
| isOverlapping | 0.440 | 0.000 | 0.442 | |
| kozakHeatmap | 0.000 | 0.000 | 0.001 | |
| kozakSequenceScore | 0.947 | 0.002 | 0.950 | |
| lastExonEndPerGroup | 0.134 | 0.001 | 0.136 | |
| lastExonPerGroup | 0.149 | 0.002 | 0.152 | |
| lastExonStartPerGroup | 0.145 | 0.001 | 0.146 | |
| libraryTypes | 0.504 | 0.006 | 0.511 | |
| list.experiments | 0.381 | 0.003 | 0.383 | |
| list.genomes | 0.002 | 0.001 | 0.002 | |
| loadRegion | 1.230 | 0.016 | 1.248 | |
| loadRegions | 1.159 | 0.014 | 1.175 | |
| loadTranscriptType | 0.000 | 0.001 | 0.000 | |
| loadTxdb | 0.214 | 0.006 | 0.221 | |
| longestORFs | 0.274 | 0.001 | 0.276 | |
| makeORFNames | 0.142 | 0.001 | 0.143 | |
| makeSummarizedExperimentFromBam | 0.464 | 0.001 | 0.466 | |
| makeTxdbFromGenome | 0.000 | 0.000 | 0.001 | |
| mergeFastq | 0.000 | 0.000 | 0.002 | |
| metaWindow | 0.344 | 0.003 | 0.347 | |
| numExonsPerGroup | 0.097 | 0.001 | 0.098 | |
| orfFrameDistributions | 3.528 | 0.580 | 4.074 | |
| orfScore | 1.402 | 0.121 | 1.525 | |
| organism-experiment-method | 0.551 | 0.039 | 0.593 | |
| outputLibs | 1.722 | 0.640 | 1.661 | |
| pSitePlot | 0.649 | 0.070 | 0.720 | |
| pcaExperiment | 2.081 | 0.144 | 2.229 | |
| pmapFromTranscriptF | 0.194 | 0.002 | 0.196 | |
| pmapToTranscriptF | 1.504 | 0.021 | 1.530 | |
| rankOrder | 0.161 | 0.002 | 0.163 | |
| read.experiment | 0.470 | 0.004 | 0.474 | |
| readBam | 0.262 | 0.014 | 0.276 | |
| readWidths | 0.041 | 0.001 | 0.041 | |
| reassignTSSbyCage | 1.094 | 0.015 | 1.113 | |
| reassignTxDbByCage | 0.001 | 0.001 | 0.001 | |
| reduceKeepAttr | 0.274 | 0.002 | 0.277 | |
| regionPerReadLength | 1.175 | 0.675 | 1.781 | |
| remove.experiments | 0.608 | 0.073 | 0.929 | |
| ribosomeReleaseScore | 0.509 | 0.042 | 0.712 | |
| ribosomeStallingScore | 0.723 | 0.064 | 0.826 | |
| save.experiment | 0.629 | 0.044 | 0.854 | |
| scaledWindowPositions | 0.803 | 0.065 | 1.316 | |
| seqnamesPerGroup | 0.172 | 0.010 | 0.301 | |
| shiftFootprints | 0.003 | 0.001 | 0.004 | |
| shiftFootprintsByExperiment | 2.281 | 0.053 | 17.396 | |
| shiftPlots | 7.533 | 1.326 | 0.102 | |
| shifts.load | 0.484 | 0.049 | 0.534 | |
| simpleLibs | 0.605 | 0.056 | 0.661 | |
| sortPerGroup | 0.468 | 0.038 | 0.507 | |
| startCodons | 0.915 | 0.072 | 0.988 | |
| startDefinition | 0.000 | 0.001 | 0.001 | |
| startRegion | 0.896 | 0.022 | 0.917 | |
| startSites | 0.554 | 0.002 | 0.556 | |
| stopCodons | 0.973 | 0.003 | 0.977 | |
| stopDefinition | 0.000 | 0.000 | 0.001 | |
| stopRegion | 1.142 | 0.004 | 1.502 | |
| stopSites | 0.631 | 0.002 | 0.640 | |
| strandBool | 0.026 | 0.001 | 0.031 | |
| strandPerGroup | 0.157 | 0.002 | 0.173 | |
| subsetToFrame | 0.049 | 0.001 | 0.058 | |
| te.plot | 0.000 | 0.001 | 0.001 | |
| te.table | 0.590 | 0.005 | 0.766 | |
| te_rna.plot | 0.598 | 0.007 | 0.923 | |
| tile1 | 0.493 | 0.006 | 0.867 | |
| topMotif | 0.000 | 0.001 | 0.001 | |
| transcriptWindow | 1.950 | 0.028 | 3.511 | |
| translationalEff | 0.350 | 0.002 | 0.638 | |
| trimming.table | 0 | 0 | 0 | |
| txNames | 0.118 | 0.001 | 0.217 | |
| txNamesToGeneNames | 1.956 | 0.014 | 3.609 | |
| uORFSearchSpace | 1.335 | 0.012 | 2.408 | |
| uniqueGroups | 0.370 | 0.005 | 0.628 | |
| uniqueOrder | 0.514 | 0.002 | 0.801 | |
| unlistGrl | 0.145 | 0.002 | 0.210 | |
| widthPerGroup | 0.124 | 0.001 | 0.176 | |
| windowCoveragePlot | 1.106 | 0.013 | 1.294 | |
| windowPerGroup | 1.035 | 0.006 | 1.613 | |
| windowPerReadLength | 2.147 | 0.012 | 3.418 | |