| Back to Multiple platform build/check report for BioC 3.14 |
|
This page was generated on 2022-04-13 12:07:00 -0400 (Wed, 13 Apr 2022).
| Hostname | OS | Arch (*) | R version | Installed pkgs |
|---|---|---|---|---|
| nebbiolo2 | Linux (Ubuntu 20.04.4 LTS) | x86_64 | 4.1.3 (2022-03-10) -- "One Push-Up" | 4324 |
| tokay2 | Windows Server 2012 R2 Standard | x64 | 4.1.3 (2022-03-10) -- "One Push-Up" | 4077 |
| machv2 | macOS 10.14.6 Mojave | x86_64 | 4.1.3 (2022-03-10) -- "One Push-Up" | 4137 |
| Click on any hostname to see more info about the system (e.g. compilers) (*) as reported by 'uname -p', except on Windows and Mac OS X | ||||
|
To the developers/maintainers of the NoRCE package: - Please allow up to 24 hours (and sometimes 48 hours) for your latest push to git@git.bioconductor.org:packages/NoRCE.git to reflect on this report. See How and When does the builder pull? When will my changes propagate? for more information. - Make sure to use the following settings in order to reproduce any error or warning you see on this page. |
| Package 1299/2083 | Hostname | OS / Arch | INSTALL | BUILD | CHECK | BUILD BIN | ||||||||
| NoRCE 1.6.0 (landing page) Gulden Olgun
| nebbiolo2 | Linux (Ubuntu 20.04.4 LTS) / x86_64 | OK | OK | OK | |||||||||
| tokay2 | Windows Server 2012 R2 Standard / x64 | OK | OK | OK | OK | |||||||||
| machv2 | macOS 10.14.6 Mojave / x86_64 | OK | OK | OK | OK | |||||||||
| Package: NoRCE |
| Version: 1.6.0 |
| Command: rm -rf NoRCE.buildbin-libdir && mkdir NoRCE.buildbin-libdir && C:\Users\biocbuild\bbs-3.14-bioc\R\bin\R.exe CMD INSTALL --merge-multiarch --build --library=NoRCE.buildbin-libdir NoRCE_1.6.0.tar.gz |
| StartedAt: 2022-04-13 06:43:24 -0400 (Wed, 13 Apr 2022) |
| EndedAt: 2022-04-13 06:44:24 -0400 (Wed, 13 Apr 2022) |
| EllapsedTime: 60.0 seconds |
| RetCode: 0 |
| Status: OK |
| PackageFile: NoRCE_1.6.0.zip |
| PackageFileSize: 2.431 MiB |
##############################################################################
##############################################################################
###
### Running command:
###
### rm -rf NoRCE.buildbin-libdir && mkdir NoRCE.buildbin-libdir && C:\Users\biocbuild\bbs-3.14-bioc\R\bin\R.exe CMD INSTALL --merge-multiarch --build --library=NoRCE.buildbin-libdir NoRCE_1.6.0.tar.gz
###
##############################################################################
##############################################################################
install for i386
* installing *source* package 'NoRCE' ...
** using staged installation
** R
** data
*** moving datasets to lazyload DB
** inst
** byte-compile and prepare package for lazy loading
** help
*** installing help indices
converting help for package 'NoRCE'
finding HTML links ... done
KeggEnrichment html
NoRCE-class html
WikiEnrichment html
annGO html
assembly html
brain_disorder_ncRNA html
brain_mirna html
breastmRNA html
calculateCorr html
convertGMT html
convertGeneID html
corrbased html
corrbasedMrna html
createNetwork html
drawDotPlot html
extractBiotype html
filterBiotype html
geneGOEnricher html
genePathwayEnricher html
geneRegionGOEnricher html
geneRegionPathwayEnricher html
getGoDag html
getKeggDiagram html
getNearToExon html
getNearToIntron html
getReactomeDiagram html
getTADOverlap html
getUCSC html
getmiRNACount html
goEnrichment html
listTAD html
mirna html
mirnaGOEnricher html
mirnaPathwayEnricher html
mirnaRegionGOEnricher html
mirnaRegionPathwayEnricher html
mrna html
ncRegion html
packageCheck html
pathwayEnrichment html
predictmiTargets html
reactomeEnrichment html
setParameters html
tad_dmel html
tad_hg19 html
tad_hg38 html
tad_mm10 html
topEnrichment html
writeEnrichment html
** building package indices
** installing vignettes
** testing if installed package can be loaded from temporary location
** testing if installed package can be loaded from final location
** testing if installed package keeps a record of temporary installation path
install for x64
* installing *source* package 'NoRCE' ...
** testing if installed package can be loaded
* MD5 sums
packaged installation of 'NoRCE' as NoRCE_1.6.0.zip
* DONE (NoRCE)