| Back to Multiple platform build/check report for BioC 3.14 |
|
This page was generated on 2022-04-13 12:06:54 -0400 (Wed, 13 Apr 2022).
| Hostname | OS | Arch (*) | R version | Installed pkgs |
|---|---|---|---|---|
| nebbiolo2 | Linux (Ubuntu 20.04.4 LTS) | x86_64 | 4.1.3 (2022-03-10) -- "One Push-Up" | 4324 |
| tokay2 | Windows Server 2012 R2 Standard | x64 | 4.1.3 (2022-03-10) -- "One Push-Up" | 4077 |
| machv2 | macOS 10.14.6 Mojave | x86_64 | 4.1.3 (2022-03-10) -- "One Push-Up" | 4137 |
| Click on any hostname to see more info about the system (e.g. compilers) (*) as reported by 'uname -p', except on Windows and Mac OS X | ||||
|
To the developers/maintainers of the MineICA package: - Please allow up to 24 hours (and sometimes 48 hours) for your latest push to git@git.bioconductor.org:packages/MineICA.git to reflect on this report. See How and When does the builder pull? When will my changes propagate? for more information. - Make sure to use the following settings in order to reproduce any error or warning you see on this page. |
| Package 1154/2083 | Hostname | OS / Arch | INSTALL | BUILD | CHECK | BUILD BIN | ||||||||
| MineICA 1.34.0 (landing page) Anne Biton
| nebbiolo2 | Linux (Ubuntu 20.04.4 LTS) / x86_64 | OK | ERROR | skipped | |||||||||
| tokay2 | Windows Server 2012 R2 Standard / x64 | OK | OK | WARNINGS | OK | |||||||||
| machv2 | macOS 10.14.6 Mojave / x86_64 | OK | OK | WARNINGS | OK | |||||||||
| Package: MineICA |
| Version: 1.34.0 |
| Command: rm -rf MineICA.buildbin-libdir && mkdir MineICA.buildbin-libdir && C:\Users\biocbuild\bbs-3.14-bioc\R\bin\R.exe CMD INSTALL --merge-multiarch --build --library=MineICA.buildbin-libdir MineICA_1.34.0.tar.gz |
| StartedAt: 2022-04-13 06:36:33 -0400 (Wed, 13 Apr 2022) |
| EndedAt: 2022-04-13 06:37:39 -0400 (Wed, 13 Apr 2022) |
| EllapsedTime: 65.8 seconds |
| RetCode: 0 |
| Status: OK |
| PackageFile: MineICA_1.34.0.zip |
| PackageFileSize: 2.427 MiB |
##############################################################################
##############################################################################
###
### Running command:
###
### rm -rf MineICA.buildbin-libdir && mkdir MineICA.buildbin-libdir && C:\Users\biocbuild\bbs-3.14-bioc\R\bin\R.exe CMD INSTALL --merge-multiarch --build --library=MineICA.buildbin-libdir MineICA_1.34.0.tar.gz
###
##############################################################################
##############################################################################
install for i386
* installing *source* package 'MineICA' ...
** using staged installation
** R
** data
** inst
** byte-compile and prepare package for lazy loading
Creating a new generic function for 'sampleNames<-' in package 'MineICA'
** help
*** installing help indices
converting help for package 'MineICA'
finding HTML links ... done
A html
Alist html
finding level-2 HTML links ... done
Rd warning: C:/Users/biocbuild/bbs-3.14-bioc/tmpdir/RtmpkXTNzd/R.INSTALLb8d450f550d/MineICA/man/Alist.Rd:26: missing link 'class-IcaSet'
Slist html
Rd warning: C:/Users/biocbuild/bbs-3.14-bioc/tmpdir/RtmpkXTNzd/R.INSTALLb8d450f550d/MineICA/man/Slist.Rd:28: missing link 'class-IcaSet'
addGenesToGoReport html
annot2Color html
annotCarbayo html
annotFeatures html
annotFeaturesComp html
annotFeaturesWithBiomaRt html
annotInGene html
annotReciprocal html
buildIcaSet html
buildMineICAParams html
build_sortHeatmap html
class-IcaSet html
Rd warning: C:/Users/biocbuild/bbs-3.14-bioc/tmpdir/RtmpkXTNzd/R.INSTALLb8d450f550d/MineICA/man/class-IcaSet.Rd:321: missing link 'class-IcaSet'
class-MineICAParams html
clusVarAnalysis html
clusterFastICARuns html
clusterSamplesByComp html
clusterSamplesByComp_multiple html
compareAn html
compareAn2graphfile html
compareGenes html
cor2An html
correl2Comp html
dat html
dataCarbayo html
doEnrichment html
getComp html
Rd warning: C:/Users/biocbuild/bbs-3.14-bioc/tmpdir/RtmpkXTNzd/R.INSTALLb8d450f550d/MineICA/man/getComp.Rd:33: missing link 'class-IcaSet'
getProj html
getSdExpr html
hgOver html
hypergeoAn html
icaSetCarbayo html
icaSetKim html
icaSetRiester html
icaSetStransky html
indComp html
mergeGostatsResults html
nbOccByGeneInComp html
nbOccInComp html
nbOccInComp_simple html
nodeAttrs html
plotAllMix html
plotCorGraph html
plotDens2classInComp_plotOnly html
plotDensAllAnnotInAllComp html
plotDensOneAnnotInAllComp html
plotMclust html
plotMix html
plotPosAnnotInComp html
plotPosOneAnnotInComp_ggplot html
plotPosOneAnnotLevInComp_ggplot html
plotPosSamplesInComp html
plot_heatmapsOnSel html
qualVarAnalysis html
quantVarAnalysis html
readA html
readS html
relativePath html
runAn html
runCompareIcaSets html
runEnrich html
runICA html
selectContrib html
selectFeatures_IQR html
selectWitnessGenes html
wilcoxOrKruskalOnA html
writeGenes html
writeGostatsHtmltable html
writeHtmlResTestsByAnnot html
writeProjByComp html
writeRnkFiles html
** building package indices
** installing vignettes
** testing if installed package can be loaded from temporary location
** testing if installed package can be loaded from final location
** testing if installed package keeps a record of temporary installation path
install for x64
* installing *source* package 'MineICA' ...
** testing if installed package can be loaded
* MD5 sums
packaged installation of 'MineICA' as MineICA_1.34.0.zip
* DONE (MineICA)