| Back to Multiple platform build/check report for BioC 3.14 |
|
This page was generated on 2022-04-13 12:06:51 -0400 (Wed, 13 Apr 2022).
| Hostname | OS | Arch (*) | R version | Installed pkgs |
|---|---|---|---|---|
| nebbiolo2 | Linux (Ubuntu 20.04.4 LTS) | x86_64 | 4.1.3 (2022-03-10) -- "One Push-Up" | 4324 |
| tokay2 | Windows Server 2012 R2 Standard | x64 | 4.1.3 (2022-03-10) -- "One Push-Up" | 4077 |
| machv2 | macOS 10.14.6 Mojave | x86_64 | 4.1.3 (2022-03-10) -- "One Push-Up" | 4137 |
| Click on any hostname to see more info about the system (e.g. compilers) (*) as reported by 'uname -p', except on Windows and Mac OS X | ||||
|
To the developers/maintainers of the Metab package: - Please allow up to 24 hours (and sometimes 48 hours) for your latest push to git@git.bioconductor.org:packages/Metab.git to reflect on this report. See How and When does the builder pull? When will my changes propagate? for more information. - Make sure to use the following settings in order to reproduce any error or warning you see on this page. |
| Package 1089/2083 | Hostname | OS / Arch | INSTALL | BUILD | CHECK | BUILD BIN | ||||||||
| Metab 1.28.0 (landing page) Raphael Aggio
| nebbiolo2 | Linux (Ubuntu 20.04.4 LTS) / x86_64 | OK | OK | OK | |||||||||
| tokay2 | Windows Server 2012 R2 Standard / x64 | OK | OK | OK | OK | |||||||||
| machv2 | macOS 10.14.6 Mojave / x86_64 | OK | OK | OK | OK | |||||||||
| Package: Metab |
| Version: 1.28.0 |
| Command: C:\cygwin\bin\curl.exe -O http://155.52.207.166/BBS/3.14/bioc/src/contrib/Metab_1.28.0.tar.gz && rm -rf Metab.buildbin-libdir && mkdir Metab.buildbin-libdir && C:\Users\biocbuild\bbs-3.14-bioc\R\bin\R.exe CMD INSTALL --merge-multiarch --build --library=Metab.buildbin-libdir Metab_1.28.0.tar.gz && C:\Users\biocbuild\bbs-3.14-bioc\R\bin\R.exe CMD INSTALL Metab_1.28.0.zip && rm Metab_1.28.0.tar.gz Metab_1.28.0.zip |
| StartedAt: 2022-04-12 05:40:41 -0400 (Tue, 12 Apr 2022) |
| EndedAt: 2022-04-12 05:42:00 -0400 (Tue, 12 Apr 2022) |
| EllapsedTime: 78.5 seconds |
| RetCode: 0 |
| Status: OK |
##############################################################################
##############################################################################
###
### Running command:
###
### C:\cygwin\bin\curl.exe -O http://155.52.207.166/BBS/3.14/bioc/src/contrib/Metab_1.28.0.tar.gz && rm -rf Metab.buildbin-libdir && mkdir Metab.buildbin-libdir && C:\Users\biocbuild\bbs-3.14-bioc\R\bin\R.exe CMD INSTALL --merge-multiarch --build --library=Metab.buildbin-libdir Metab_1.28.0.tar.gz && C:\Users\biocbuild\bbs-3.14-bioc\R\bin\R.exe CMD INSTALL Metab_1.28.0.zip && rm Metab_1.28.0.tar.gz Metab_1.28.0.zip
###
##############################################################################
##############################################################################
% Total % Received % Xferd Average Speed Time Time Time Current
Dload Upload Total Spent Left Speed
0 0 0 0 0 0 0 0 --:--:-- --:--:-- --:--:-- 0
14 3095k 14 441k 0 0 784k 0 0:00:03 --:--:-- 0:00:03 784k
64 3095k 64 2007k 0 0 1272k 0 0:00:02 0:00:01 0:00:01 1272k
100 3095k 100 3095k 0 0 1502k 0 0:00:02 0:00:02 --:--:-- 1503k
install for i386
* installing *source* package 'Metab' ...
** using staged installation
** R
** data
** inst
** byte-compile and prepare package for lazy loading
** help
*** installing help indices
converting help for package 'Metab'
finding HTML links ... done
MetReport html
MetReportNames html
Metab-package html
buildLib html
exampleAMDISReport html
exampleBiomass html
exampleHtest html
exampleIonLib html
exampleMSLfile html
exampleMetReport html
htest html
normalizeByBiomass html
normalizeByInternalStandard html
removeFalsePositives html
** building package indices
** installing vignettes
** testing if installed package can be loaded from temporary location
** testing if installed package can be loaded from final location
** testing if installed package keeps a record of temporary installation path
install for x64
* installing *source* package 'Metab' ...
** testing if installed package can be loaded
* MD5 sums
packaged installation of 'Metab' as Metab_1.28.0.zip
* DONE (Metab)
* installing to library 'C:/Users/biocbuild/bbs-3.14-bioc/R/library'
package 'Metab' successfully unpacked and MD5 sums checked