| Back to Multiple platform build/check report for BioC 3.14 |
|
This page was generated on 2022-04-13 12:06:53 -0400 (Wed, 13 Apr 2022).
| Hostname | OS | Arch (*) | R version | Installed pkgs |
|---|---|---|---|---|
| nebbiolo2 | Linux (Ubuntu 20.04.4 LTS) | x86_64 | 4.1.3 (2022-03-10) -- "One Push-Up" | 4324 |
| tokay2 | Windows Server 2012 R2 Standard | x64 | 4.1.3 (2022-03-10) -- "One Push-Up" | 4077 |
| machv2 | macOS 10.14.6 Mojave | x86_64 | 4.1.3 (2022-03-10) -- "One Push-Up" | 4137 |
| Click on any hostname to see more info about the system (e.g. compilers) (*) as reported by 'uname -p', except on Windows and Mac OS X | ||||
|
To the developers/maintainers of the MetNet package: - Please allow up to 24 hours (and sometimes 48 hours) for your latest push to git@git.bioconductor.org:packages/MetNet.git to reflect on this report. See How and When does the builder pull? When will my changes propagate? for more information. - Make sure to use the following settings in order to reproduce any error or warning you see on this page. |
| Package 1131/2083 | Hostname | OS / Arch | INSTALL | BUILD | CHECK | BUILD BIN | ||||||||
| MetNet 1.12.2 (landing page) Thomas Naake
| nebbiolo2 | Linux (Ubuntu 20.04.4 LTS) / x86_64 | OK | OK | OK | |||||||||
| tokay2 | Windows Server 2012 R2 Standard / x64 | OK | OK | OK | OK | |||||||||
| machv2 | macOS 10.14.6 Mojave / x86_64 | OK | OK | OK | OK | |||||||||
| Package: MetNet |
| Version: 1.12.2 |
| Command: rm -rf MetNet.buildbin-libdir && mkdir MetNet.buildbin-libdir && C:\Users\biocbuild\bbs-3.14-bioc\R\bin\R.exe CMD INSTALL --merge-multiarch --build --library=MetNet.buildbin-libdir MetNet_1.12.2.tar.gz |
| StartedAt: 2022-04-13 06:35:34 -0400 (Wed, 13 Apr 2022) |
| EndedAt: 2022-04-13 06:36:22 -0400 (Wed, 13 Apr 2022) |
| EllapsedTime: 47.9 seconds |
| RetCode: 0 |
| Status: OK |
| PackageFile: MetNet_1.12.2.zip |
| PackageFileSize: 4.072 MiB |
##############################################################################
##############################################################################
###
### Running command:
###
### rm -rf MetNet.buildbin-libdir && mkdir MetNet.buildbin-libdir && C:\Users\biocbuild\bbs-3.14-bioc\R\bin\R.exe CMD INSTALL --merge-multiarch --build --library=MetNet.buildbin-libdir MetNet_1.12.2.tar.gz
###
##############################################################################
##############################################################################
install for i386
* installing *source* package 'MetNet' ...
** using staged installation
** R
** data
** inst
** byte-compile and prepare package for lazy loading
** help
*** installing help indices
converting help for package 'MetNet'
finding HTML links ... done
AdjacencyMatrix-class html
AdjacencyMatrix html
AllGenerics html
MetNet-package html
addToList html
aracne html
bayes html
clr html
combine html
correlation html
dot-AdjacencyMatrix html
dot-assays_have_identical_colnames_rownames
html
dot-assays_have_identical_dimnames html
getLinks html
lasso html
mat_test html
mat_test_z html
mz_summary html
mz_vis html
peaklist html
randomForest html
rtCorrection html
statistical html
structural html
threeDotsCall html
threshold html
topKnet html
x_annotation html
x_test html
** building package indices
** installing vignettes
** testing if installed package can be loaded from temporary location
** testing if installed package can be loaded from final location
** testing if installed package keeps a record of temporary installation path
install for x64
* installing *source* package 'MetNet' ...
** testing if installed package can be loaded
* MD5 sums
packaged installation of 'MetNet' as MetNet_1.12.2.zip
* DONE (MetNet)