| Back to Multiple platform build/check report for BioC 3.14 |
|
This page was generated on 2022-04-13 12:08:17 -0400 (Wed, 13 Apr 2022).
| Hostname | OS | Arch (*) | R version | Installed pkgs |
|---|---|---|---|---|
| nebbiolo2 | Linux (Ubuntu 20.04.4 LTS) | x86_64 | 4.1.3 (2022-03-10) -- "One Push-Up" | 4324 |
| tokay2 | Windows Server 2012 R2 Standard | x64 | 4.1.3 (2022-03-10) -- "One Push-Up" | 4077 |
| machv2 | macOS 10.14.6 Mojave | x86_64 | 4.1.3 (2022-03-10) -- "One Push-Up" | 4137 |
| Click on any hostname to see more info about the system (e.g. compilers) (*) as reported by 'uname -p', except on Windows and Mac OS X | ||||
|
To the developers/maintainers of the Mergeomics package: - Please allow up to 24 hours (and sometimes 48 hours) for your latest push to git@git.bioconductor.org:packages/Mergeomics.git to reflect on this report. See How and When does the builder pull? When will my changes propagate? for more information. - Make sure to use the following settings in order to reproduce any error or warning you see on this page. |
| Package 1083/2083 | Hostname | OS / Arch | INSTALL | BUILD | CHECK | BUILD BIN | ||||||||
| Mergeomics 1.22.0 (landing page) Zeyneb Kurt
| nebbiolo2 | Linux (Ubuntu 20.04.4 LTS) / x86_64 | OK | OK | OK | |||||||||
| tokay2 | Windows Server 2012 R2 Standard / x64 | OK | OK | OK | OK | |||||||||
| machv2 | macOS 10.14.6 Mojave / x86_64 | OK | OK | OK | OK | |||||||||
| Package: Mergeomics |
| Version: 1.22.0 |
| Command: /Library/Frameworks/R.framework/Resources/bin/R CMD check --install=check:Mergeomics.install-out.txt --library=/Library/Frameworks/R.framework/Resources/library --no-vignettes --timings Mergeomics_1.22.0.tar.gz |
| StartedAt: 2022-04-12 15:08:06 -0400 (Tue, 12 Apr 2022) |
| EndedAt: 2022-04-12 15:21:11 -0400 (Tue, 12 Apr 2022) |
| EllapsedTime: 785.2 seconds |
| RetCode: 0 |
| Status: OK |
| CheckDir: Mergeomics.Rcheck |
| Warnings: 0 |
##############################################################################
##############################################################################
###
### Running command:
###
### /Library/Frameworks/R.framework/Resources/bin/R CMD check --install=check:Mergeomics.install-out.txt --library=/Library/Frameworks/R.framework/Resources/library --no-vignettes --timings Mergeomics_1.22.0.tar.gz
###
##############################################################################
##############################################################################
* using log directory ‘/Users/biocbuild/bbs-3.14-bioc/meat/Mergeomics.Rcheck’
* using R version 4.1.3 (2022-03-10)
* using platform: x86_64-apple-darwin17.0 (64-bit)
* using session charset: UTF-8
* using option ‘--no-vignettes’
* checking for file ‘Mergeomics/DESCRIPTION’ ... OK
* checking extension type ... Package
* this is package ‘Mergeomics’ version ‘1.22.0’
* checking package namespace information ... OK
* checking package dependencies ... OK
* checking if this is a source package ... OK
* checking if there is a namespace ... OK
* checking for hidden files and directories ... OK
* checking for portable file names ... OK
* checking for sufficient/correct file permissions ... OK
* checking whether package ‘Mergeomics’ can be installed ... OK
* checking installed package size ... NOTE
installed size is 8.4Mb
sub-directories of 1Mb or more:
extdata 7.5Mb
* checking package directory ... OK
* checking ‘build’ directory ... OK
* checking DESCRIPTION meta-information ... OK
* checking top-level files ... OK
* checking for left-over files ... OK
* checking index information ... OK
* checking package subdirectories ... OK
* checking R files for non-ASCII characters ... OK
* checking R files for syntax errors ... OK
* checking whether the package can be loaded ... OK
* checking whether the package can be loaded with stated dependencies ... OK
* checking whether the package can be unloaded cleanly ... OK
* checking whether the namespace can be loaded with stated dependencies ... OK
* checking whether the namespace can be unloaded cleanly ... OK
* checking dependencies in R code ... OK
* checking S3 generic/method consistency ... OK
* checking replacement functions ... OK
* checking foreign function calls ... OK
* checking R code for possible problems ... NOTE
kda.analyze: no visible global function definition for ‘p.adjust’
kda.analyze.exec: no visible global function definition for ‘pnorm’
kda.analyze.simulate: no visible global function definition for ‘rnorm’
kda.prepare: no visible global function definition for ‘quantile’
kda.prepare: no visible global function definition for ‘object.size’
kda.prepare.screen: no visible global function definition for
‘quantile’
kda.prepare.screen: no visible global function definition for ‘median’
kda.start: no visible global function definition for ‘object.size’
kda2cytoscape: no visible global function definition for ‘write.table’
kda2cytoscape.colormap: no visible global function definition for
‘rainbow’
kda2cytoscape.colormap: no visible global function definition for
‘col2rgb’
kda2himmeli: no visible global function definition for ‘quantile’
kda2himmeli: no visible global function definition for ‘write.table’
kda2himmeli.colormap: no visible global function definition for
‘rainbow’
kda2himmeli.colormap: no visible global function definition for
‘col2rgb’
ssea.analyze: no visible global function definition for ‘qnorm’
ssea.analyze: no visible global function definition for ‘approx’
ssea.analyze: no visible global function definition for ‘pnorm’
ssea.analyze.simulate: no visible global function definition for
‘quantile’
ssea.control: no visible global function definition for ‘median’
ssea.control: no visible global function definition for ‘object.size’
ssea.meta: no visible global function definition for ‘qnorm’
ssea.meta: no visible global function definition for ‘quantile’
ssea.meta: no visible global function definition for ‘pnorm’
ssea.meta: no visible global function definition for ‘median’
ssea.meta: no visible global function definition for ‘na.omit’
ssea.prepare: no visible global function definition for ‘median’
ssea.prepare: no visible global function definition for ‘object.size’
ssea.start: no visible global function definition for ‘na.omit’
ssea.start: no visible global function definition for ‘object.size’
ssea.start.configure: no visible global function definition for
‘write.table’
ssea2kda: no visible global function definition for ‘na.omit’
ssea2kda.import: no visible global function definition for ‘na.omit’
tool.aggregate: no visible global function definition for ‘na.omit’
tool.cluster: no visible global function definition for ‘as.dist’
tool.cluster: no visible global function definition for ‘hclust’
tool.fdr.bh: no visible global function definition for ‘qnorm’
tool.fdr.bh: no visible global function definition for ‘p.adjust’
tool.fdr.bh: no visible global function definition for ‘approx’
tool.fdr.empirical: no visible global function definition for ‘qnorm’
tool.fdr.empirical: no visible global function definition for ‘approx’
tool.metap: no visible global function definition for ‘qnorm’
tool.metap: no visible global function definition for ‘pnorm’
tool.normalize: no visible global function definition for ‘sd’
tool.normalize: no visible global function definition for ‘median’
tool.normalize: no visible global function definition for ‘optim’
tool.normalize: no visible global function definition for ‘ks.test’
tool.normalize.quality: no visible global function definition for ‘sd’
tool.normalize.quality: no visible global function definition for
‘ks.test’
tool.overlap: no visible global function definition for ‘phyper’
tool.read: no visible global function definition for ‘read.delim’
tool.read: no visible global function definition for ‘na.omit’
tool.save: no visible global function definition for ‘write.table’
tool.unify: no visible global function definition for ‘sd’
tool.unify: no visible global function definition for ‘quantile’
tool.unify: no visible global function definition for ‘approx’
Undefined global functions or variables:
approx as.dist col2rgb hclust ks.test median na.omit object.size
optim p.adjust phyper pnorm qnorm quantile rainbow read.delim rnorm
sd write.table
Consider adding
importFrom("grDevices", "col2rgb", "rainbow")
importFrom("stats", "approx", "as.dist", "hclust", "ks.test", "median",
"na.omit", "optim", "p.adjust", "phyper", "pnorm", "qnorm",
"quantile", "rnorm", "sd")
importFrom("utils", "object.size", "read.delim", "write.table")
to your NAMESPACE file.
* checking Rd files ... OK
* checking Rd metadata ... OK
* checking Rd cross-references ... OK
* checking for missing documentation entries ... OK
* checking for code/documentation mismatches ... OK
* checking Rd \usage sections ... OK
* checking Rd contents ... OK
* checking for unstated dependencies in examples ... OK
* checking contents of ‘data’ directory ... OK
* checking data for non-ASCII characters ... OK
* checking data for ASCII and uncompressed saves ... OK
* checking sizes of PDF files under ‘inst/doc’ ... OK
* checking files in ‘vignettes’ ... OK
* checking examples ... OK
Examples with CPU (user + system) or elapsed time > 5s
user system elapsed
kda.analyze.exec 14.019 0.366 14.399
kda.analyze.simulate 12.954 0.277 13.243
kda.prepare 12.753 0.202 12.966
kda.analyze.test 12.582 0.250 12.840
ssea2kda 9.396 0.337 9.739
ssea2kda.analyze 8.868 0.301 9.176
ssea.meta 7.881 0.135 8.023
ssea2kda.import 7.510 0.188 7.707
ssea.finish.fdr 7.350 0.193 7.560
ssea.finish.genes 7.312 0.163 7.479
ssea.analyze 7.090 0.212 7.309
ssea.finish 7.107 0.168 7.284
ssea.finish.details 7.063 0.171 7.265
ssea.analyze.simulate 6.928 0.165 7.100
ssea.analyze.randgenes 5.571 0.040 5.616
ssea.analyze.randloci 5.378 0.033 5.413
ssea.analyze.observe 5.352 0.053 5.415
ssea.control 5.221 0.034 5.257
ssea.prepare 5.007 0.052 5.068
ssea.start 5.011 0.034 5.050
* checking for unstated dependencies in ‘tests’ ... OK
* checking tests ...
Running ‘runTests.R’
OK
* checking for unstated dependencies in vignettes ... OK
* checking package vignettes in ‘inst/doc’ ... OK
* checking running R code from vignettes ... SKIPPED
* checking re-building of vignette outputs ... SKIPPED
* checking PDF version of manual ... OK
* DONE
Status: 2 NOTEs
See
‘/Users/biocbuild/bbs-3.14-bioc/meat/Mergeomics.Rcheck/00check.log’
for details.
Mergeomics.Rcheck/00install.out
############################################################################## ############################################################################## ### ### Running command: ### ### /Library/Frameworks/R.framework/Resources/bin/R CMD INSTALL Mergeomics ### ############################################################################## ############################################################################## * installing to library ‘/Library/Frameworks/R.framework/Versions/4.1/Resources/library’ * installing *source* package ‘Mergeomics’ ... ** using staged installation ** R ** data ** inst ** byte-compile and prepare package for lazy loading ** help *** installing help indices ** building package indices ** installing vignettes ** testing if installed package can be loaded from temporary location ** testing if installed package can be loaded from final location ** testing if installed package keeps a record of temporary installation path * DONE (Mergeomics)
Mergeomics.Rcheck/tests/runTests.Rout
R version 4.1.3 (2022-03-10) -- "One Push-Up"
Copyright (C) 2022 The R Foundation for Statistical Computing
Platform: x86_64-apple-darwin17.0 (64-bit)
R is free software and comes with ABSOLUTELY NO WARRANTY.
You are welcome to redistribute it under certain conditions.
Type 'license()' or 'licence()' for distribution details.
R is a collaborative project with many contributors.
Type 'contributors()' for more information and
'citation()' on how to cite R or R packages in publications.
Type 'demo()' for some demos, 'help()' for on-line help, or
'help.start()' for an HTML browser interface to help.
Type 'q()' to quit R.
> BiocGenerics:::testPackage("Mergeomics")
KDA Version:12.7.2015
Parameters:
Search depth: 1
Search direction: 1
Maximum overlap: 0.33
Minimum module size: 20
Minimum degree: automatic
Maximum degree: automatic
Edge factor: 0
Random seed: 1
Importing edges...
TAIL HEAD WEIGHT
Length:140663 Length:140663 Min. :1
Class :character Class :character 1st Qu.:1
Mode :character Mode :character Median :1
Mean :1
3rd Qu.:1
Max. :1
Importing modules...
MODULE NODE
Length:1643 Length:1643
Class :character Class :character
Mode :character Mode :character
Graph: 7.694687 Mb
Minimum degree set to 20
Maximum degree set to 278
Collecting hubs...
4876 hubs (25.21%)
Graph: 13.28496 Mb
Analyzing network...
6675: Dhcr7, n=114, p=2.24e-17
6648: Cit, n=20, p=7.89e-01
6643: Pbx4, n=23, p=2.32e-05
5582: Sypl, n=319, p=2.02e-02
4746: Tcf7l2, n=73, p=2.63e-02
4708: Tpte, n=86, p=5.05e-02
4511: Pzp, n=160, p=8.85e-03
4464: Tsc22d3, n=487, p=4.28e-13
4407: Dntt, n=93, p=2.40e-20
4360: Amica1, n=132, p=1.06e-06
4588,..: Lrg1, n=86, p=5.76e-12
MSEA Version:01.04.2016
Parameters:
Permutation type: gene
Permutations: 100
Random seed: 1
Minimum gene count: 10
Maximum gene count: 500
Maximum overlap between genes: 0.33
Importing modules...
MODULE DESCR
Length:20 Length:20
Class :character Class :character
Mode :character Mode :character
MODULE GENE
Length:2906 Length:2906
Class :character Class :character
Mode :character Mode :character
Importing marker values...
MARKER VALUE
Length:76866 Min. : 0.8094
Class :character 1st Qu.: 0.9450
Mode :character Median : 1.1374
Mean : 1.3944
3rd Qu.: 1.4688
Max. :323.0100
Importing mapping data...
GENE MARKER
Length:132705 Length:132705
Class :character Class :character
Mode :character Mode :character
Merging genes containing shared markers...
WARNING! Limited overlap analysis due to large number of groups.
88467/1673535
181551/1673535
273453/1673535
365612/1673535
457993/1673535
554633/1673535
647779/1673535
735555/1673535
821945/1673535
916449/1673535
1005782/1673535
1092386/1673535
1180736/1673535
1271990/1673535
1359203/1673535
1448975/1673535
1541003/1673535
1629617/1673535
1673535 comparisons
21115 comparisons
13861 comparisons
12880 comparisons
Job: 11.66891 Mb
Preparing data structures...
Job: 17.11776 Mb
Adding positive controls...
Job: 17.42039 Mb
Estimating enrichment...
100/100 cycles
Normalizing scores...
RUNIT TEST PROTOCOL -- Tue Apr 12 15:20:59 2022
***********************************************
Number of test functions: 2
Number of errors: 0
Number of failures: 0
1 Test Suite :
Mergeomics RUnit Tests - 2 test functions, 0 errors, 0 failures
Number of test functions: 2
Number of errors: 0
Number of failures: 0
>
> proc.time()
user system elapsed
526.639 15.705 542.763
Mergeomics.Rcheck/Mergeomics-Ex.timings
| name | user | system | elapsed | |
| MSEA.KDA.onestep | 0.004 | 0.002 | 0.005 | |
| job.kda | 0.022 | 0.005 | 0.028 | |
| kda.analyze | 0.018 | 0.005 | 0.023 | |
| kda.analyze.exec | 14.019 | 0.366 | 14.399 | |
| kda.analyze.simulate | 12.954 | 0.277 | 13.243 | |
| kda.analyze.test | 12.582 | 0.250 | 12.840 | |
| kda.configure | 0.000 | 0.001 | 0.001 | |
| kda.finish | 0.135 | 0.007 | 0.143 | |
| kda.finish.estimate | 0.137 | 0.002 | 0.139 | |
| kda.finish.save | 0.129 | 0.002 | 0.131 | |
| kda.finish.summarize | 0.143 | 0.002 | 0.145 | |
| kda.finish.trim | 0.121 | 0.003 | 0.124 | |
| kda.prepare | 12.753 | 0.202 | 12.966 | |
| kda.prepare.overlap | 0.000 | 0.001 | 0.002 | |
| kda.prepare.screen | 0.001 | 0.001 | 0.001 | |
| kda.start | 1.802 | 0.057 | 1.862 | |
| kda.start.edges | 0.002 | 0.001 | 0.004 | |
| kda.start.identify | 0.007 | 0.001 | 0.008 | |
| kda.start.modules | 0.002 | 0.001 | 0.004 | |
| kda2cytoscape | 0.531 | 0.011 | 0.543 | |
| kda2cytoscape.colorize | 0.000 | 0.001 | 0.001 | |
| kda2cytoscape.colormap | 0 | 0 | 0 | |
| kda2cytoscape.drivers | 0.203 | 0.006 | 0.211 | |
| kda2cytoscape.edges | 0.176 | 0.008 | 0.184 | |
| kda2cytoscape.exec | 0.176 | 0.007 | 0.182 | |
| kda2cytoscape.identify | 0.005 | 0.001 | 0.006 | |
| kda2himmeli | 0.580 | 0.012 | 0.634 | |
| kda2himmeli.colorize | 0.000 | 0.000 | 0.001 | |
| kda2himmeli.colormap | 0.001 | 0.000 | 0.001 | |
| kda2himmeli.drivers | 0.171 | 0.007 | 0.177 | |
| kda2himmeli.edges | 0.187 | 0.007 | 0.193 | |
| kda2himmeli.exec | 0.323 | 0.013 | 0.336 | |
| kda2himmeli.identify | 0.004 | 0.000 | 0.004 | |
| ssea.analyze | 7.090 | 0.212 | 7.309 | |
| ssea.analyze.observe | 5.352 | 0.053 | 5.415 | |
| ssea.analyze.randgenes | 5.571 | 0.040 | 5.616 | |
| ssea.analyze.randloci | 5.378 | 0.033 | 5.413 | |
| ssea.analyze.simulate | 6.928 | 0.165 | 7.100 | |
| ssea.analyze.statistic | 0.000 | 0.001 | 0.001 | |
| ssea.control | 5.221 | 0.034 | 5.257 | |
| ssea.finish | 7.107 | 0.168 | 7.284 | |
| ssea.finish.details | 7.063 | 0.171 | 7.265 | |
| ssea.finish.fdr | 7.350 | 0.193 | 7.560 | |
| ssea.finish.genes | 7.312 | 0.163 | 7.479 | |
| ssea.meta | 7.881 | 0.135 | 8.023 | |
| ssea.prepare | 5.007 | 0.052 | 5.068 | |
| ssea.prepare.counts | 4.728 | 0.036 | 4.768 | |
| ssea.prepare.structure | 4.621 | 0.026 | 4.650 | |
| ssea.start | 5.011 | 0.034 | 5.050 | |
| ssea.start.configure | 0.535 | 0.016 | 0.551 | |
| ssea.start.identify | 0.005 | 0.001 | 0.007 | |
| ssea.start.relabel | 4.929 | 0.055 | 4.989 | |
| ssea2kda | 9.396 | 0.337 | 9.739 | |
| ssea2kda.analyze | 8.868 | 0.301 | 9.176 | |
| ssea2kda.import | 7.510 | 0.188 | 7.707 | |
| tool.aggregate | 0.002 | 0.001 | 0.004 | |
| tool.cluster | 0.028 | 0.002 | 0.029 | |
| tool.cluster.static | 0.001 | 0.001 | 0.001 | |
| tool.coalesce | 0.081 | 0.001 | 0.083 | |
| tool.coalesce.exec | 0.183 | 0.001 | 0.185 | |
| tool.coalesce.find | 0.173 | 0.001 | 0.175 | |
| tool.coalesce.merge | 0.176 | 0.001 | 0.178 | |
| tool.fdr | 0.001 | 0.000 | 0.001 | |
| tool.fdr.bh | 0.001 | 0.000 | 0.001 | |
| tool.fdr.empirical | 0.001 | 0.000 | 0.002 | |
| tool.graph | 2.061 | 0.031 | 2.092 | |
| tool.graph.degree | 1.804 | 0.046 | 1.855 | |
| tool.graph.list | 1.784 | 0.040 | 1.826 | |
| tool.metap | 0.006 | 0.001 | 0.006 | |
| tool.normalize | 0.035 | 0.002 | 0.037 | |
| tool.normalize.quality | 0.015 | 0.001 | 0.016 | |
| tool.overlap | 0.012 | 0.001 | 0.013 | |
| tool.read | 0.366 | 0.009 | 0.375 | |
| tool.save | 0.002 | 0.001 | 0.003 | |
| tool.subgraph | 0.123 | 0.002 | 0.125 | |
| tool.subgraph.find | 0.138 | 0.002 | 0.140 | |
| tool.subgraph.search | 0.113 | 0.003 | 0.115 | |
| tool.subgraph.stats | 0.119 | 0.003 | 0.122 | |
| tool.translate | 0.057 | 0.005 | 0.061 | |
| tool.unify | 0.002 | 0.001 | 0.002 | |