| Back to Multiple platform build/check report for BioC 3.14 |
|
This page was generated on 2022-04-13 12:08:16 -0400 (Wed, 13 Apr 2022).
| Hostname | OS | Arch (*) | R version | Installed pkgs |
|---|---|---|---|---|
| nebbiolo2 | Linux (Ubuntu 20.04.4 LTS) | x86_64 | 4.1.3 (2022-03-10) -- "One Push-Up" | 4324 |
| tokay2 | Windows Server 2012 R2 Standard | x64 | 4.1.3 (2022-03-10) -- "One Push-Up" | 4077 |
| machv2 | macOS 10.14.6 Mojave | x86_64 | 4.1.3 (2022-03-10) -- "One Push-Up" | 4137 |
| Click on any hostname to see more info about the system (e.g. compilers) (*) as reported by 'uname -p', except on Windows and Mac OS X | ||||
|
To the developers/maintainers of the MatrixQCvis package: - Please allow up to 24 hours (and sometimes 48 hours) for your latest push to git@git.bioconductor.org:packages/MatrixQCvis.git to reflect on this report. See How and When does the builder pull? When will my changes propagate? for more information. - Make sure to use the following settings in order to reproduce any error or warning you see on this page. |
| Package 1058/2083 | Hostname | OS / Arch | INSTALL | BUILD | CHECK | BUILD BIN | ||||||||
| MatrixQCvis 1.2.4 (landing page) Thomas Naake
| nebbiolo2 | Linux (Ubuntu 20.04.4 LTS) / x86_64 | OK | OK | OK | |||||||||
| tokay2 | Windows Server 2012 R2 Standard / x64 | OK | OK | OK | OK | |||||||||
| machv2 | macOS 10.14.6 Mojave / x86_64 | OK | OK | OK | OK | |||||||||
| Package: MatrixQCvis |
| Version: 1.2.4 |
| Command: /Library/Frameworks/R.framework/Resources/bin/R CMD check --install=check:MatrixQCvis.install-out.txt --library=/Library/Frameworks/R.framework/Resources/library --no-vignettes --timings MatrixQCvis_1.2.4.tar.gz |
| StartedAt: 2022-04-12 15:01:47 -0400 (Tue, 12 Apr 2022) |
| EndedAt: 2022-04-12 15:07:47 -0400 (Tue, 12 Apr 2022) |
| EllapsedTime: 360.9 seconds |
| RetCode: 0 |
| Status: OK |
| CheckDir: MatrixQCvis.Rcheck |
| Warnings: 0 |
############################################################################## ############################################################################## ### ### Running command: ### ### /Library/Frameworks/R.framework/Resources/bin/R CMD check --install=check:MatrixQCvis.install-out.txt --library=/Library/Frameworks/R.framework/Resources/library --no-vignettes --timings MatrixQCvis_1.2.4.tar.gz ### ############################################################################## ############################################################################## * using log directory ‘/Users/biocbuild/bbs-3.14-bioc/meat/MatrixQCvis.Rcheck’ * using R version 4.1.3 (2022-03-10) * using platform: x86_64-apple-darwin17.0 (64-bit) * using session charset: UTF-8 * using option ‘--no-vignettes’ * checking for file ‘MatrixQCvis/DESCRIPTION’ ... OK * checking extension type ... Package * this is package ‘MatrixQCvis’ version ‘1.2.4’ * package encoding: UTF-8 * checking package namespace information ... OK * checking package dependencies ... OK * checking if this is a source package ... OK * checking if there is a namespace ... OK * checking for hidden files and directories ... OK * checking for portable file names ... OK * checking for sufficient/correct file permissions ... OK * checking whether package ‘MatrixQCvis’ can be installed ... OK * checking installed package size ... OK * checking package directory ... OK * checking ‘build’ directory ... OK * checking DESCRIPTION meta-information ... OK * checking top-level files ... OK * checking for left-over files ... OK * checking index information ... OK * checking package subdirectories ... OK * checking R files for non-ASCII characters ... OK * checking R files for syntax errors ... OK * checking whether the package can be loaded ... OK * checking whether the package can be loaded with stated dependencies ... OK * checking whether the package can be unloaded cleanly ... OK * checking whether the namespace can be loaded with stated dependencies ... OK * checking whether the namespace can be unloaded cleanly ... OK * checking dependencies in R code ... OK * checking S3 generic/method consistency ... OK * checking replacement functions ... OK * checking foreign function calls ... OK * checking R code for possible problems ... OK * checking Rd files ... OK * checking Rd metadata ... OK * checking Rd cross-references ... OK * checking for missing documentation entries ... OK * checking for code/documentation mismatches ... OK * checking Rd \usage sections ... OK * checking Rd contents ... OK * checking for unstated dependencies in examples ... OK * checking files in ‘vignettes’ ... OK * checking examples ... OK * checking for unstated dependencies in ‘tests’ ... OK * checking tests ... Running ‘testthat.R’ OK * checking for unstated dependencies in vignettes ... OK * checking package vignettes in ‘inst/doc’ ... OK * checking running R code from vignettes ... SKIPPED * checking re-building of vignette outputs ... SKIPPED * checking PDF version of manual ... OK * DONE Status: OK
MatrixQCvis.Rcheck/00install.out
############################################################################## ############################################################################## ### ### Running command: ### ### /Library/Frameworks/R.framework/Resources/bin/R CMD INSTALL MatrixQCvis ### ############################################################################## ############################################################################## * installing to library ‘/Library/Frameworks/R.framework/Versions/4.1/Resources/library’ * installing *source* package ‘MatrixQCvis’ ... ** using staged installation ** R ** inst ** byte-compile and prepare package for lazy loading ** help *** installing help indices ** building package indices ** installing vignettes ** testing if installed package can be loaded from temporary location ** testing if installed package can be loaded from final location ** testing if installed package keeps a record of temporary installation path * DONE (MatrixQCvis)
MatrixQCvis.Rcheck/tests/testthat.Rout
R version 4.1.3 (2022-03-10) -- "One Push-Up"
Copyright (C) 2022 The R Foundation for Statistical Computing
Platform: x86_64-apple-darwin17.0 (64-bit)
R is free software and comes with ABSOLUTELY NO WARRANTY.
You are welcome to redistribute it under certain conditions.
Type 'license()' or 'licence()' for distribution details.
R is a collaborative project with many contributors.
Type 'contributors()' for more information and
'citation()' on how to cite R or R packages in publications.
Type 'demo()' for some demos, 'help()' for on-line help, or
'help.start()' for an HTML browser interface to help.
Type 'q()' to quit R.
> library(testthat)
> library(MatrixQCvis)
Loading required package: SummarizedExperiment
Loading required package: MatrixGenerics
Loading required package: matrixStats
Attaching package: 'MatrixGenerics'
The following objects are masked from 'package:matrixStats':
colAlls, colAnyNAs, colAnys, colAvgsPerRowSet, colCollapse,
colCounts, colCummaxs, colCummins, colCumprods, colCumsums,
colDiffs, colIQRDiffs, colIQRs, colLogSumExps, colMadDiffs,
colMads, colMaxs, colMeans2, colMedians, colMins, colOrderStats,
colProds, colQuantiles, colRanges, colRanks, colSdDiffs, colSds,
colSums2, colTabulates, colVarDiffs, colVars, colWeightedMads,
colWeightedMeans, colWeightedMedians, colWeightedSds,
colWeightedVars, rowAlls, rowAnyNAs, rowAnys, rowAvgsPerColSet,
rowCollapse, rowCounts, rowCummaxs, rowCummins, rowCumprods,
rowCumsums, rowDiffs, rowIQRDiffs, rowIQRs, rowLogSumExps,
rowMadDiffs, rowMads, rowMaxs, rowMeans2, rowMedians, rowMins,
rowOrderStats, rowProds, rowQuantiles, rowRanges, rowRanks,
rowSdDiffs, rowSds, rowSums2, rowTabulates, rowVarDiffs, rowVars,
rowWeightedMads, rowWeightedMeans, rowWeightedMedians,
rowWeightedSds, rowWeightedVars
Loading required package: GenomicRanges
Loading required package: stats4
Loading required package: BiocGenerics
Attaching package: 'BiocGenerics'
The following objects are masked from 'package:stats':
IQR, mad, sd, var, xtabs
The following objects are masked from 'package:base':
Filter, Find, Map, Position, Reduce, anyDuplicated, append,
as.data.frame, basename, cbind, colnames, dirname, do.call,
duplicated, eval, evalq, get, grep, grepl, intersect, is.unsorted,
lapply, mapply, match, mget, order, paste, pmax, pmax.int, pmin,
pmin.int, rank, rbind, rownames, sapply, setdiff, sort, table,
tapply, union, unique, unsplit, which.max, which.min
Loading required package: S4Vectors
Attaching package: 'S4Vectors'
The following objects are masked from 'package:base':
I, expand.grid, unname
Loading required package: IRanges
Loading required package: GenomeInfoDb
Loading required package: Biobase
Welcome to Bioconductor
Vignettes contain introductory material; view with
'browseVignettes()'. To cite Bioconductor, see
'citation("Biobase")', and for packages 'citation("pkgname")'.
Attaching package: 'Biobase'
The following object is masked from 'package:MatrixGenerics':
rowMedians
The following objects are masked from 'package:matrixStats':
anyMissing, rowMedians
Loading required package: plotly
Loading required package: ggplot2
Attaching package: 'plotly'
The following object is masked from 'package:ggplot2':
last_plot
The following object is masked from 'package:IRanges':
slice
The following object is masked from 'package:S4Vectors':
rename
The following object is masked from 'package:stats':
filter
The following object is masked from 'package:graphics':
layout
Loading required package: shiny
> testthat::test_check("MatrixQCvis")
Run 0 stress 8.265989e-05
Run 1 stress 0.169102
Run 2 stress 8.992935e-05
... Procrustes: rmse 0.00239228 max resid 0.003134234
... Similar to previous best
Run 3 stress 9.700943e-05
... Procrustes: rmse 0.05868483 max resid 0.07203161
Run 4 stress 0.0001436887
... Procrustes: rmse 0.005626332 max resid 0.007460659
Run 5 stress 0.0001062862
... Procrustes: rmse 0.007305057 max resid 0.009562478
Run 6 stress 9.877636e-05
... Procrustes: rmse 0.02888586 max resid 0.02977172
Run 7 stress 0.0001982466
... Procrustes: rmse 0.007573268 max resid 0.009738113
Run 8 stress 0.0002680068
... Procrustes: rmse 0.002687366 max resid 0.003711859
... Similar to previous best
Run 9 stress 0.0003167605
... Procrustes: rmse 0.004636575 max resid 0.006328334
... Similar to previous best
Run 10 stress 0.0002987005
... Procrustes: rmse 0.004408102 max resid 0.005943395
... Similar to previous best
Run 11 stress 9.790087e-05
... Procrustes: rmse 0.007593141 max resid 0.009525576
Run 12 stress 0.0001818735
... Procrustes: rmse 0.004827114 max resid 0.006366064
... Similar to previous best
Run 13 stress 0.0002314656
... Procrustes: rmse 0.002967181 max resid 0.004197936
... Similar to previous best
Run 14 stress 7.9935e-05
... New best solution
... Procrustes: rmse 0.05869899 max resid 0.07201246
Run 15 stress 8.631928e-05
... Procrustes: rmse 0.05902824 max resid 0.07539873
Run 16 stress 9.957121e-05
... Procrustes: rmse 0.05775399 max resid 0.07410335
Run 17 stress 0.000272693
... Procrustes: rmse 0.05773292 max resid 0.07502263
Run 18 stress 9.846488e-05
... Procrustes: rmse 0.06236186 max resid 0.09219349
Run 19 stress 9.59976e-05
... Procrustes: rmse 0.05841065 max resid 0.07896578
Run 20 stress 0.0003020955
... Procrustes: rmse 0.0568434 max resid 0.07508257
*** No convergence -- monoMDS stopping criteria:
1: no. of iterations >= maxit
9: stress < smin
10: scale factor of the gradient < sfgrmin
Run 0 stress 8.265989e-05
Run 1 stress 0.169102
Run 2 stress 0.0003007226
... Procrustes: rmse 0.005074216 max resid 0.006885082
Run 3 stress 9.767372e-05
... Procrustes: rmse 0.003267177 max resid 0.004039734
... Similar to previous best
Run 4 stress 0.0001911927
... Procrustes: rmse 0.002441307 max resid 0.003514601
... Similar to previous best
Run 5 stress 0.0002105326
... Procrustes: rmse 0.00521649 max resid 0.00695519
Run 6 stress 8.128315e-05
... New best solution
... Procrustes: rmse 0.002638155 max resid 0.003297701
... Similar to previous best
Run 7 stress 0.0001050818
... Procrustes: rmse 0.006610891 max resid 0.008523544
Run 8 stress 0.0002020997
... Procrustes: rmse 0.006494124 max resid 0.00840103
Run 9 stress 9.387056e-05
... Procrustes: rmse 0.00700665 max resid 0.009042353
Run 10 stress 0.0002430134
... Procrustes: rmse 0.005659323 max resid 0.007186489
Run 11 stress 0.0001936404
... Procrustes: rmse 0.005619137 max resid 0.007215792
Run 12 stress 0.0002348296
... Procrustes: rmse 0.003606683 max resid 0.004441825
... Similar to previous best
Run 13 stress 0.000268075
... Procrustes: rmse 0.004634287 max resid 0.006037192
... Similar to previous best
Run 14 stress 0.0001703978
... Procrustes: rmse 0.00636042 max resid 0.008340336
Run 15 stress 9.86778e-05
... Procrustes: rmse 0.006722358 max resid 0.008694583
Run 16 stress 0.0001456857
... Procrustes: rmse 0.002822979 max resid 0.003860954
... Similar to previous best
Run 17 stress 9.894488e-05
... Procrustes: rmse 0.008297871 max resid 0.009269218
Run 18 stress 8.097499e-05
... New best solution
... Procrustes: rmse 0.05520127 max resid 0.06685365
Run 19 stress 9.611423e-05
... Procrustes: rmse 0.05373027 max resid 0.06966406
Run 20 stress 9.998435e-05
... Procrustes: rmse 0.05314911 max resid 0.06979144
*** No convergence -- monoMDS stopping criteria:
2: no. of iterations >= maxit
8: stress < smin
10: scale factor of the gradient < sfgrmin
[1] 302.7832
[ FAIL 0 | WARN 8 | SKIP 0 | PASS 446 ]
[ FAIL 0 | WARN 8 | SKIP 0 | PASS 446 ]
>
> proc.time()
user system elapsed
51.373 1.308 52.724
MatrixQCvis.Rcheck/MatrixQCvis-Ex.timings
| name | user | system | elapsed | |
| ECDF | 0.556 | 0.013 | 0.569 | |
| MAplot | 1.440 | 0.029 | 1.469 | |
| MAvalues | 0.167 | 0.004 | 0.171 | |
| barplot_samples_memi | 0.692 | 0.116 | 0.812 | |
| batchCorrectionAssay | 0.088 | 0.002 | 0.090 | |
| biocrates | 0.000 | 0.001 | 0.000 | |
| createDfFeature | 0.005 | 0.001 | 0.005 | |
| create_boxplot | 1.193 | 0.004 | 1.199 | |
| cv | 0.001 | 0.000 | 0.001 | |
| cvFeaturePlot | 0.414 | 0.049 | 0.465 | |
| distSample | 1.340 | 0.147 | 1.489 | |
| distShiny | 0.001 | 0.001 | 0.002 | |
| driftPlot | 0.702 | 0.080 | 0.783 | |
| explVar | 0.005 | 0.001 | 0.006 | |
| extractComb | 0.067 | 0.002 | 0.069 | |
| featurePlot | 0.342 | 0.003 | 0.344 | |
| hist_feature | 0.201 | 0.050 | 0.253 | |
| hist_feature_category | 0.474 | 0.072 | 0.587 | |
| hist_sample | 0.184 | 0.039 | 0.224 | |
| hist_sample_num | 0.043 | 0.000 | 0.044 | |
| hoeffDPlot | 1.053 | 0.098 | 1.153 | |
| hoeffDValues | 0.324 | 0.003 | 0.326 | |
| imputeAssay | 0.011 | 0.004 | 0.016 | |
| maxQuant | 0.001 | 0.000 | 0.000 | |
| measured_category | 0.078 | 0.000 | 0.079 | |
| mosaic | 0.533 | 0.002 | 0.536 | |
| normalizeAssay | 0.002 | 0.001 | 0.003 | |
| ordination | 3.471 | 0.031 | 3.504 | |
| ordinationPlot | 0.227 | 0.048 | 0.277 | |
| permuteExplVar | 0.012 | 0.001 | 0.014 | |
| plotCV | 0.326 | 0.003 | 0.329 | |
| plotPCALoadings | 0.236 | 0.047 | 0.286 | |
| plotPCAVar | 0.412 | 0.007 | 0.419 | |
| plotPCAVarPvalue | 0.346 | 0.006 | 0.352 | |
| samples_memi | 0.094 | 0.001 | 0.095 | |
| shinyQC | 0.072 | 0.001 | 0.072 | |
| sumDistSample | 0.195 | 0.050 | 0.249 | |
| tblPCALoadings | 0.179 | 0.001 | 0.180 | |
| transformAssay | 0.119 | 0.029 | 0.147 | |
| upset_category | 0.672 | 0.004 | 0.677 | |
| volcanoPlot | 0.264 | 0.047 | 0.313 | |