| Back to Multiple platform build/check report for BioC 3.14 |
|
This page was generated on 2022-04-13 12:06:58 -0400 (Wed, 13 Apr 2022).
| Hostname | OS | Arch (*) | R version | Installed pkgs |
|---|---|---|---|---|
| nebbiolo2 | Linux (Ubuntu 20.04.4 LTS) | x86_64 | 4.1.3 (2022-03-10) -- "One Push-Up" | 4324 |
| tokay2 | Windows Server 2012 R2 Standard | x64 | 4.1.3 (2022-03-10) -- "One Push-Up" | 4077 |
| machv2 | macOS 10.14.6 Mojave | x86_64 | 4.1.3 (2022-03-10) -- "One Push-Up" | 4137 |
| Click on any hostname to see more info about the system (e.g. compilers) (*) as reported by 'uname -p', except on Windows and Mac OS X | ||||
|
To the developers/maintainers of the MWASTools package: - Please allow up to 24 hours (and sometimes 48 hours) for your latest push to git@git.bioconductor.org:packages/MWASTools.git to reflect on this report. See How and When does the builder pull? When will my changes propagate? for more information. - Make sure to use the following settings in order to reproduce any error or warning you see on this page. |
| Package 1258/2083 | Hostname | OS / Arch | INSTALL | BUILD | CHECK | BUILD BIN | ||||||||
| MWASTools 1.18.0 (landing page) Andrea Rodriguez-Martinez
| nebbiolo2 | Linux (Ubuntu 20.04.4 LTS) / x86_64 | OK | OK | OK | |||||||||
| tokay2 | Windows Server 2012 R2 Standard / x64 | OK | OK | OK | OK | |||||||||
| machv2 | macOS 10.14.6 Mojave / x86_64 | OK | OK | OK | OK | |||||||||
| Package: MWASTools |
| Version: 1.18.0 |
| Command: rm -rf MWASTools.buildbin-libdir && mkdir MWASTools.buildbin-libdir && C:\Users\biocbuild\bbs-3.14-bioc\R\bin\R.exe CMD INSTALL --merge-multiarch --build --library=MWASTools.buildbin-libdir MWASTools_1.18.0.tar.gz |
| StartedAt: 2022-04-13 06:41:19 -0400 (Wed, 13 Apr 2022) |
| EndedAt: 2022-04-13 06:42:12 -0400 (Wed, 13 Apr 2022) |
| EllapsedTime: 52.5 seconds |
| RetCode: 0 |
| Status: OK |
| PackageFile: MWASTools_1.18.0.zip |
| PackageFileSize: 2.473 MiB |
##############################################################################
##############################################################################
###
### Running command:
###
### rm -rf MWASTools.buildbin-libdir && mkdir MWASTools.buildbin-libdir && C:\Users\biocbuild\bbs-3.14-bioc\R\bin\R.exe CMD INSTALL --merge-multiarch --build --library=MWASTools.buildbin-libdir MWASTools_1.18.0.tar.gz
###
##############################################################################
##############################################################################
install for i386
* installing *source* package 'MWASTools' ...
** using staged installation
** R
** data
*** moving datasets to lazyload DB
** inst
** byte-compile and prepare package for lazy loading
** help
*** installing help indices
converting help for package 'MWASTools'
finding HTML links ... done
CV_filter html
JBA_binning html
JBA_corDistribution html
JBA_plotBins html
KEGG_metabolic_paths html
MS_data html
MWAS_KEGG_network html
MWAS_KEGG_pathways html
MWAS_KEGG_shortestpaths html
MWAS_SummarizedExperiment html
MWAS_barplot html
MWAS_bootstrapping html
MWAS_filter html
MWAS_heatmap html
MWAS_network html
MWAS_scatterplotMS html
MWAS_skylineNMR html
MWAS_stats html
QC_CV html
QC_CV_scatterplot html
QC_CV_specNMR html
QC_PCA html
QC_PCA_scoreplot html
STOCSY_NMR html
metabo_SE html
plot_spectraNMR html
targetMetabo_SE html
** building package indices
** installing vignettes
** testing if installed package can be loaded from temporary location
** testing if installed package can be loaded from final location
** testing if installed package keeps a record of temporary installation path
install for x64
* installing *source* package 'MWASTools' ...
** testing if installed package can be loaded
* MD5 sums
packaged installation of 'MWASTools' as MWASTools_1.18.0.zip
* DONE (MWASTools)