| Back to Multiple platform build/check report for BioC 3.14 |
|
This page was generated on 2022-04-13 12:05:39 -0400 (Wed, 13 Apr 2022).
| Hostname | OS | Arch (*) | R version | Installed pkgs |
|---|---|---|---|---|
| nebbiolo2 | Linux (Ubuntu 20.04.4 LTS) | x86_64 | 4.1.3 (2022-03-10) -- "One Push-Up" | 4324 |
| tokay2 | Windows Server 2012 R2 Standard | x64 | 4.1.3 (2022-03-10) -- "One Push-Up" | 4077 |
| machv2 | macOS 10.14.6 Mojave | x86_64 | 4.1.3 (2022-03-10) -- "One Push-Up" | 4137 |
| Click on any hostname to see more info about the system (e.g. compilers) (*) as reported by 'uname -p', except on Windows and Mac OS X | ||||
|
To the developers/maintainers of the MSstatsPTM package: - Please allow up to 24 hours (and sometimes 48 hours) for your latest push to git@git.bioconductor.org:packages/MSstatsPTM.git to reflect on this report. See How and When does the builder pull? When will my changes propagate? for more information. - Make sure to use the following settings in order to reproduce any error or warning you see on this page. |
| Package 1231/2083 | Hostname | OS / Arch | INSTALL | BUILD | CHECK | BUILD BIN | ||||||||
| MSstatsPTM 1.4.2 (landing page) Devon Kohler
| nebbiolo2 | Linux (Ubuntu 20.04.4 LTS) / x86_64 | OK | OK | OK | |||||||||
| tokay2 | Windows Server 2012 R2 Standard / x64 | OK | OK | OK | OK | |||||||||
| machv2 | macOS 10.14.6 Mojave / x86_64 | OK | OK | OK | OK | |||||||||
| Package: MSstatsPTM |
| Version: 1.4.2 |
| Command: /home/biocbuild/bbs-3.14-bioc/R/bin/R CMD check --install=check:MSstatsPTM.install-out.txt --library=/home/biocbuild/bbs-3.14-bioc/R/library --no-vignettes --timings MSstatsPTM_1.4.2.tar.gz |
| StartedAt: 2022-04-12 08:23:07 -0400 (Tue, 12 Apr 2022) |
| EndedAt: 2022-04-12 08:25:52 -0400 (Tue, 12 Apr 2022) |
| EllapsedTime: 164.2 seconds |
| RetCode: 0 |
| Status: OK |
| CheckDir: MSstatsPTM.Rcheck |
| Warnings: 0 |
##############################################################################
##############################################################################
###
### Running command:
###
### /home/biocbuild/bbs-3.14-bioc/R/bin/R CMD check --install=check:MSstatsPTM.install-out.txt --library=/home/biocbuild/bbs-3.14-bioc/R/library --no-vignettes --timings MSstatsPTM_1.4.2.tar.gz
###
##############################################################################
##############################################################################
* using log directory ‘/home/biocbuild/bbs-3.14-bioc/meat/MSstatsPTM.Rcheck’
* using R version 4.1.3 (2022-03-10)
* using platform: x86_64-pc-linux-gnu (64-bit)
* using session charset: UTF-8
* using option ‘--no-vignettes’
* checking for file ‘MSstatsPTM/DESCRIPTION’ ... OK
* checking extension type ... Package
* this is package ‘MSstatsPTM’ version ‘1.4.2’
* package encoding: UTF-8
* checking package namespace information ... OK
* checking package dependencies ... OK
* checking if this is a source package ... OK
* checking if there is a namespace ... OK
* checking for hidden files and directories ... NOTE
Found the following hidden files and directories:
.travis.yml
These were most likely included in error. See section ‘Package
structure’ in the ‘Writing R Extensions’ manual.
* checking for portable file names ... OK
* checking for sufficient/correct file permissions ... OK
* checking whether package ‘MSstatsPTM’ can be installed ... OK
* checking installed package size ... OK
* checking package directory ... OK
* checking ‘build’ directory ... OK
* checking DESCRIPTION meta-information ... OK
* checking top-level files ... OK
* checking for left-over files ... OK
* checking index information ... OK
* checking package subdirectories ... OK
* checking R files for non-ASCII characters ... OK
* checking R files for syntax errors ... OK
* checking whether the package can be loaded ... OK
* checking whether the package can be loaded with stated dependencies ... OK
* checking whether the package can be unloaded cleanly ... OK
* checking whether the namespace can be loaded with stated dependencies ... OK
* checking whether the namespace can be unloaded cleanly ... OK
* checking dependencies in R code ... OK
* checking S3 generic/method consistency ... OK
* checking replacement functions ... OK
* checking foreign function calls ... OK
* checking R code for possible problems ... NOTE
.format.data.process.plots: no visible binding for global variable
‘ABUNDANCE’
.plot.model.volcano: no visible binding for global variable
‘text.angle’
.progensis.add.sites: no visible binding for global variable
‘..col_order’
.qc.all.plot.lf: no visible binding for global variable ‘text.angle’
.qc.single.plot.lf: no visible binding for global variable ‘text.angle’
.rmConfounded: no visible binding for global variable ‘..col_res’
MaxQtoMSstatsPTMFormat: no visible binding for global variable
‘PeptideSequence’
ProgenesistoMSstatsPTMFormat: no visible binding for global variable
‘Type’
SpectronauttoMSstatsPTMFormat: no visible binding for global variable
‘R.Condition’
SpectronauttoMSstatsPTMFormat: no visible binding for global variable
‘join_PeptideSequence’
SpectronauttoMSstatsPTMFormat: no visible binding for global variable
‘PeptideSequence’
dataProcessPlotsPTM: no visible binding for global variable
‘PROTEINNAME’
dataProcessPlotsPTM: no visible binding for global variable
‘GLOBALPROTEIN’
dataSummarizationPTM: no visible binding for global variable ‘address’
locatePTM: no visible binding for global variable ‘..col_seq’
locatePTM: no visible binding for global variable ‘..col_fasta’
Undefined global functions or variables:
..col_fasta ..col_order ..col_res ..col_seq ABUNDANCE GLOBALPROTEIN
PROTEINNAME PeptideSequence R.Condition Type address
join_PeptideSequence text.angle
* checking Rd files ... OK
* checking Rd metadata ... OK
* checking Rd cross-references ... OK
* checking for missing documentation entries ... OK
* checking for code/documentation mismatches ... OK
* checking Rd \usage sections ... OK
* checking Rd contents ... OK
* checking for unstated dependencies in examples ... OK
* checking contents of ‘data’ directory ... OK
* checking data for non-ASCII characters ... OK
* checking LazyData ... OK
* checking data for ASCII and uncompressed saves ... OK
* checking line endings in C/C++/Fortran sources/headers ... OK
* checking compiled code ... NOTE
Note: information on .o files is not available
* checking files in ‘vignettes’ ... OK
* checking examples ... OK
Examples with CPU (user + system) or elapsed time > 5s
user system elapsed
groupComparisonPlotsPTM 10.381 0.096 10.467
groupComparisonPTM 5.189 0.140 5.321
* checking for unstated dependencies in ‘tests’ ... OK
* checking tests ...
Running ‘tinytest.R’
OK
* checking for unstated dependencies in vignettes ... OK
* checking package vignettes in ‘inst/doc’ ... OK
* checking running R code from vignettes ... SKIPPED
* checking re-building of vignette outputs ... SKIPPED
* checking PDF version of manual ... OK
* DONE
Status: 3 NOTEs
See
‘/home/biocbuild/bbs-3.14-bioc/meat/MSstatsPTM.Rcheck/00check.log’
for details.
MSstatsPTM.Rcheck/00install.out
############################################################################## ############################################################################## ### ### Running command: ### ### /home/biocbuild/bbs-3.14-bioc/R/bin/R CMD INSTALL MSstatsPTM ### ############################################################################## ############################################################################## * installing to library ‘/home/biocbuild/bbs-3.14-bioc/R/library’ * installing *source* package ‘MSstatsPTM’ ... ** using staged installation ** libs g++ -std=gnu++14 -I"/home/biocbuild/bbs-3.14-bioc/R/include" -DNDEBUG -I'/home/biocbuild/bbs-3.14-bioc/R/library/Rcpp/include' -I/usr/local/include -fpic -g -O2 -Wall -c RcppExports.cpp -o RcppExports.o g++ -std=gnu++14 -I"/home/biocbuild/bbs-3.14-bioc/R/include" -DNDEBUG -I'/home/biocbuild/bbs-3.14-bioc/R/library/Rcpp/include' -I/usr/local/include -fpic -g -O2 -Wall -c model_adjustment.cpp -o model_adjustment.o g++ -std=gnu++14 -shared -L/home/biocbuild/bbs-3.14-bioc/R/lib -L/usr/local/lib -o MSstatsPTM.so RcppExports.o model_adjustment.o -L/home/biocbuild/bbs-3.14-bioc/R/lib -lR installing to /home/biocbuild/bbs-3.14-bioc/R/library/00LOCK-MSstatsPTM/00new/MSstatsPTM/libs ** R ** data *** moving datasets to lazyload DB ** inst ** byte-compile and prepare package for lazy loading ** help *** installing help indices ** building package indices ** installing vignettes ** testing if installed package can be loaded from temporary location ** checking absolute paths in shared objects and dynamic libraries ** testing if installed package can be loaded from final location ** testing if installed package keeps a record of temporary installation path * DONE (MSstatsPTM)
MSstatsPTM.Rcheck/tests/tinytest.Rout
R version 4.1.3 (2022-03-10) -- "One Push-Up"
Copyright (C) 2022 The R Foundation for Statistical Computing
Platform: x86_64-pc-linux-gnu (64-bit)
R is free software and comes with ABSOLUTELY NO WARRANTY.
You are welcome to redistribute it under certain conditions.
Type 'license()' or 'licence()' for distribution details.
R is a collaborative project with many contributors.
Type 'contributors()' for more information and
'citation()' on how to cite R or R packages in publications.
Type 'demo()' for some demos, 'help()' for on-line help, or
'help.start()' for an HTML browser interface to help.
Type 'q()' to quit R.
>
> if ( requireNamespace("tinytest", quietly=TRUE) ){
+ tinytest::test_package("MSstatsPTM")
+ }
test_dataSummarizationPTM.R... 0 tests
test_dataSummarizationPTM.R... 1 tests [0;32mOK[0m
test_dataSummarizationPTM.R... 2 tests [0;32mOK[0m
test_dataSummarizationPTM.R... 3 tests [0;32mOK[0m
test_dataSummarizationPTM.R... 4 tests [0;32mOK[0m
test_dataSummarizationPTM.R... 5 tests [0;32mOK[0m
test_dataSummarizationPTM.R... 6 tests [0;32mOK[0m
test_dataSummarizationPTM.R... 7 tests [0;32mOK[0m
test_dataSummarizationPTM.R... 8 tests [0;32mOK[0m
test_dataSummarizationPTM.R... 9 tests [0;32mOK[0m
test_dataSummarizationPTM.R... 10 tests [0;32mOK[0m
test_dataSummarizationPTM.R... 11 tests [0;32mOK[0m
test_dataSummarizationPTM.R... 12 tests [0;32mOK[0m
test_dataSummarizationPTM.R... 13 tests [0;32mOK[0m
test_dataSummarizationPTM.R... 14 tests [0;32mOK[0m
test_dataSummarizationPTM.R... 15 tests [0;32mOK[0m
test_dataSummarizationPTM.R... 16 tests [0;32mOK[0m
test_dataSummarizationPTM.R... 17 tests [0;32mOK[0m
test_dataSummarizationPTM.R... 18 tests [0;32mOK[0m
test_dataSummarizationPTM.R... 19 tests [0;32mOK[0m
test_dataSummarizationPTM.R... 20 tests [0;32mOK[0m
test_dataSummarizationPTM.R... 21 tests [0;32mOK[0m
test_dataSummarizationPTM.R... 22 tests [0;32mOK[0m
test_dataSummarizationPTM.R... 23 tests [0;32mOK[0m
test_dataSummarizationPTM.R... 24 tests [0;32mOK[0m
test_dataSummarizationPTM.R... 25 tests [0;32mOK[0m
test_dataSummarizationPTM.R... 26 tests [0;32mOK[0m
test_dataSummarizationPTM.R... 27 tests [0;32mOK[0m
test_dataSummarizationPTM.R... 28 tests [0;32mOK[0m
test_dataSummarizationPTM.R... 29 tests [0;32mOK[0m
test_dataSummarizationPTM.R... 30 tests [0;32mOK[0m Starting PTM summarization...
test_dataSummarizationPTM.R... 31 tests [0;32mOK[0m [0;34m0.2s[0m
test_dataSummarizationPTM_TMT.R 0 tests
test_dataSummarizationPTM_TMT.R 1 tests [0;32mOK[0m
test_dataSummarizationPTM_TMT.R 2 tests [0;32mOK[0m
test_dataSummarizationPTM_TMT.R 3 tests [0;32mOK[0m
test_dataSummarizationPTM_TMT.R 4 tests [0;32mOK[0m
test_dataSummarizationPTM_TMT.R 5 tests [0;32mOK[0m
test_dataSummarizationPTM_TMT.R 6 tests [0;32mOK[0m
test_dataSummarizationPTM_TMT.R 7 tests [0;32mOK[0m
test_dataSummarizationPTM_TMT.R 8 tests [0;32mOK[0m
test_dataSummarizationPTM_TMT.R 9 tests [0;32mOK[0m
test_dataSummarizationPTM_TMT.R 10 tests [0;32mOK[0m
test_dataSummarizationPTM_TMT.R 11 tests [0;32mOK[0m
test_dataSummarizationPTM_TMT.R 12 tests [0;32mOK[0m
test_dataSummarizationPTM_TMT.R 13 tests [0;32mOK[0m
test_dataSummarizationPTM_TMT.R 14 tests [0;32mOK[0m
test_dataSummarizationPTM_TMT.R 15 tests [0;32mOK[0m
test_dataSummarizationPTM_TMT.R 16 tests [0;32mOK[0m
test_dataSummarizationPTM_TMT.R 17 tests [0;32mOK[0m
test_dataSummarizationPTM_TMT.R 18 tests [0;32mOK[0m
test_dataSummarizationPTM_TMT.R 19 tests [0;32mOK[0m
test_dataSummarizationPTM_TMT.R 20 tests [0;32mOK[0m
test_dataSummarizationPTM_TMT.R 21 tests [0;32mOK[0m
test_dataSummarizationPTM_TMT.R 22 tests [0;32mOK[0m
test_dataSummarizationPTM_TMT.R 23 tests [0;32mOK[0m
test_dataSummarizationPTM_TMT.R 24 tests [0;32mOK[0m
test_dataSummarizationPTM_TMT.R 25 tests [0;32mOK[0m
test_dataSummarizationPTM_TMT.R 26 tests [0;32mOK[0m
test_dataSummarizationPTM_TMT.R 27 tests [0;32mOK[0m
test_dataSummarizationPTM_TMT.R 28 tests [0;32mOK[0m
test_dataSummarizationPTM_TMT.R 29 tests [0;32mOK[0m
test_dataSummarizationPTM_TMT.R 30 tests [0;32mOK[0m
test_dataSummarizationPTM_TMT.R 31 tests [0;32mOK[0m [0;34m0.2s[0m
test_groupComparisonPTM.R..... 0 tests
test_groupComparisonPTM.R..... 0 tests
test_groupComparisonPTM.R..... 1 tests [0;32mOK[0m
test_groupComparisonPTM.R..... 2 tests [0;32mOK[0m Starting PTM modeling...
test_groupComparisonPTM.R..... 3 tests [0;32mOK[0m Starting PTM modeling...
INFO [2022-04-12 08:25:36] == Start to test and get inference in whole plot ...
|
| | 0%
|
|= | 1%
|
|= | 2%
|
|== | 2%
|
|== | 3%
|
|=== | 4%
|
|=== | 5%
|
|==== | 6%
|
|===== | 7%
|
|====== | 8%
|
|====== | 9%
|
|======= | 10%
|
|======== | 11%
|
|======== | 12%
|
|========= | 13%
|
|========== | 14%
|
|=========== | 15%
|
|=========== | 16%
|
|============ | 17%
|
|============ | 18%
|
|============= | 18%
|
|============= | 19%
|
|============== | 20%
|
|=============== | 21%
|
|=============== | 22%
|
|================ | 22%
|
|================ | 23%
|
|================= | 24%
|
|================= | 25%
|
|================== | 26%
|
|=================== | 27%
|
|==================== | 28%
|
|==================== | 29%
|
|===================== | 30%
|
|====================== | 31%
|
|====================== | 32%
|
|======================= | 33%
|
|======================== | 34%
|
|========================= | 35%
|
|========================= | 36%
|
|========================== | 37%
|
|========================== | 38%
|
|=========================== | 38%
|
|=========================== | 39%
|
|============================ | 40%
|
|============================= | 41%
|
|============================= | 42%
|
|============================== | 42%
|
|============================== | 43%
|
|=============================== | 44%
|
|=============================== | 45%
|
|================================ | 46%
|
|================================= | 47%
|
|================================== | 48%
|
|================================== | 49%
|
|=================================== | 50%
|
|==================================== | 51%
|
|==================================== | 52%
|
|===================================== | 53%
|
|====================================== | 54%
|
|======================================= | 55%
|
|======================================= | 56%
|
|======================================== | 57%
|
|======================================== | 58%
|
|========================================= | 58%
|
|========================================= | 59%
|
|========================================== | 60%
|
|=========================================== | 61%
|
|=========================================== | 62%
|
|============================================ | 62%
|
|============================================ | 63%
|
|============================================= | 64%
|
|============================================= | 65%
|
|============================================== | 66%
|
|=============================================== | 67%
|
|================================================ | 68%
|
|================================================ | 69%
|
|================================================= | 70%
|
|================================================== | 71%
|
|================================================== | 72%
|
|=================================================== | 73%
|
|==================================================== | 74%
|
|===================================================== | 75%
|
|===================================================== | 76%
|
|====================================================== | 77%
|
|====================================================== | 78%
|
|======================================================= | 78%
|
|======================================================= | 79%
|
|======================================================== | 80%
|
|========================================================= | 81%
|
|========================================================= | 82%
|
|========================================================== | 82%
|
|========================================================== | 83%
|
|=========================================================== | 84%
|
|=========================================================== | 85%
|
|============================================================ | 86%
|
|============================================================= | 87%
|
|============================================================== | 88%
|
|============================================================== | 89%
|
|=============================================================== | 90%
|
|================================================================ | 91%
|
|================================================================ | 92%
|
|================================================================= | 93%
|
|================================================================== | 94%
|
|=================================================================== | 95%
|
|=================================================================== | 96%
|
|==================================================================== | 97%
|
|==================================================================== | 98%
|
|===================================================================== | 98%
|
|===================================================================== | 99%
|
|======================================================================| 100%
INFO [2022-04-12 08:25:39] == Comparisons for all proteins are done.
Starting Protein modeling...
INFO [2022-04-12 08:25:40] == Start to test and get inference in whole plot ...
|
| | 0%
|
|=== | 4%
|
|===== | 8%
|
|======== | 12%
|
|=========== | 15%
|
|============= | 19%
|
|================ | 23%
|
|=================== | 27%
|
|====================== | 31%
|
|======================== | 35%
|
|=========================== | 38%
|
|============================== | 42%
|
|================================ | 46%
|
|=================================== | 50%
|
|====================================== | 54%
|
|======================================== | 58%
|
|=========================================== | 62%
|
|============================================== | 65%
|
|================================================ | 69%
|
|=================================================== | 73%
|
|====================================================== | 77%
|
|========================================================= | 81%
|
|=========================================================== | 85%
|
|============================================================== | 88%
|
|================================================================= | 92%
|
|=================================================================== | 96%
|
|======================================================================| 100%
INFO [2022-04-12 08:25:40] == Comparisons for all proteins are done.
Starting adjustment...
test_groupComparisonPTM.R..... 3 tests [0;32mOK[0m
test_groupComparisonPTM.R..... 4 tests [0;32mOK[0m
test_groupComparisonPTM.R..... 5 tests [0;32mOK[0m
test_groupComparisonPTM.R..... 6 tests [0;32mOK[0m
test_groupComparisonPTM.R..... 7 tests [0;32mOK[0m
test_groupComparisonPTM.R..... 8 tests [0;32mOK[0m
test_groupComparisonPTM.R..... 9 tests [0;32mOK[0m
test_groupComparisonPTM.R..... 10 tests [0;32mOK[0m Starting PTM modeling...
INFO [2022-04-12 08:25:40] Design: 2 mixtures.
INFO [2022-04-12 08:25:40] Design: 1 MS run per mixture.
INFO [2022-04-12 08:25:40] Design: group comparison design (Different conditions contains different biological subjects).
INFO [2022-04-12 08:25:40] Model fitting for 90 proteins.
|
| | 0%
|
|= | 1%
|
|== | 2%
|
|== | 3%
|
|=== | 4%
|
|==== | 6%
|
|===== | 7%
|
|===== | 8%
|
|====== | 9%
|
|======= | 10%
|
|======== | 11%
|
|========= | 12%
|
|========= | 13%
|
|========== | 14%
|
|=========== | 16%
|
|============ | 17%
|
|============ | 18%
|
|============= | 19%
|
|============== | 20%
|
|=============== | 21%
|
|================ | 22%
|
|================ | 23%
|
|================= | 24%
|
|================== | 26%
|
|=================== | 27%
|
|=================== | 28%
|
|==================== | 29%
|
|===================== | 30%
|
|====================== | 31%
|
|======================= | 32%
|
|======================= | 33%
|
|======================== | 34%
|
|========================= | 36%
|
|========================== | 37%
|
|========================== | 38%
|
|=========================== | 39%
|
|============================ | 40%
|
|============================= | 41%
|
|============================== | 42%
|
|============================== | 43%
|
|=============================== | 44%
|
|================================ | 46%
|
|================================= | 47%
|
|================================= | 48%
|
|================================== | 49%
|
|=================================== | 50%
|
|==================================== | 51%
|
|===================================== | 52%
|
|===================================== | 53%
|
|====================================== | 54%
|
|======================================= | 56%
|
|======================================== | 57%
|
|======================================== | 58%
|
|========================================= | 59%
|
|========================================== | 60%
|
|=========================================== | 61%
|
|============================================ | 62%
|
|============================================ | 63%
|
|============================================= | 64%
|
|============================================== | 66%
|
|=============================================== | 67%
|
|=============================================== | 68%
|
|================================================ | 69%
|
|================================================= | 70%
|
|================================================== | 71%
|
|=================================================== | 72%
|
|=================================================== | 73%
|
|==================================================== | 74%
|
|===================================================== | 76%
|
|====================================================== | 77%
|
|====================================================== | 78%
|
|======================================================= | 79%
|
|======================================================== | 80%
|
|========================================================= | 81%
|
|========================================================== | 82%
|
|========================================================== | 83%
|
|=========================================================== | 84%
|
|============================================================ | 86%
|
|============================================================= | 87%
|
|============================================================= | 88%
|
|============================================================== | 89%
|
|=============================================================== | 90%
|
|================================================================ | 91%
|
|================================================================= | 92%
|
|================================================================= | 93%
|
|================================================================== | 94%
|
|=================================================================== | 96%
|
|==================================================================== | 97%
|
|==================================================================== | 98%
|
|===================================================================== | 99%
|
|======================================================================| 100%
INFO [2022-04-12 08:25:42] Testing for 90 proteins:
|
| | 0%
|
|= | 1%
|
|== | 2%
|
|== | 3%
|
|=== | 4%
|
|==== | 6%
|
|===== | 7%
|
|===== | 8%
|
|====== | 9%
|
|======= | 10%
|
|======== | 11%
|
|========= | 12%
|
|========= | 13%
|
|========== | 14%
|
|=========== | 16%
|
|============ | 17%
|
|============ | 18%
|
|============= | 19%
|
|============== | 20%
|
|=============== | 21%
|
|================ | 22%
|
|================ | 23%
|
|================= | 24%
|
|================== | 26%
|
|=================== | 27%
|
|=================== | 28%
|
|==================== | 29%
|
|===================== | 30%
|
|====================== | 31%
|
|======================= | 32%
|
|======================= | 33%
|
|======================== | 34%
|
|========================= | 36%
|
|========================== | 37%
|
|========================== | 38%
|
|=========================== | 39%
|
|============================ | 40%
|
|============================= | 41%
|
|============================== | 42%
|
|============================== | 43%
|
|=============================== | 44%
|
|================================ | 46%
|
|================================= | 47%
|
|================================= | 48%
|
|================================== | 49%
|
|=================================== | 50%
|
|==================================== | 51%
|
|===================================== | 52%
|
|===================================== | 53%
|
|====================================== | 54%
|
|======================================= | 56%
|
|======================================== | 57%
|
|======================================== | 58%
|
|========================================= | 59%
|
|========================================== | 60%
|
|=========================================== | 61%
|
|============================================ | 62%
|
|============================================ | 63%
|
|============================================= | 64%
|
|============================================== | 66%
|
|=============================================== | 67%
|
|=============================================== | 68%
|
|================================================ | 69%
|
|================================================= | 70%
|
|================================================== | 71%
|
|=================================================== | 72%
|
|=================================================== | 73%
|
|==================================================== | 74%
|
|===================================================== | 76%
|
|====================================================== | 77%
|
|====================================================== | 78%
|
|======================================================= | 79%
|
|======================================================== | 80%
|
|========================================================= | 81%
|
|========================================================== | 82%
|
|========================================================== | 83%
|
|=========================================================== | 84%
|
|============================================================ | 86%
|
|============================================================= | 87%
|
|============================================================= | 88%
|
|============================================================== | 89%
|
|=============================================================== | 90%
|
|================================================================ | 91%
|
|================================================================= | 92%
|
|================================================================= | 93%
|
|================================================================== | 94%
|
|=================================================================== | 96%
|
|==================================================================== | 97%
|
|==================================================================== | 98%
|
|===================================================================== | 99%
|
|======================================================================| 100%
Starting Protein modeling...
INFO [2022-04-12 08:25:43] Design: 2 mixtures.
INFO [2022-04-12 08:25:43] Design: 1 MS run per mixture.
INFO [2022-04-12 08:25:43] Design: group comparison design (Different conditions contains different biological subjects).
INFO [2022-04-12 08:25:43] Model fitting for 85 proteins.
|
| | 0%
|
|= | 1%
|
|== | 2%
|
|== | 4%
|
|=== | 5%
|
|==== | 6%
|
|===== | 7%
|
|====== | 8%
|
|======= | 9%
|
|======= | 11%
|
|======== | 12%
|
|========= | 13%
|
|========== | 14%
|
|=========== | 15%
|
|============ | 16%
|
|============ | 18%
|
|============= | 19%
|
|============== | 20%
|
|=============== | 21%
|
|================ | 22%
|
|================ | 24%
|
|================= | 25%
|
|================== | 26%
|
|=================== | 27%
|
|==================== | 28%
|
|===================== | 29%
|
|===================== | 31%
|
|====================== | 32%
|
|======================= | 33%
|
|======================== | 34%
|
|========================= | 35%
|
|========================== | 36%
|
|========================== | 38%
|
|=========================== | 39%
|
|============================ | 40%
|
|============================= | 41%
|
|============================== | 42%
|
|============================== | 44%
|
|=============================== | 45%
|
|================================ | 46%
|
|================================= | 47%
|
|================================== | 48%
|
|=================================== | 49%
|
|=================================== | 51%
|
|==================================== | 52%
|
|===================================== | 53%
|
|====================================== | 54%
|
|======================================= | 55%
|
|======================================== | 56%
|
|======================================== | 58%
|
|========================================= | 59%
|
|========================================== | 60%
|
|=========================================== | 61%
|
|============================================ | 62%
|
|============================================ | 64%
|
|============================================= | 65%
|
|============================================== | 66%
|
|=============================================== | 67%
|
|================================================ | 68%
|
|================================================= | 69%
|
|================================================= | 71%
|
|================================================== | 72%
|
|=================================================== | 73%
|
|==================================================== | 74%
|
|===================================================== | 75%
|
|====================================================== | 76%
|
|====================================================== | 78%
|
|======================================================= | 79%
|
|======================================================== | 80%
|
|========================================================= | 81%
|
|========================================================== | 82%
|
|========================================================== | 84%
|
|=========================================================== | 85%
|
|============================================================ | 86%
|
|============================================================= | 87%
|
|============================================================== | 88%
|
|=============================================================== | 89%
|
|=============================================================== | 91%
|
|================================================================ | 92%
|
|================================================================= | 93%
|
|================================================================== | 94%
|
|=================================================================== | 95%
|
|==================================================================== | 96%
|
|==================================================================== | 98%
|
|===================================================================== | 99%
|
|======================================================================| 100%
INFO [2022-04-12 08:25:47] Testing for 85 proteins:
|
| | 0%
|
|= | 1%
|
|== | 2%
|
|== | 4%
|
|=== | 5%
|
|==== | 6%
|
|===== | 7%
|
|====== | 8%
|
|======= | 9%
|
|======= | 11%
|
|======== | 12%
|
|========= | 13%
|
|========== | 14%
|
|=========== | 15%
|
|============ | 16%
|
|============ | 18%
|
|============= | 19%
|
|============== | 20%
|
|=============== | 21%
|
|================ | 22%
|
|================ | 24%
|
|================= | 25%
|
|================== | 26%
|
|=================== | 27%
|
|==================== | 28%
|
|===================== | 29%
|
|===================== | 31%
|
|====================== | 32%
|
|======================= | 33%
|
|======================== | 34%
|
|========================= | 35%
|
|========================== | 36%
|
|========================== | 38%
|
|=========================== | 39%
|
|============================ | 40%
|
|============================= | 41%
|
|============================== | 42%
|
|============================== | 44%
|
|=============================== | 45%
|
|================================ | 46%
|
|================================= | 47%
|
|================================== | 48%
|
|=================================== | 49%
|
|=================================== | 51%
|
|==================================== | 52%
|
|===================================== | 53%
|
|====================================== | 54%
|
|======================================= | 55%
|
|======================================== | 56%
|
|======================================== | 58%
|
|========================================= | 59%
|
|========================================== | 60%
|
|=========================================== | 61%
|
|============================================ | 62%
|
|============================================ | 64%
|
|============================================= | 65%
|
|============================================== | 66%
|
|=============================================== | 67%
|
|================================================ | 68%
|
|================================================= | 69%
|
|================================================= | 71%
|
|================================================== | 72%
|
|=================================================== | 73%
|
|==================================================== | 74%
|
|===================================================== | 75%
|
|====================================================== | 76%
|
|====================================================== | 78%
|
|======================================================= | 79%
|
|======================================================== | 80%
|
|========================================================= | 81%
|
|========================================================== | 82%
|
|========================================================== | 84%
|
|=========================================================== | 85%
|
|============================================================ | 86%
|
|============================================================= | 87%
|
|============================================================== | 88%
|
|=============================================================== | 89%
|
|=============================================================== | 91%
|
|================================================================ | 92%
|
|================================================================= | 93%
|
|================================================================== | 94%
|
|=================================================================== | 95%
|
|==================================================================== | 96%
|
|==================================================================== | 98%
|
|===================================================================== | 99%
|
|======================================================================| 100%
Starting adjustment...
test_groupComparisonPTM.R..... 10 tests [0;32mOK[0m
test_groupComparisonPTM.R..... 11 tests [0;32mOK[0m
test_groupComparisonPTM.R..... 12 tests [0;32mOK[0m
test_groupComparisonPTM.R..... 13 tests [0;32mOK[0m
test_groupComparisonPTM.R..... 14 tests [0;32mOK[0m
test_groupComparisonPTM.R..... 15 tests [0;32mOK[0m
test_groupComparisonPTM.R..... 16 tests [0;32mOK[0m
test_groupComparisonPTM.R..... 17 tests [0;32mOK[0m [0;34m16.5s[0m
All ok, 79 results (17.0s)
There were 50 or more warnings (use warnings() to see the first 50)
>
> proc.time()
user system elapsed
22.055 0.846 22.804
MSstatsPTM.Rcheck/MSstatsPTM-Ex.timings
| name | user | system | elapsed | |
| MaxQtoMSstatsPTMFormat | 0.029 | 0.012 | 0.041 | |
| ProgenesistoMSstatsPTMFormat | 0.063 | 0.004 | 0.066 | |
| SpectronauttoMSstatsPTMFormat | 0.057 | 0.000 | 0.056 | |
| annotSite | 0.000 | 0.000 | 0.001 | |
| dataProcessPlotsPTM | 2.470 | 0.459 | 2.884 | |
| dataSummarizationPTM | 2.647 | 0.100 | 2.589 | |
| dataSummarizationPTM_TMT | 4.665 | 0.291 | 4.419 | |
| groupComparisonPTM | 5.189 | 0.140 | 5.321 | |
| groupComparisonPlotsPTM | 10.381 | 0.096 | 10.467 | |
| locateMod | 0.001 | 0.000 | 0.000 | |
| locatePTM | 0.028 | 0.012 | 0.039 | |
| raw.input | 0.044 | 0.000 | 0.044 | |
| raw.input.tmt | 0.004 | 0.000 | 0.004 | |
| summary.data | 0.18 | 0.08 | 0.26 | |
| summary.data.tmt | 0.336 | 0.183 | 0.521 | |
| tidyFasta | 0.007 | 0.000 | 0.007 | |