| Back to Multiple platform build/check report for BioC 3.14 |
|
This page was generated on 2022-04-13 12:06:56 -0400 (Wed, 13 Apr 2022).
| Hostname | OS | Arch (*) | R version | Installed pkgs |
|---|---|---|---|---|
| nebbiolo2 | Linux (Ubuntu 20.04.4 LTS) | x86_64 | 4.1.3 (2022-03-10) -- "One Push-Up" | 4324 |
| tokay2 | Windows Server 2012 R2 Standard | x64 | 4.1.3 (2022-03-10) -- "One Push-Up" | 4077 |
| machv2 | macOS 10.14.6 Mojave | x86_64 | 4.1.3 (2022-03-10) -- "One Push-Up" | 4137 |
| Click on any hostname to see more info about the system (e.g. compilers) (*) as reported by 'uname -p', except on Windows and Mac OS X | ||||
|
To the developers/maintainers of the MQmetrics package: - Please allow up to 24 hours (and sometimes 48 hours) for your latest push to git@git.bioconductor.org:packages/MQmetrics.git to reflect on this report. See How and When does the builder pull? When will my changes propagate? for more information. - Make sure to use the following settings in order to reproduce any error or warning you see on this page. |
| Package 1209/2083 | Hostname | OS / Arch | INSTALL | BUILD | CHECK | BUILD BIN | ||||||||
| MQmetrics 1.2.0 (landing page) Alvaro Sanchez-Villalba
| nebbiolo2 | Linux (Ubuntu 20.04.4 LTS) / x86_64 | OK | OK | OK | |||||||||
| tokay2 | Windows Server 2012 R2 Standard / x64 | OK | OK | OK | OK | |||||||||
| machv2 | macOS 10.14.6 Mojave / x86_64 | OK | OK | OK | OK | |||||||||
| Package: MQmetrics |
| Version: 1.2.0 |
| Command: rm -rf MQmetrics.buildbin-libdir && mkdir MQmetrics.buildbin-libdir && C:\Users\biocbuild\bbs-3.14-bioc\R\bin\R.exe CMD INSTALL --merge-multiarch --build --library=MQmetrics.buildbin-libdir MQmetrics_1.2.0.tar.gz |
| StartedAt: 2022-04-13 06:39:00 -0400 (Wed, 13 Apr 2022) |
| EndedAt: 2022-04-13 06:39:19 -0400 (Wed, 13 Apr 2022) |
| EllapsedTime: 18.3 seconds |
| RetCode: 0 |
| Status: OK |
| PackageFile: MQmetrics_1.2.0.zip |
| PackageFileSize: 2.671 MiB |
##############################################################################
##############################################################################
###
### Running command:
###
### rm -rf MQmetrics.buildbin-libdir && mkdir MQmetrics.buildbin-libdir && C:\Users\biocbuild\bbs-3.14-bioc\R\bin\R.exe CMD INSTALL --merge-multiarch --build --library=MQmetrics.buildbin-libdir MQmetrics_1.2.0.tar.gz
###
##############################################################################
##############################################################################
install for i386
* installing *source* package 'MQmetrics' ...
** using staged installation
** R
** inst
** byte-compile and prepare package for lazy loading
** help
*** installing help indices
converting help for package 'MQmetrics'
finding HTML links ... done
MaxQuantAnalysisInfo html
PlotAcquisitionCycle html
PlotAllDynamicRange html
PlotAndromedaScore html
PlotCharge html
PlotCombinedDynamicRange html
PlotHydrophobicity html
PlotIntensity html
PlotIsotopePattern html
PlotMsMs html
PlotPCA html
PlotPTM html
PlotPTMAcrossSamples html
PlotPeaks html
PlotPeptidesIdentified html
PlotProteaseSpecificity html
PlotProteinCoverage html
PlotProteinOverlap html
PlotProteinPeptideRatio html
PlotProteinsIdentified html
PlotTotalIonCurrent html
PlotiRT html
PlotiRTScore html
ReportTables html
generateReport html
make_MQCombined html
*** copying figures
** building package indices
** installing vignettes
** testing if installed package can be loaded from temporary location
** testing if installed package can be loaded from final location
** testing if installed package keeps a record of temporary installation path
install for x64
* installing *source* package 'MQmetrics' ...
** testing if installed package can be loaded
* MD5 sums
packaged installation of 'MQmetrics' as MQmetrics_1.2.0.zip
* DONE (MQmetrics)