| Back to Multiple platform build/check report for BioC 3.14 |
|
This page was generated on 2022-04-13 12:06:55 -0400 (Wed, 13 Apr 2022).
| Hostname | OS | Arch (*) | R version | Installed pkgs |
|---|---|---|---|---|
| nebbiolo2 | Linux (Ubuntu 20.04.4 LTS) | x86_64 | 4.1.3 (2022-03-10) -- "One Push-Up" | 4324 |
| tokay2 | Windows Server 2012 R2 Standard | x64 | 4.1.3 (2022-03-10) -- "One Push-Up" | 4077 |
| machv2 | macOS 10.14.6 Mojave | x86_64 | 4.1.3 (2022-03-10) -- "One Push-Up" | 4137 |
| Click on any hostname to see more info about the system (e.g. compilers) (*) as reported by 'uname -p', except on Windows and Mac OS X | ||||
|
To the developers/maintainers of the MOFA2 package: - Please allow up to 24 hours (and sometimes 48 hours) for your latest push to git@git.bioconductor.org:packages/MOFA2.git to reflect on this report. See How and When does the builder pull? When will my changes propagate? for more information. - Make sure to use the following settings in order to reproduce any error or warning you see on this page. |
| Package 1190/2083 | Hostname | OS / Arch | INSTALL | BUILD | CHECK | BUILD BIN | ||||||||
| MOFA2 1.4.0 (landing page) Britta Velten
| nebbiolo2 | Linux (Ubuntu 20.04.4 LTS) / x86_64 | OK | OK | OK | |||||||||
| tokay2 | Windows Server 2012 R2 Standard / x64 | OK | OK | OK | OK | |||||||||
| machv2 | macOS 10.14.6 Mojave / x86_64 | OK | OK | OK | OK | |||||||||
| Package: MOFA2 |
| Version: 1.4.0 |
| Command: C:\Users\biocbuild\bbs-3.14-bioc\R\bin\R.exe --arch x64 CMD check --no-multiarch --install=check:MOFA2.install-out.txt --library=C:\Users\biocbuild\bbs-3.14-bioc\R\library --no-vignettes --timings MOFA2_1.4.0.tar.gz |
| StartedAt: 2022-04-12 23:08:15 -0400 (Tue, 12 Apr 2022) |
| EndedAt: 2022-04-12 23:11:35 -0400 (Tue, 12 Apr 2022) |
| EllapsedTime: 199.3 seconds |
| RetCode: 0 |
| Status: OK |
| CheckDir: MOFA2.Rcheck |
| Warnings: 0 |
############################################################################## ############################################################################## ### ### Running command: ### ### C:\Users\biocbuild\bbs-3.14-bioc\R\bin\R.exe --arch x64 CMD check --no-multiarch --install=check:MOFA2.install-out.txt --library=C:\Users\biocbuild\bbs-3.14-bioc\R\library --no-vignettes --timings MOFA2_1.4.0.tar.gz ### ############################################################################## ############################################################################## * using log directory 'C:/Users/biocbuild/bbs-3.14-bioc/meat/MOFA2.Rcheck' * using R version 4.1.3 (2022-03-10) * using platform: x86_64-w64-mingw32 (64-bit) * using session charset: ISO8859-1 * using option '--no-vignettes' * checking for file 'MOFA2/DESCRIPTION' ... OK * checking extension type ... Package * this is package 'MOFA2' version '1.4.0' * package encoding: UTF-8 * checking package namespace information ... OK * checking package dependencies ... OK * checking if this is a source package ... OK * checking if there is a namespace ... OK * checking for hidden files and directories ... NOTE Found the following hidden files and directories: .BBSoptions These were most likely included in error. See section 'Package structure' in the 'Writing R Extensions' manual. * checking for portable file names ... OK * checking whether package 'MOFA2' can be installed ... NOTE Found the following notes/warnings: Non-staged installation was used See 'C:/Users/biocbuild/bbs-3.14-bioc/meat/MOFA2.Rcheck/00install.out' for details. * checking installed package size ... OK * checking package directory ... OK * checking 'build' directory ... OK * checking DESCRIPTION meta-information ... NOTE License components with restrictions not permitted: GPL (>= 2) + file LICENSE * checking top-level files ... OK * checking for left-over files ... OK * checking index information ... OK * checking package subdirectories ... OK * checking R files for non-ASCII characters ... OK * checking R files for syntax errors ... OK * checking whether the package can be loaded ... OK * checking whether the package can be loaded with stated dependencies ... OK * checking whether the package can be unloaded cleanly ... OK * checking whether the namespace can be loaded with stated dependencies ... OK * checking whether the namespace can be unloaded cleanly ... OK * checking dependencies in R code ... OK * checking S3 generic/method consistency ... OK * checking replacement functions ... OK * checking foreign function calls ... OK * checking R code for possible problems ... NOTE .plot_factors_vs_cov_1d: no visible binding for global variable 'value.factor' .plot_factors_vs_cov_1d: no visible binding for global variable 'value_scaled' .plot_factors_vs_cov_1d: no visible binding for global variable 'value.covariate' .plot_factors_vs_cov_1d: no visible binding for global variable 'value' .plot_factors_vs_cov_2d: no visible binding for global variable 'value.factor' .set_xax: no visible binding for global variable 'value' add_mofa_factors_to_seurat: no visible global function definition for 'CreateDimReducObject' create_mofa_from_SingleCellExperiment: no visible global function definition for 'colData' get_interpolated_factors: no visible binding for global variable 'L1' get_interpolated_factors: no visible binding for global variable 'L2' get_interpolated_factors: no visible binding for global variable 'value' get_interpolated_factors: no visible binding for global variable 'covariate' get_interpolated_factors: no visible binding for global variable 'covariate_value' get_interpolated_factors: no visible binding for global variable 'sample_id' interpolate_factors: no visible binding for global variable '.' plot_alignment: no visible binding for global variable 'group' plot_alignment: no visible binding for global variable 'value.warped' plot_alignment: no visible binding for global variable 'value.unaligned' plot_contribution_scores: no visible binding for global variable 'view' plot_data_overview: no visible binding for global variable 'view' plot_data_overview: no visible binding for global variable 'ptotal' plot_data_overview: no visible binding for global variable 'ntotal' plot_data_overview: no visible binding for global variable 'group' plot_dimred: no visible binding for global variable '.' plot_enrichment_detailed: no visible binding for global variable 'pathway' plot_enrichment_detailed: no visible binding for global variable 'feature.statistic' plot_factors_vs_cov: no visible binding for global variable 'E2' plot_factors_vs_cov: no visible binding for global variable 'value' plot_interpolation_vs_covariate: no visible binding for global variable 'variance' plot_interpolation_vs_covariate: no visible binding for global variable 'group' plot_interpolation_vs_covariate: no visible binding for global variable 'value.covariate' plot_interpolation_vs_covariate: no visible binding for global variable 'value.factor' plot_interpolation_vs_covariate: no visible binding for global variable 'ymin' plot_interpolation_vs_covariate: no visible binding for global variable 'ymax' plot_sharedness: no visible binding for global variable 'sharedness' plot_sharedness: no visible binding for global variable 'value' plot_smoothness: no visible binding for global variable 'value' plot_smoothness: no visible binding for global variable 'smoothness' plot_top_weights: no visible binding for global variable 'value' plot_weights: no visible binding for global variable 'value' plot_weights: no visible binding for global variable '.' summarise_factors: no visible binding for global variable 'value' summarise_factors: no visible binding for global variable 'level' summarise_factors: no visible binding for global variable 'group' Undefined global functions or variables: . CreateDimReducObject E2 L1 L2 colData covariate covariate_value feature.statistic group level ntotal pathway ptotal sample_id sharedness smoothness value value.covariate value.factor value.unaligned value.warped value_scaled variance view ymax ymin * checking Rd files ... OK * checking Rd metadata ... OK * checking Rd cross-references ... NOTE Package unavailable to check Rd xrefs: 'PCGSE' * checking for missing documentation entries ... OK * checking for code/documentation mismatches ... OK * checking Rd \usage sections ... OK * checking Rd contents ... OK * checking for unstated dependencies in examples ... OK * checking line endings in shell scripts ... OK * checking files in 'vignettes' ... OK * checking examples ... OK * checking for unstated dependencies in 'tests' ... OK * checking tests ... Running 'testthat.R' OK * checking for unstated dependencies in vignettes ... OK * checking package vignettes in 'inst/doc' ... OK * checking running R code from vignettes ... SKIPPED * checking re-building of vignette outputs ... SKIPPED * checking PDF version of manual ... OK * DONE Status: 5 NOTEs See 'C:/Users/biocbuild/bbs-3.14-bioc/meat/MOFA2.Rcheck/00check.log' for details.
MOFA2.Rcheck/00install.out
##############################################################################
##############################################################################
###
### Running command:
###
### C:\Users\biocbuild\bbs-3.14-bioc\R\bin\R.exe --arch x64 CMD INSTALL --no-multiarch MOFA2
###
##############################################################################
##############################################################################
* installing to library 'C:/Users/biocbuild/bbs-3.14-bioc/R/library'
* installing *source* package 'MOFA2' ...
** using non-staged installation via StagedInstall field
** R
** inst
** byte-compile and prepare package for lazy loading
Creating a generic function for 'rownames' from package 'base' in package 'MOFA2'
Creating a generic function for 'colnames' from package 'base' in package 'MOFA2'
Creating a generic function for 'nrow' from package 'base' in package 'MOFA2'
Creating a generic function for 'ncol' from package 'base' in package 'MOFA2'
Creating a generic function for 'rownames<-' from package 'base' in package 'MOFA2'
Creating a generic function for 'colnames<-' from package 'base' in package 'MOFA2'
** help
*** installing help indices
converting help for package 'MOFA2'
finding HTML links ... done
MOFA html
add_mofa_factors_to_seurat html
calculate_contribution_scores html
calculate_variance_explained html
calculate_variance_explained_per_sample
html
cluster_samples html
compare_elbo html
finding level-2 HTML links ... done
compare_factors html
correlate_factors_with_covariates html
covariates_names html
create_mofa html
create_mofa_from_MultiAssayExperiment html
create_mofa_from_Seurat html
create_mofa_from_SingleCellExperiment html
create_mofa_from_df html
create_mofa_from_matrix html
factors_names html
features_metadata html
features_names html
get_covariates html
get_data html
get_default_data_options html
get_default_mefisto_options html
get_default_model_options html
get_default_stochastic_options html
get_default_training_options html
get_dimensions html
get_elbo html
get_expectations html
get_factors html
get_group_kernel html
get_imputed_data html
get_interpolated_factors html
get_lengthscales html
get_scales html
get_variance_explained html
get_weights html
groups_names html
impute html
interpolate_factors html
load_model html
make_example_data html
pipe html
plot_alignment html
plot_ascii_data html
plot_data_heatmap html
plot_data_overview html
plot_data_scatter html
plot_data_vs_cov html
plot_dimred html
plot_enrichment html
plot_enrichment_detailed html
plot_enrichment_heatmap html
plot_factor html
plot_factor_cor html
plot_factors html
plot_factors_vs_cov html
plot_group_kernel html
plot_interpolation_vs_covariate html
plot_sharedness html
plot_smoothness html
plot_top_weights html
plot_variance_explained html
plot_variance_explained_by_covariates html
plot_variance_explained_per_feature html
plot_weights html
plot_weights_heatmap html
plot_weights_scatter html
predict html
prepare_mofa html
run_enrichment html
run_mofa html
run_tsne html
run_umap html
samples_metadata html
samples_names html
select_model html
set_covariates html
subset_factors html
subset_features html
subset_groups html
subset_samples html
subset_views html
summarise_factors html
views_names html
** building package indices
** installing vignettes
** testing if installed package can be loaded
* DONE (MOFA2)
Making 'packages.html' ... done
MOFA2.Rcheck/tests/testthat.Rout
R version 4.1.3 (2022-03-10) -- "One Push-Up"
Copyright (C) 2022 The R Foundation for Statistical Computing
Platform: x86_64-w64-mingw32/x64 (64-bit)
R is free software and comes with ABSOLUTELY NO WARRANTY.
You are welcome to redistribute it under certain conditions.
Type 'license()' or 'licence()' for distribution details.
R is a collaborative project with many contributors.
Type 'contributors()' for more information and
'citation()' on how to cite R or R packages in publications.
Type 'demo()' for some demos, 'help()' for on-line help, or
'help.start()' for an HTML browser interface to help.
Type 'q()' to quit R.
> library(testthat)
> library(MOFA2)
Attaching package: 'MOFA2'
The following object is masked from 'package:stats':
predict
>
> test_check("MOFA2")
single_group
100
____________
| |
view_0 1000 | 100% |
|____________|
____________
| |
view_1 1000 | 100% |
|____________|
[ FAIL 0 | WARN 2 | SKIP 0 | PASS 26 ]
[ FAIL 0 | WARN 2 | SKIP 0 | PASS 26 ]
>
> proc.time()
user system elapsed
10.07 0.57 10.65
MOFA2.Rcheck/MOFA2-Ex.timings
| name | user | system | elapsed | |
| add_mofa_factors_to_seurat | 0.01 | 0.00 | 0.02 | |
| calculate_contribution_scores | 0.30 | 0.05 | 0.64 | |
| calculate_variance_explained | 1.39 | 0.14 | 1.53 | |
| calculate_variance_explained_per_sample | 0.26 | 0.03 | 0.30 | |
| cluster_samples | 0.61 | 0.05 | 0.66 | |
| compare_elbo | 0.33 | 0.00 | 0.33 | |
| compare_factors | 0.39 | 0.05 | 0.43 | |
| covariates_names | 0.33 | 0.06 | 0.57 | |
| create_mofa | 0.94 | 0.06 | 1.04 | |
| create_mofa_from_df | 0.98 | 0.06 | 1.05 | |
| create_mofa_from_matrix | 0.02 | 0.00 | 0.01 | |
| factors_names | 0.15 | 0.00 | 0.16 | |
| features_metadata | 0.16 | 0.05 | 0.20 | |
| features_names | 0.15 | 0.00 | 0.16 | |
| get_covariates | 0.18 | 0.02 | 0.19 | |
| get_data | 1.04 | 0.06 | 1.11 | |
| get_default_data_options | 0.72 | 0.11 | 0.84 | |
| get_default_mefisto_options | 0.19 | 0.01 | 0.20 | |
| get_default_model_options | 0.56 | 0.05 | 0.61 | |
| get_default_stochastic_options | 0.55 | 0.05 | 0.60 | |
| get_default_training_options | 0.50 | 0.06 | 0.56 | |
| get_dimensions | 0.55 | 0.03 | 0.58 | |
| get_elbo | 0.14 | 0.02 | 0.15 | |
| get_expectations | 0.15 | 0.00 | 0.16 | |
| get_factors | 0.16 | 0.00 | 0.16 | |
| get_imputed_data | 0.15 | 0.01 | 0.17 | |
| get_lengthscales | 0.19 | 0.00 | 0.19 | |
| get_scales | 0.21 | 0.00 | 0.20 | |
| get_variance_explained | 0.14 | 0.03 | 0.17 | |
| get_weights | 0.15 | 0.03 | 0.19 | |
| groups_names | 0.16 | 0.00 | 0.15 | |
| impute | 0.19 | 0.00 | 0.19 | |
| interpolate_factors | 0.23 | 0.00 | 0.24 | |
| load_model | 0.16 | 0.00 | 0.15 | |
| make_example_data | 0.01 | 0.00 | 0.02 | |
| plot_ascii_data | 0.16 | 0.00 | 0.15 | |
| plot_data_heatmap | 0.23 | 0.02 | 0.25 | |
| plot_data_overview | 0.27 | 0.02 | 0.29 | |
| plot_data_scatter | 1.30 | 0.03 | 1.32 | |
| plot_data_vs_cov | 0.50 | 0.01 | 0.52 | |
| plot_dimred | 3.78 | 0.00 | 3.78 | |
| plot_factor | 0.95 | 0.00 | 0.95 | |
| plot_factor_cor | 0.17 | 0.02 | 0.19 | |
| plot_factors | 0.50 | 0.01 | 0.52 | |
| plot_factors_vs_cov | 0.42 | 0.02 | 0.44 | |
| plot_group_kernel | 0.30 | 0.03 | 0.33 | |
| plot_interpolation_vs_covariate | 0.45 | 0.05 | 0.50 | |
| plot_smoothness | 0.25 | 0.00 | 0.25 | |
| plot_top_weights | 0.72 | 0.00 | 0.72 | |
| plot_variance_explained | 1.28 | 0.01 | 1.29 | |
| plot_variance_explained_by_covariates | 1.01 | 0.02 | 1.04 | |
| plot_variance_explained_per_feature | 0.30 | 0.01 | 0.31 | |
| plot_weights | 1.92 | 0.04 | 1.95 | |
| plot_weights_heatmap | 0.39 | 0.00 | 0.39 | |
| plot_weights_scatter | 0.33 | 0.00 | 0.33 | |
| predict | 0.16 | 0.00 | 0.16 | |
| prepare_mofa | 0.48 | 0.06 | 0.54 | |
| run_mofa | 1.03 | 0.01 | 1.05 | |
| run_tsne | 0.14 | 0.02 | 0.16 | |
| run_umap | 0.14 | 0.01 | 0.16 | |
| samples_metadata | 0.13 | 0.02 | 0.14 | |
| samples_names | 0.14 | 0.00 | 0.14 | |
| set_covariates | 0.03 | 0.00 | 0.03 | |
| subset_factors | 0.15 | 0.02 | 0.17 | |
| subset_groups | 0.14 | 0.01 | 0.16 | |
| subset_samples | 0.15 | 0.00 | 0.14 | |
| subset_views | 0.14 | 0.03 | 0.17 | |
| views_names | 0.15 | 0.00 | 0.16 | |