| Back to Multiple platform build/check report for BioC 3.14 |
|
This page was generated on 2022-04-13 12:05:36 -0400 (Wed, 13 Apr 2022).
| Hostname | OS | Arch (*) | R version | Installed pkgs |
|---|---|---|---|---|
| nebbiolo2 | Linux (Ubuntu 20.04.4 LTS) | x86_64 | 4.1.3 (2022-03-10) -- "One Push-Up" | 4324 |
| tokay2 | Windows Server 2012 R2 Standard | x64 | 4.1.3 (2022-03-10) -- "One Push-Up" | 4077 |
| machv2 | macOS 10.14.6 Mojave | x86_64 | 4.1.3 (2022-03-10) -- "One Push-Up" | 4137 |
| Click on any hostname to see more info about the system (e.g. compilers) (*) as reported by 'uname -p', except on Windows and Mac OS X | ||||
|
To the developers/maintainers of the MIMOSA package: - Please allow up to 24 hours (and sometimes 48 hours) for your latest push to git@git.bioconductor.org:packages/MIMOSA.git to reflect on this report. See How and When does the builder pull? When will my changes propagate? for more information. - Make sure to use the following settings in order to reproduce any error or warning you see on this page. |
| Package 1152/2083 | Hostname | OS / Arch | INSTALL | BUILD | CHECK | BUILD BIN | ||||||||
| MIMOSA 1.32.0 (landing page) Greg Finak
| nebbiolo2 | Linux (Ubuntu 20.04.4 LTS) / x86_64 | OK | OK | WARNINGS | |||||||||
| tokay2 | Windows Server 2012 R2 Standard / x64 | OK | OK | WARNINGS | OK | |||||||||
| machv2 | macOS 10.14.6 Mojave / x86_64 | OK | OK | OK | OK | |||||||||
| Package: MIMOSA |
| Version: 1.32.0 |
| Command: /home/biocbuild/bbs-3.14-bioc/R/bin/R CMD INSTALL MIMOSA |
| StartedAt: 2022-04-12 03:33:16 -0400 (Tue, 12 Apr 2022) |
| EndedAt: 2022-04-12 03:33:57 -0400 (Tue, 12 Apr 2022) |
| EllapsedTime: 41.4 seconds |
| RetCode: 0 |
| Status: OK |
##############################################################################
##############################################################################
###
### Running command:
###
### /home/biocbuild/bbs-3.14-bioc/R/bin/R CMD INSTALL MIMOSA
###
##############################################################################
##############################################################################
* installing to library ‘/home/biocbuild/bbs-3.14-bioc/R/library’
* installing *source* package ‘MIMOSA’ ...
** using staged installation
** libs
g++ -std=gnu++14 -I"/home/biocbuild/bbs-3.14-bioc/R/include" -DNDEBUG -I'/home/biocbuild/bbs-3.14-bioc/R/library/Rcpp/include' -I'/home/biocbuild/bbs-3.14-bioc/R/library/RcppArmadillo/include' -I/usr/local/include `/home/biocbuild/bbs-3.14-bioc/R/bin/Rscript -e "RcppArmadillo:::CxxFlags()"` -fpic -g -O2 -Wall -c BetaMix.cpp -o BetaMix.o
g++ -std=gnu++14 -I"/home/biocbuild/bbs-3.14-bioc/R/include" -DNDEBUG -I'/home/biocbuild/bbs-3.14-bioc/R/library/Rcpp/include' -I'/home/biocbuild/bbs-3.14-bioc/R/library/RcppArmadillo/include' -I/usr/local/include `/home/biocbuild/bbs-3.14-bioc/R/bin/Rscript -e "RcppArmadillo:::CxxFlags()"` -fpic -g -O2 -Wall -c MCMC.cpp -o MCMC.o
MCMC.cpp: In function ‘SEXPREC* fitMCMC(SEXP, SEXP, SEXP, SEXP, SEXP, SEXP, SEXP, SEXP, SEXP, SEXP, SEXP, SEXP, SEXP, SEXP, SEXP, SEXP, SEXP, SEXP)’:
MCMC.cpp:73:9: warning: suggest parentheses around comparison in operand of ‘|’ [-Wparentheses]
73 | if(file==NULL|fileP==NULL){
| ^
MCMC.cpp:88:18: warning: comparison of integer expressions of different signedness: ‘std::vector<double>::size_type’ {aka ‘long unsigned int’} and ‘int’ [-Wsign-compare]
88 | if(alphas.size()!=stim.ncol()){
| ~~~~~~~~~~~~~^~~~~~~~~~~~~
MCMC.cpp:189:15: warning: comparison of integer expressions of different signedness: ‘int’ and ‘std::vector<double>::size_type’ {aka ‘long unsigned int’} [-Wsign-compare]
189 | for(int i=0;i<alphas.size();i++){
| ~^~~~~~~~~~~~~~
MCMC.cpp:192:15: warning: comparison of integer expressions of different signedness: ‘int’ and ‘std::vector<double>::size_type’ {aka ‘long unsigned int’} [-Wsign-compare]
192 | for(int i=0;i<alphau.size();i++){
| ~^~~~~~~~~~~~~~
MCMC.cpp:524:17: warning: comparison of integer expressions of different signedness: ‘int’ and ‘std::vector<double>::size_type’ {aka ‘long unsigned int’} [-Wsign-compare]
524 | for(int j=0;j<p.size();j++){
| ~^~~~~~~~~
MCMC.cpp:544:21: warning: comparison of integer expressions of different signedness: ‘int’ and ‘std::vector<double>::size_type’ {aka ‘long unsigned int’} [-Wsign-compare]
544 | for(int obs=0;obs<alphas.size();obs++){
| ~~~^~~~~~~~~~~~~~
MCMC.cpp:547:21: warning: comparison of integer expressions of different signedness: ‘int’ and ‘std::vector<double>::size_type’ {aka ‘long unsigned int’} [-Wsign-compare]
547 | for(int obs=0;obs<alphau.size();obs++){
| ~~~^~~~~~~~~~~~~~
MCMC.cpp: In function ‘double lkbeta(const std::vector<double>&)’:
MCMC.cpp:631:15: warning: comparison of integer expressions of different signedness: ‘int’ and ‘std::vector<double>::size_type’ {aka ‘long unsigned int’} [-Wsign-compare]
631 | for(int i=0;i<alpha.size();i++){
| ~^~~~~~~~~~~~~
MCMC.cpp: In function ‘void simZ(double&, std::vector<double>&, std::vector<double>&, std::vector<double>&, std::vector<double>&, std::vector<bool>&, int, int)’:
MCMC.cpp:681:12: warning: comparison of integer expressions of different signedness: ‘int’ and ‘std::vector<double>::size_type’ {aka ‘long unsigned int’} [-Wsign-compare]
681 | for(i=0;i < lnull.size(); i++){
| ~~^~~~~~~~~~~~~~
MCMC.cpp: In function ‘double normconstIBeta(double, double, double, double)’:
MCMC.cpp:815:15: warning: comparison of integer expressions of different signedness: ‘int’ and ‘std::vector<double>::size_type’ {aka ‘long unsigned int’} [-Wsign-compare]
815 | for(int i=0;i<upper.size();i++){
| ~^~~~~~~~~~~~~
MCMC.cpp: In function ‘double nc(double, double, double, double, double)’:
MCMC.cpp:888:15: warning: comparison of integer expressions of different signedness: ‘int’ and ‘std::vector<double>::size_type’ {aka ‘long unsigned int’} [-Wsign-compare]
888 | for(int i=0;i<(s.size()-1);i++){
| ~^~~~~~~~~~~~~
MCMC.cpp:893:15: warning: comparison of integer expressions of different signedness: ‘int’ and ‘std::vector<double>::size_type’ {aka ‘long unsigned int’} [-Wsign-compare]
893 | for(int i=0;i<s.size();i++){
| ~^~~~~~~~~
gcc -I"/home/biocbuild/bbs-3.14-bioc/R/include" -DNDEBUG -I'/home/biocbuild/bbs-3.14-bioc/R/library/Rcpp/include' -I'/home/biocbuild/bbs-3.14-bioc/R/library/RcppArmadillo/include' -I/usr/local/include -fpic -g -O2 -Wall -c MIMOSA_init.c -o MIMOSA_init.o
gcc -I"/home/biocbuild/bbs-3.14-bioc/R/include" -DNDEBUG -I'/home/biocbuild/bbs-3.14-bioc/R/library/Rcpp/include' -I'/home/biocbuild/bbs-3.14-bioc/R/library/RcppArmadillo/include' -I/usr/local/include -fpic -g -O2 -Wall -c betaintegral.c -o betaintegral.o
g++ -std=gnu++14 -I"/home/biocbuild/bbs-3.14-bioc/R/include" -DNDEBUG -I'/home/biocbuild/bbs-3.14-bioc/R/library/Rcpp/include' -I'/home/biocbuild/bbs-3.14-bioc/R/library/RcppArmadillo/include' -I/usr/local/include `/home/biocbuild/bbs-3.14-bioc/R/bin/Rscript -e "RcppArmadillo:::CxxFlags()"` -fpic -g -O2 -Wall -c betaintegralRcpp.cpp -o betaintegralRcpp.o
g++ -std=gnu++14 -shared -L/home/biocbuild/bbs-3.14-bioc/R/lib -L/usr/local/lib -o MIMOSA.so BetaMix.o MCMC.o MIMOSA_init.o betaintegral.o betaintegralRcpp.o -O3 -lm -lstdc++ -I"/home/biocbuild/bbs-3.14-bioc/R/library/RcppArmadillo/include" -L/home/biocbuild/bbs-3.14-bioc/R/lib -lR
installing to /home/biocbuild/bbs-3.14-bioc/R/library/00LOCK-MIMOSA/00new/MIMOSA/libs
** R
** data
*** moving datasets to lazyload DB
** inst
** byte-compile and prepare package for lazy loading
** help
*** installing help indices
** building package indices
** installing vignettes
** testing if installed package can be loaded from temporary location
** checking absolute paths in shared objects and dynamic libraries
** testing if installed package can be loaded from final location
** testing if installed package keeps a record of temporary installation path
* DONE (MIMOSA)