| Back to Multiple platform build/check report for BioC 3.14 |
|
This page was generated on 2022-04-13 12:06:53 -0400 (Wed, 13 Apr 2022).
| Hostname | OS | Arch (*) | R version | Installed pkgs |
|---|---|---|---|---|
| nebbiolo2 | Linux (Ubuntu 20.04.4 LTS) | x86_64 | 4.1.3 (2022-03-10) -- "One Push-Up" | 4324 |
| tokay2 | Windows Server 2012 R2 Standard | x64 | 4.1.3 (2022-03-10) -- "One Push-Up" | 4077 |
| machv2 | macOS 10.14.6 Mojave | x86_64 | 4.1.3 (2022-03-10) -- "One Push-Up" | 4137 |
| Click on any hostname to see more info about the system (e.g. compilers) (*) as reported by 'uname -p', except on Windows and Mac OS X | ||||
|
To the developers/maintainers of the MGFM package: - Please allow up to 24 hours (and sometimes 48 hours) for your latest push to git@git.bioconductor.org:packages/MGFM.git to reflect on this report. See How and When does the builder pull? When will my changes propagate? for more information. - Make sure to use the following settings in order to reproduce any error or warning you see on this page. |
| Package 1134/2083 | Hostname | OS / Arch | INSTALL | BUILD | CHECK | BUILD BIN | ||||||||
| MGFM 1.28.0 (landing page) Khadija El Amrani
| nebbiolo2 | Linux (Ubuntu 20.04.4 LTS) / x86_64 | OK | OK | OK | |||||||||
| tokay2 | Windows Server 2012 R2 Standard / x64 | OK | OK | OK | OK | |||||||||
| machv2 | macOS 10.14.6 Mojave / x86_64 | OK | OK | OK | OK | |||||||||
| Package: MGFM |
| Version: 1.28.0 |
| Command: C:\cygwin\bin\curl.exe -O http://155.52.207.166/BBS/3.14/bioc/src/contrib/MGFM_1.28.0.tar.gz && rm -rf MGFM.buildbin-libdir && mkdir MGFM.buildbin-libdir && C:\Users\biocbuild\bbs-3.14-bioc\R\bin\R.exe CMD INSTALL --merge-multiarch --build --library=MGFM.buildbin-libdir MGFM_1.28.0.tar.gz && C:\Users\biocbuild\bbs-3.14-bioc\R\bin\R.exe CMD INSTALL MGFM_1.28.0.zip && rm MGFM_1.28.0.tar.gz MGFM_1.28.0.zip |
| StartedAt: 2022-04-12 05:51:31 -0400 (Tue, 12 Apr 2022) |
| EndedAt: 2022-04-12 05:52:22 -0400 (Tue, 12 Apr 2022) |
| EllapsedTime: 50.1 seconds |
| RetCode: 0 |
| Status: OK |
##############################################################################
##############################################################################
###
### Running command:
###
### C:\cygwin\bin\curl.exe -O http://155.52.207.166/BBS/3.14/bioc/src/contrib/MGFM_1.28.0.tar.gz && rm -rf MGFM.buildbin-libdir && mkdir MGFM.buildbin-libdir && C:\Users\biocbuild\bbs-3.14-bioc\R\bin\R.exe CMD INSTALL --merge-multiarch --build --library=MGFM.buildbin-libdir MGFM_1.28.0.tar.gz && C:\Users\biocbuild\bbs-3.14-bioc\R\bin\R.exe CMD INSTALL MGFM_1.28.0.zip && rm MGFM_1.28.0.tar.gz MGFM_1.28.0.zip
###
##############################################################################
##############################################################################
% Total % Received % Xferd Average Speed Time Time Time Current
Dload Upload Total Spent Left Speed
0 0 0 0 0 0 0 0 --:--:-- --:--:-- --:--:-- 0
6 2887k 6 186k 0 0 702k 0 0:00:04 --:--:-- 0:00:04 703k
63 2887k 63 1830k 0 0 1408k 0 0:00:02 0:00:01 0:00:01 1408k
100 2887k 100 2887k 0 0 1653k 0 0:00:01 0:00:01 --:--:-- 1653k
install for i386
* installing *source* package 'MGFM' ...
** using staged installation
** R
** data
*** moving datasets to lazyload DB
** byte-compile and prepare package for lazy loading
** help
*** installing help indices
converting help for package 'MGFM'
finding HTML links ... done
MGFM-internal html
MGFM-package html
ds2.mat html
getHtmlpage html
getMarkerGenes html
** building package indices
** installing vignettes
** testing if installed package can be loaded from temporary location
** testing if installed package can be loaded from final location
** testing if installed package keeps a record of temporary installation path
install for x64
* installing *source* package 'MGFM' ...
** testing if installed package can be loaded
* MD5 sums
packaged installation of 'MGFM' as MGFM_1.28.0.zip
* DONE (MGFM)
* installing to library 'C:/Users/biocbuild/bbs-3.14-bioc/R/library'
package 'MGFM' successfully unpacked and MD5 sums checked