| Back to Multiple platform build/check report for BioC 3.14 | 
 | 
This page was generated on 2022-04-13 12:06:51 -0400 (Wed, 13 Apr 2022).
| Hostname | OS | Arch (*) | R version | Installed pkgs | 
|---|---|---|---|---|
| nebbiolo2 | Linux (Ubuntu 20.04.4 LTS) | x86_64 | 4.1.3 (2022-03-10) -- "One Push-Up" | 4324 | 
| tokay2 | Windows Server 2012 R2 Standard | x64 | 4.1.3 (2022-03-10) -- "One Push-Up" | 4077 | 
| machv2 | macOS 10.14.6 Mojave | x86_64 | 4.1.3 (2022-03-10) -- "One Push-Up" | 4137 | 
| Click on any hostname to see more info about the system (e.g. compilers) (*) as reported by 'uname -p', except on Windows and Mac OS X | ||||
| To the developers/maintainers of the MEDME package: - Please allow up to 24 hours (and sometimes 48 hours) for your latest push to git@git.bioconductor.org:packages/MEDME.git to reflect on this report. See How and When does the builder pull? When will my changes propagate? for more information. - Make sure to use the following settings in order to reproduce any error or warning you see on this page. | 
| Package 1078/2083 | Hostname | OS / Arch | INSTALL | BUILD | CHECK | BUILD BIN | ||||||||
| MEDME 1.54.0  (landing page) Mattia Pelizzola 
 | nebbiolo2 | Linux (Ubuntu 20.04.4 LTS) / x86_64 | OK | OK | WARNINGS |  | ||||||||
| tokay2 | Windows Server 2012 R2 Standard / x64 | OK | OK | WARNINGS | OK |  | ||||||||
| machv2 | macOS 10.14.6 Mojave / x86_64 | OK | OK | WARNINGS | OK |  | ||||||||
| Package: MEDME | 
| Version: 1.54.0 | 
| Command: rm -rf MEDME.buildbin-libdir && mkdir MEDME.buildbin-libdir && C:\Users\biocbuild\bbs-3.14-bioc\R\bin\R.exe CMD INSTALL --merge-multiarch --build --library=MEDME.buildbin-libdir MEDME_1.54.0.tar.gz | 
| StartedAt: 2022-04-13 06:32:15 -0400 (Wed, 13 Apr 2022) | 
| EndedAt: 2022-04-13 06:32:45 -0400 (Wed, 13 Apr 2022) | 
| EllapsedTime: 29.5 seconds | 
| RetCode: 0 | 
| Status: OK | 
| PackageFile: MEDME_1.54.0.zip | 
| PackageFileSize: 619.7 KiB | 
##############################################################################
##############################################################################
###
### Running command:
###
###   rm -rf MEDME.buildbin-libdir && mkdir MEDME.buildbin-libdir && C:\Users\biocbuild\bbs-3.14-bioc\R\bin\R.exe CMD INSTALL --merge-multiarch --build --library=MEDME.buildbin-libdir MEDME_1.54.0.tar.gz
###
##############################################################################
##############################################################################
install for i386
* installing *source* package 'MEDME' ...
** using staged installation
** libs
"C:/rtools40/mingw32/bin/"gcc  -I"C:/Users/BIOCBU~1/BBS-3~1.14-/R/include" -DNDEBUG     -I"C:/extsoft/include"     -O2 -Wall  -std=gnu99 -mfpmath=sse -msse2 -mstackrealign  -c MEDMEweight.c -o MEDMEweight.o
MEDMEweight.c: In function 'MEDMEweight':
MEDMEweight.c:78:12: warning: 'weight' may be used uninitialized in this function [-Wmaybe-uninitialized]
  weightSum = weightSum + weight;
  ~~~~~~~~~~^~~~~~~~~~~~~~~~~~~~
MEDMEweight.c:91:42: warning: 'Max' may be used uninitialized in this function [-Wmaybe-uninitialized]
       if(AMSfinal[i] > Max) {AMSfinal[i] = Max;}
                              ~~~~~~~~~~~~^~~~~
MEDMEweight.c:92:42: warning: 'Min' may be used uninitialized in this function [-Wmaybe-uninitialized]
       if(AMSfinal[i] < Min) {AMSfinal[i] = Min;}
                              ~~~~~~~~~~~~^~~~~
MEDMEweight.c:90:33: warning: 'E' may be used uninitialized in this function [-Wmaybe-uninitialized]
       AMSfinal[i] = pow(2, pow( pow(E,B) * (D - Mlim) / (Mlim - C), 1/B));
                                 ^~~~~~~~
MEDMEweight.c:90:47: warning: 'D' may be used uninitialized in this function [-Wmaybe-uninitialized]
       AMSfinal[i] = pow(2, pow( pow(E,B) * (D - Mlim) / (Mlim - C), 1/B));
                                            ~~~^~~~~~~
MEDMEweight.c:90:63: warning: 'C' may be used uninitialized in this function [-Wmaybe-uninitialized]
       AMSfinal[i] = pow(2, pow( pow(E,B) * (D - Mlim) / (Mlim - C), 1/B));
                                                         ~~~~~~^~~~
MEDMEweight.c:90:33: warning: 'B' may be used uninitialized in this function [-Wmaybe-uninitialized]
       AMSfinal[i] = pow(2, pow( pow(E,B) * (D - Mlim) / (Mlim - C), 1/B));
                                 ^~~~~~~~
C:/rtools40/mingw32/bin/gcc -shared -s -static-libgcc -o MEDME.dll tmp.def MEDMEweight.o -LC:/extsoft/lib/i386 -LC:/extsoft/lib -LC:/Users/BIOCBU~1/BBS-3~1.14-/R/bin/i386 -lR
installing to C:/Users/biocbuild/bbs-3.14-bioc/meat/MEDME.buildbin-libdir/00LOCK-MEDME/00new/MEDME/libs/i386
** R
** data
** inst
** byte-compile and prepare package for lazy loading
** help
*** installing help indices
  converting help for package 'MEDME'
    finding HTML links ... done
    CGcount                                 html  
    MEDME                                   html  
    MEDME.predict                           html  
    MEDME.readFiles                         html  
    MEDME.writeFiles                        html  
    MEDMEset-class                          html  
    smooth                                  html  
    testMEDMEset                            html  
** building package indices
** installing vignettes
** testing if installed package can be loaded from temporary location
** testing if installed package can be loaded from final location
** testing if installed package keeps a record of temporary installation path
install for x64
* installing *source* package 'MEDME' ...
** libs
"C:/rtools40/mingw64/bin/"gcc  -I"C:/Users/BIOCBU~1/BBS-3~1.14-/R/include" -DNDEBUG     -I"C:/extsoft/include"     -O2 -Wall  -std=gnu99 -mfpmath=sse -msse2 -mstackrealign  -c MEDMEweight.c -o MEDMEweight.o
MEDMEweight.c: In function 'MEDMEweight':
MEDMEweight.c:78:12: warning: 'weight' may be used uninitialized in this function [-Wmaybe-uninitialized]
  weightSum = weightSum + weight;
  ~~~~~~~~~~^~~~~~~~~~~~~~~~~~~~
MEDMEweight.c:91:42: warning: 'Max' may be used uninitialized in this function [-Wmaybe-uninitialized]
       if(AMSfinal[i] > Max) {AMSfinal[i] = Max;}
                              ~~~~~~~~~~~~^~~~~
MEDMEweight.c:92:42: warning: 'Min' may be used uninitialized in this function [-Wmaybe-uninitialized]
       if(AMSfinal[i] < Min) {AMSfinal[i] = Min;}
                              ~~~~~~~~~~~~^~~~~
MEDMEweight.c:90:33: warning: 'E' may be used uninitialized in this function [-Wmaybe-uninitialized]
       AMSfinal[i] = pow(2, pow( pow(E,B) * (D - Mlim) / (Mlim - C), 1/B));
                                 ^~~~~~~~
MEDMEweight.c:90:47: warning: 'D' may be used uninitialized in this function [-Wmaybe-uninitialized]
       AMSfinal[i] = pow(2, pow( pow(E,B) * (D - Mlim) / (Mlim - C), 1/B));
                                            ~~~^~~~~~~
MEDMEweight.c:90:63: warning: 'C' may be used uninitialized in this function [-Wmaybe-uninitialized]
       AMSfinal[i] = pow(2, pow( pow(E,B) * (D - Mlim) / (Mlim - C), 1/B));
                                                         ~~~~~~^~~~
MEDMEweight.c:90:33: warning: 'B' may be used uninitialized in this function [-Wmaybe-uninitialized]
       AMSfinal[i] = pow(2, pow( pow(E,B) * (D - Mlim) / (Mlim - C), 1/B));
                                 ^~~~~~~~
C:/rtools40/mingw64/bin/gcc -shared -s -static-libgcc -o MEDME.dll tmp.def MEDMEweight.o -LC:/extsoft/lib/x64 -LC:/extsoft/lib -LC:/Users/BIOCBU~1/BBS-3~1.14-/R/bin/x64 -lR
installing to C:/Users/biocbuild/bbs-3.14-bioc/meat/MEDME.buildbin-libdir/MEDME/libs/x64
** testing if installed package can be loaded
* MD5 sums
packaged installation of 'MEDME' as MEDME_1.54.0.zip
* DONE (MEDME)