| Back to Multiple platform build/check report for BioC 3.14 |
|
This page was generated on 2022-04-13 12:06:51 -0400 (Wed, 13 Apr 2022).
| Hostname | OS | Arch (*) | R version | Installed pkgs |
|---|---|---|---|---|
| nebbiolo2 | Linux (Ubuntu 20.04.4 LTS) | x86_64 | 4.1.3 (2022-03-10) -- "One Push-Up" | 4324 |
| tokay2 | Windows Server 2012 R2 Standard | x64 | 4.1.3 (2022-03-10) -- "One Push-Up" | 4077 |
| machv2 | macOS 10.14.6 Mojave | x86_64 | 4.1.3 (2022-03-10) -- "One Push-Up" | 4137 |
| Click on any hostname to see more info about the system (e.g. compilers) (*) as reported by 'uname -p', except on Windows and Mac OS X | ||||
|
To the developers/maintainers of the MEDIPS package: - Please allow up to 24 hours (and sometimes 48 hours) for your latest push to git@git.bioconductor.org:packages/MEDIPS.git to reflect on this report. See How and When does the builder pull? When will my changes propagate? for more information. - Make sure to use the following settings in order to reproduce any error or warning you see on this page. |
| Package 1077/2083 | Hostname | OS / Arch | INSTALL | BUILD | CHECK | BUILD BIN | ||||||||
| MEDIPS 1.46.0 (landing page) Lukas Chavez
| nebbiolo2 | Linux (Ubuntu 20.04.4 LTS) / x86_64 | OK | OK | OK | |||||||||
| tokay2 | Windows Server 2012 R2 Standard / x64 | OK | OK | OK | OK | |||||||||
| machv2 | macOS 10.14.6 Mojave / x86_64 | OK | OK | OK | OK | |||||||||
| Package: MEDIPS |
| Version: 1.46.0 |
| Command: rm -rf MEDIPS.buildbin-libdir && mkdir MEDIPS.buildbin-libdir && C:\Users\biocbuild\bbs-3.14-bioc\R\bin\R.exe CMD INSTALL --merge-multiarch --build --library=MEDIPS.buildbin-libdir MEDIPS_1.46.0.tar.gz |
| StartedAt: 2022-04-13 06:32:14 -0400 (Wed, 13 Apr 2022) |
| EndedAt: 2022-04-13 06:34:22 -0400 (Wed, 13 Apr 2022) |
| EllapsedTime: 127.8 seconds |
| RetCode: 0 |
| Status: OK |
| PackageFile: MEDIPS_1.46.0.zip |
| PackageFileSize: 803.7 KiB |
##############################################################################
##############################################################################
###
### Running command:
###
### rm -rf MEDIPS.buildbin-libdir && mkdir MEDIPS.buildbin-libdir && C:\Users\biocbuild\bbs-3.14-bioc\R\bin\R.exe CMD INSTALL --merge-multiarch --build --library=MEDIPS.buildbin-libdir MEDIPS_1.46.0.tar.gz
###
##############################################################################
##############################################################################
install for i386
* installing *source* package 'MEDIPS' ...
** using staged installation
** R
** inst
** byte-compile and prepare package for lazy loading
No methods found in package 'IRanges' for request: 'values' when loading 'MEDIPS'
** help
*** installing help indices
converting help for package 'MEDIPS'
finding HTML links ... done
COUPLINGset-class html
MEDIPS-package html
MEDIPS.CpGenrich html
MEDIPS.addCNV html
MEDIPS.correlation html
MEDIPS.couplingVector html
MEDIPS.createROIset html
MEDIPS.createSet html
MEDIPS.exportWIG html
MEDIPS.getAnnotation html
MEDIPS.mergeFrames html
MEDIPS.mergeSets html
MEDIPS.meth html
MEDIPS.plotCalibrationPlot html
MEDIPS.plotSaturation html
MEDIPS.plotSeqCoverage html
MEDIPS.saturation html
MEDIPS.selectROIs html
MEDIPS.selectSig html
MEDIPS.seqCoverage html
MEDIPS.setAnnotation html
MEDIPSroiSet-class html
MEDIPSset-class html
** building package indices
** installing vignettes
** testing if installed package can be loaded from temporary location
No methods found in package 'IRanges' for request: 'values' when loading 'MEDIPS'
** testing if installed package can be loaded from final location
No methods found in package 'IRanges' for request: 'values' when loading 'MEDIPS'
** testing if installed package keeps a record of temporary installation path
install for x64
* installing *source* package 'MEDIPS' ...
** testing if installed package can be loaded
No methods found in package 'IRanges' for request: 'values' when loading 'MEDIPS'
* MD5 sums
packaged installation of 'MEDIPS' as MEDIPS_1.46.0.zip
* DONE (MEDIPS)