| Back to Multiple platform build/check report for BioC 3.14 |
|
This page was generated on 2022-04-13 12:06:49 -0400 (Wed, 13 Apr 2022).
| Hostname | OS | Arch (*) | R version | Installed pkgs |
|---|---|---|---|---|
| nebbiolo2 | Linux (Ubuntu 20.04.4 LTS) | x86_64 | 4.1.3 (2022-03-10) -- "One Push-Up" | 4324 |
| tokay2 | Windows Server 2012 R2 Standard | x64 | 4.1.3 (2022-03-10) -- "One Push-Up" | 4077 |
| machv2 | macOS 10.14.6 Mojave | x86_64 | 4.1.3 (2022-03-10) -- "One Push-Up" | 4137 |
| Click on any hostname to see more info about the system (e.g. compilers) (*) as reported by 'uname -p', except on Windows and Mac OS X | ||||
|
To the developers/maintainers of the MAIT package: - Please allow up to 24 hours (and sometimes 48 hours) for your latest push to git@git.bioconductor.org:packages/MAIT.git to reflect on this report. See How and When does the builder pull? When will my changes propagate? for more information. - Make sure to use the following settings in order to reproduce any error or warning you see on this page. |
| Package 1039/2083 | Hostname | OS / Arch | INSTALL | BUILD | CHECK | BUILD BIN | ||||||||
| MAIT 1.28.0 (landing page) Pol Sola-Santos
| nebbiolo2 | Linux (Ubuntu 20.04.4 LTS) / x86_64 | OK | OK | OK | |||||||||
| tokay2 | Windows Server 2012 R2 Standard / x64 | OK | OK | OK | OK | |||||||||
| machv2 | macOS 10.14.6 Mojave / x86_64 | OK | OK | OK | OK | |||||||||
| Package: MAIT |
| Version: 1.28.0 |
| Command: rm -rf MAIT.buildbin-libdir && mkdir MAIT.buildbin-libdir && C:\Users\biocbuild\bbs-3.14-bioc\R\bin\R.exe CMD INSTALL --merge-multiarch --build --library=MAIT.buildbin-libdir MAIT_1.28.0.tar.gz |
| StartedAt: 2022-04-13 06:30:54 -0400 (Wed, 13 Apr 2022) |
| EndedAt: 2022-04-13 06:32:11 -0400 (Wed, 13 Apr 2022) |
| EllapsedTime: 77.0 seconds |
| RetCode: 0 |
| Status: OK |
| PackageFile: MAIT_1.28.0.zip |
| PackageFileSize: 991.5 KiB |
##############################################################################
##############################################################################
###
### Running command:
###
### rm -rf MAIT.buildbin-libdir && mkdir MAIT.buildbin-libdir && C:\Users\biocbuild\bbs-3.14-bioc\R\bin\R.exe CMD INSTALL --merge-multiarch --build --library=MAIT.buildbin-libdir MAIT_1.28.0.tar.gz
###
##############################################################################
##############################################################################
install for i386
* installing *source* package 'MAIT' ...
** using staged installation
** R
** data
** inst
** byte-compile and prepare package for lazy loading
Creating a new generic function for 'scores' in package 'MAIT'
Creating a new generic function for 'loadings' in package 'MAIT'
** help
*** installing help indices
converting help for package 'MAIT'
finding HTML links ... done
Biotransformations html
Database html
FisherLSD html
LSDResults html
MAIT-class html
finding level-2 HTML links ... done
MAIT.FeatureData-class html
MAIT.FeatureInfo-class html
MAIT.Parameters-class html
MAIT.PhenoData-class html
MAIT.RawData-class html
MAIT.Validation-class html
MAIT_dataSet html
MAITbuilder html
PCAplot3d html
PLSDA html
SearchCand html
Validation html
annotateBiotransf html
biotransformationsTable html
classNum html
classes html
classifRatioClasses html
featureID html
featureInfo html
featureSigID html
getScoresTable html
identifyMetabolites html
inBetween html
loadings html
metaboliteTable html
method html
model html
models html
negAdducts html
ovClassifRatio html
ovClassifRatioTable html
parameters html
pcaLoadings html
pcaModel html
pcaScores html
peakAggregation html
peakAnnotation html
plotBoxplot html
plotHeatmap html
plotPCA html
plotPLS html
plsLoadings html
plsModel html
plsScores html
posAdducts html
project html
pvalues html
pvaluesCorrection html
rawData html
removeOnePeakSpectra html
resultsPath html
retrieveSpectrum html
sampleProcessing html
scores html
selectK html
selectPLScomp html
sigPeaksTable html
spectralAnova html
spectralFUN html
spectralKruskal html
spectralSigFeatures html
spectralTStudent html
spectralWelch html
spectralWilcox html
successRatio html
writeExcelTable html
writeParameterTable html
** building package indices
** installing vignettes
** testing if installed package can be loaded from temporary location
** testing if installed package can be loaded from final location
** testing if installed package keeps a record of temporary installation path
install for x64
* installing *source* package 'MAIT' ...
** testing if installed package can be loaded
* MD5 sums
packaged installation of 'MAIT' as MAIT_1.28.0.zip
* DONE (MAIT)