| Back to Multiple platform build/check report for BioC 3.14 | 
 | 
This page was generated on 2022-04-13 12:05:32 -0400 (Wed, 13 Apr 2022).
| Hostname | OS | Arch (*) | R version | Installed pkgs | 
|---|---|---|---|---|
| nebbiolo2 | Linux (Ubuntu 20.04.4 LTS) | x86_64 | 4.1.3 (2022-03-10) -- "One Push-Up" | 4324 | 
| tokay2 | Windows Server 2012 R2 Standard | x64 | 4.1.3 (2022-03-10) -- "One Push-Up" | 4077 | 
| machv2 | macOS 10.14.6 Mojave | x86_64 | 4.1.3 (2022-03-10) -- "One Push-Up" | 4137 | 
| Click on any hostname to see more info about the system (e.g. compilers) (*) as reported by 'uname -p', except on Windows and Mac OS X | ||||
| To the developers/maintainers of the LymphoSeq package: - Please allow up to 24 hours (and sometimes 48 hours) for your latest push to git@git.bioconductor.org:packages/LymphoSeq.git to reflect on this report. See How and When does the builder pull? When will my changes propagate? for more information. - Make sure to use the following settings in order to reproduce any error or warning you see on this page. | 
| Package 1021/2083 | Hostname | OS / Arch | INSTALL | BUILD | CHECK | BUILD BIN | ||||||||
| LymphoSeq 1.22.0  (landing page) David Coffey 
 | nebbiolo2 | Linux (Ubuntu 20.04.4 LTS) / x86_64 | OK | OK | OK |  | ||||||||
| tokay2 | Windows Server 2012 R2 Standard / x64 | OK | OK | OK | OK |  | ||||||||
| machv2 | macOS 10.14.6 Mojave / x86_64 | OK | OK | OK | OK |  | ||||||||
| Package: LymphoSeq | 
| Version: 1.22.0 | 
| Command: /home/biocbuild/bbs-3.14-bioc/R/bin/R CMD check --install=check:LymphoSeq.install-out.txt --library=/home/biocbuild/bbs-3.14-bioc/R/library --no-vignettes --timings LymphoSeq_1.22.0.tar.gz | 
| StartedAt: 2022-04-12 08:01:16 -0400 (Tue, 12 Apr 2022) | 
| EndedAt: 2022-04-12 08:04:14 -0400 (Tue, 12 Apr 2022) | 
| EllapsedTime: 178.5 seconds | 
| RetCode: 0 | 
| Status: OK | 
| CheckDir: LymphoSeq.Rcheck | 
| Warnings: 0 | 
##############################################################################
##############################################################################
###
### Running command:
###
###   /home/biocbuild/bbs-3.14-bioc/R/bin/R CMD check --install=check:LymphoSeq.install-out.txt --library=/home/biocbuild/bbs-3.14-bioc/R/library --no-vignettes --timings LymphoSeq_1.22.0.tar.gz
###
##############################################################################
##############################################################################
* using log directory ‘/home/biocbuild/bbs-3.14-bioc/meat/LymphoSeq.Rcheck’
* using R version 4.1.3 (2022-03-10)
* using platform: x86_64-pc-linux-gnu (64-bit)
* using session charset: UTF-8
* using option ‘--no-vignettes’
* checking for file ‘LymphoSeq/DESCRIPTION’ ... OK
* this is package ‘LymphoSeq’ version ‘1.22.0’
* checking package namespace information ... OK
* checking package dependencies ... OK
* checking if this is a source package ... OK
* checking if there is a namespace ... OK
* checking for hidden files and directories ... OK
* checking for portable file names ... OK
* checking for sufficient/correct file permissions ... OK
* checking whether package ‘LymphoSeq’ can be installed ... OK
* checking installed package size ... NOTE
  installed size is  5.7Mb
  sub-directories of 1Mb or more:
    extdata   5.5Mb
* checking package directory ... OK
* checking ‘build’ directory ... OK
* checking DESCRIPTION meta-information ... OK
* checking top-level files ... OK
* checking for left-over files ... OK
* checking index information ... OK
* checking package subdirectories ... OK
* checking R files for non-ASCII characters ... OK
* checking R files for syntax errors ... OK
* checking whether the package can be loaded ... OK
* checking whether the package can be loaded with stated dependencies ... OK
* checking whether the package can be unloaded cleanly ... OK
* checking whether the namespace can be loaded with stated dependencies ... OK
* checking whether the namespace can be unloaded cleanly ... OK
* checking dependencies in R code ... OK
* checking S3 generic/method consistency ... OK
* checking replacement functions ... OK
* checking foreign function calls ... OK
* checking R code for possible problems ... OK
* checking Rd files ... OK
* checking Rd metadata ... OK
* checking Rd cross-references ... OK
* checking for missing documentation entries ... OK
* checking for code/documentation mismatches ... OK
* checking Rd \usage sections ... OK
* checking Rd contents ... OK
* checking for unstated dependencies in examples ... OK
* checking files in ‘vignettes’ ... OK
* checking examples ... OK
Examples with CPU (user + system) or elapsed time > 5s
                user system elapsed
cloneTrack    24.171  1.644  25.857
productiveSeq 21.198  1.256  22.455
* checking for unstated dependencies in vignettes ... OK
* checking package vignettes in ‘inst/doc’ ... OK
* checking running R code from vignettes ... SKIPPED
* checking re-building of vignette outputs ... SKIPPED
* checking PDF version of manual ... OK
* DONE
Status: 1 NOTE
See
  ‘/home/biocbuild/bbs-3.14-bioc/meat/LymphoSeq.Rcheck/00check.log’
for details.
LymphoSeq.Rcheck/00install.out
############################################################################## ############################################################################## ### ### Running command: ### ### /home/biocbuild/bbs-3.14-bioc/R/bin/R CMD INSTALL LymphoSeq ### ############################################################################## ############################################################################## * installing to library ‘/home/biocbuild/bbs-3.14-bioc/R/library’ * installing *source* package ‘LymphoSeq’ ... ** using staged installation ** R ** inst ** byte-compile and prepare package for lazy loading ** help *** installing help indices ** building package indices ** installing vignettes ** testing if installed package can be loaded from temporary location ** testing if installed package can be loaded from final location ** testing if installed package keeps a record of temporary installation path * DONE (LymphoSeq)
LymphoSeq.Rcheck/LymphoSeq-Ex.timings
| name | user | system | elapsed | |
| alignSeq | 0.651 | 0.024 | 0.685 | |
| bhattacharyyaCoefficient | 0.162 | 0.016 | 0.189 | |
| bhattacharyyaMatrix | 0.153 | 0.007 | 0.161 | |
| chordDiagramVDJ | 0.695 | 0.036 | 0.731 | |
| clonalRelatedness | 1.257 | 0.044 | 0.960 | |
| clonality | 0.050 | 0.000 | 0.051 | |
| cloneTrack | 24.171 | 1.644 | 25.857 | |
| commonSeqs | 0.148 | 0.012 | 0.159 | |
| commonSeqsBar | 0.669 | 0.144 | 0.813 | |
| commonSeqsPlot | 1.099 | 0.040 | 1.139 | |
| commonSeqsVenn | 0.725 | 0.024 | 0.748 | |
| differentialAbundance | 1.66 | 0.04 | 1.70 | |
| exportFasta | 0.193 | 0.020 | 0.213 | |
| geneFreq | 1.878 | 0.100 | 1.978 | |
| lorenzCurve | 0.853 | 0.020 | 0.874 | |
| mergeFiles | 0.067 | 0.004 | 0.072 | |
| pairwisePlot | 0.504 | 0.004 | 0.508 | |
| phyloTree | 4.250 | 0.116 | 4.366 | |
| productive | 0.055 | 0.000 | 0.055 | |
| productiveSeq | 21.198 | 1.256 | 22.455 | |
| readImmunoSeq | 0.036 | 0.003 | 0.040 | |
| removeSeq | 0.05 | 0.00 | 0.05 | |
| searchPublished | 0.151 | 0.000 | 0.152 | |
| searchSeq | 0.776 | 0.004 | 0.780 | |
| seqMatrix | 1.839 | 0.132 | 1.970 | |
| similarityMatrix | 0.156 | 0.004 | 0.161 | |
| similarityScore | 0.138 | 0.004 | 0.143 | |
| topFreq | 2.194 | 0.124 | 2.318 | |
| topSeqs | 0.150 | 0.000 | 0.149 | |
| topSeqsPlot | 0.282 | 0.000 | 0.281 | |
| uniqueSeqs | 0.172 | 0.004 | 0.175 | |