| Back to Multiple platform build/check report for BioC 3.14 | 
  | 
This page was generated on 2022-04-13 12:06:47 -0400 (Wed, 13 Apr 2022).
| Hostname | OS | Arch (*) | R version | Installed pkgs | 
|---|---|---|---|---|
| nebbiolo2 | Linux (Ubuntu 20.04.4 LTS) | x86_64 | 4.1.3 (2022-03-10) -- "One Push-Up" | 4324 | 
| tokay2 | Windows Server 2012 R2 Standard | x64 | 4.1.3 (2022-03-10) -- "One Push-Up" | 4077 | 
| machv2 | macOS 10.14.6 Mojave | x86_64 | 4.1.3 (2022-03-10) -- "One Push-Up" | 4137 | 
| Click on any hostname to see more info about the system (e.g. compilers) (*) as reported by 'uname -p', except on Windows and Mac OS X | ||||
| 
To the developers/maintainers of the LiquidAssociation package: - Please allow up to 24 hours (and sometimes 48 hours) for your latest push to git@git.bioconductor.org:packages/LiquidAssociation.git to reflect on this report. See How and When does the builder pull? When will my changes propagate? for more information. - Make sure to use the following settings in order to reproduce any error or warning you see on this page.  | 
| Package 1004/2083 | Hostname | OS / Arch | INSTALL | BUILD | CHECK | BUILD BIN | ||||||||
| LiquidAssociation 1.48.0  (landing page) Yen-Yi Ho 
  | nebbiolo2 | Linux (Ubuntu 20.04.4 LTS) / x86_64 | OK | OK | OK | |||||||||
| tokay2 | Windows Server 2012 R2 Standard / x64 | OK | OK | OK | OK | |||||||||
| machv2 | macOS 10.14.6 Mojave / x86_64 | OK | OK | OK | OK | |||||||||
| Package: LiquidAssociation | 
| Version: 1.48.0 | 
| Command: C:\Users\biocbuild\bbs-3.14-bioc\R\bin\R.exe CMD check --force-multiarch --install=check:LiquidAssociation.install-out.txt --library=C:\Users\biocbuild\bbs-3.14-bioc\R\library --no-vignettes --timings LiquidAssociation_1.48.0.tar.gz | 
| StartedAt: 2022-04-12 22:01:39 -0400 (Tue, 12 Apr 2022) | 
| EndedAt: 2022-04-12 22:04:15 -0400 (Tue, 12 Apr 2022) | 
| EllapsedTime: 156.3 seconds | 
| RetCode: 0 | 
| Status: OK | 
| CheckDir: LiquidAssociation.Rcheck | 
| Warnings: 0 | 
############################################################################## ############################################################################## ### ### Running command: ### ### C:\Users\biocbuild\bbs-3.14-bioc\R\bin\R.exe CMD check --force-multiarch --install=check:LiquidAssociation.install-out.txt --library=C:\Users\biocbuild\bbs-3.14-bioc\R\library --no-vignettes --timings LiquidAssociation_1.48.0.tar.gz ### ############################################################################## ############################################################################## * using log directory 'C:/Users/biocbuild/bbs-3.14-bioc/meat/LiquidAssociation.Rcheck' * using R version 4.1.3 (2022-03-10) * using platform: x86_64-w64-mingw32 (64-bit) * using session charset: ISO8859-1 * using option '--no-vignettes' * checking for file 'LiquidAssociation/DESCRIPTION' ... OK * checking extension type ... Package * this is package 'LiquidAssociation' version '1.48.0' * checking package namespace information ... OK * checking package dependencies ... OK * checking if this is a source package ... OK * checking if there is a namespace ... OK * checking for hidden files and directories ... OK * checking for portable file names ... OK * checking whether package 'LiquidAssociation' can be installed ... OK * checking installed package size ... OK * checking package directory ... OK * checking 'build' directory ... OK * checking DESCRIPTION meta-information ... NOTE Package listed in more than one of Depends, Imports, Suggests, Enhances: 'methods' A package should be listed in only one of these fields. * checking top-level files ... OK * checking for left-over files ... OK * checking index information ... OK * checking package subdirectories ... OK * checking R files for non-ASCII characters ... OK * checking R files for syntax errors ... OK * loading checks for arch 'i386' ** checking whether the package can be loaded ... OK ** checking whether the package can be loaded with stated dependencies ... OK ** checking whether the package can be unloaded cleanly ... OK ** checking whether the namespace can be loaded with stated dependencies ... OK ** checking whether the namespace can be unloaded cleanly ... OK * loading checks for arch 'x64' ** checking whether the package can be loaded ... OK ** checking whether the package can be loaded with stated dependencies ... OK ** checking whether the package can be unloaded cleanly ... OK ** checking whether the namespace can be loaded with stated dependencies ... OK ** checking whether the namespace can be unloaded cleanly ... OK * checking dependencies in R code ... NOTE Packages in Depends field not imported from: 'geepack' 'org.Sc.sgd.db' 'yeastCC' These packages need to be imported from (in the NAMESPACE file) for when this namespace is loaded but not attached. * checking S3 generic/method consistency ... OK * checking replacement functions ... OK * checking foreign function calls ... OK * checking R code for possible problems ... NOTE CNM.full,matrix: no visible global function definition for 'geese' CNM.full,matrix: no visible binding for global variable 'groupid' CNM.full,matrix: no visible binding for global variable 'visit' CNM.full,matrix: no visible global function definition for 'geese.control' CNM.simple,matrix: no visible global function definition for 'geese' CNM.simple,matrix: no visible binding for global variable 'groupid' CNM.simple,matrix: no visible binding for global variable 'visit' CNM.simple,matrix: no visible global function definition for 'geese.control' Undefined global functions or variables: geese geese.control groupid visit * checking Rd files ... OK * checking Rd metadata ... OK * checking Rd cross-references ... OK * checking for missing documentation entries ... OK * checking for code/documentation mismatches ... OK * checking Rd \usage sections ... OK * checking Rd contents ... OK * checking for unstated dependencies in examples ... OK * checking files in 'vignettes' ... OK * checking examples ... ** running examples for arch 'i386' ... OK ** running examples for arch 'x64' ... OK * checking for unstated dependencies in vignettes ... OK * checking package vignettes in 'inst/doc' ... OK * checking running R code from vignettes ... SKIPPED * checking re-building of vignette outputs ... SKIPPED * checking PDF version of manual ... OK * DONE Status: 3 NOTEs See 'C:/Users/biocbuild/bbs-3.14-bioc/meat/LiquidAssociation.Rcheck/00check.log' for details.
LiquidAssociation.Rcheck/00install.out
##############################################################################
##############################################################################
###
### Running command:
###
###   C:\cygwin\bin\curl.exe -O http://155.52.207.166/BBS/3.14/bioc/src/contrib/LiquidAssociation_1.48.0.tar.gz && rm -rf LiquidAssociation.buildbin-libdir && mkdir LiquidAssociation.buildbin-libdir && C:\Users\biocbuild\bbs-3.14-bioc\R\bin\R.exe CMD INSTALL --merge-multiarch --build --library=LiquidAssociation.buildbin-libdir LiquidAssociation_1.48.0.tar.gz && C:\Users\biocbuild\bbs-3.14-bioc\R\bin\R.exe CMD INSTALL LiquidAssociation_1.48.0.zip && rm LiquidAssociation_1.48.0.tar.gz LiquidAssociation_1.48.0.zip
###
##############################################################################
##############################################################################
  % Total    % Received % Xferd  Average Speed   Time    Time     Time  Current
                                 Dload  Upload   Total   Spent    Left  Speed
  0     0    0     0    0     0      0      0 --:--:-- --:--:-- --:--:--     0
100 43414  100 43414    0     0  85571      0 --:--:-- --:--:-- --:--:-- 85629
100 43414  100 43414    0     0  85521      0 --:--:-- --:--:-- --:--:-- 85460
install for i386
* installing *source* package 'LiquidAssociation' ...
** using staged installation
** R
** byte-compile and prepare package for lazy loading
** help
*** installing help indices
  converting help for package 'LiquidAssociation'
    finding HTML links ... done
    CNM-class                               html  
    CNM.full-methods                        html  
    CNM.simple-methods                      html  
    GLA-methods                             html  
    LA-methods                              html  
    LiquidAssociation-Internal              html  
    LiquidAssociation-package               html  
    getsGLA-methods                         html  
    getsLA-methods                          html  
    plotGLA-methods                         html  
** building package indices
** installing vignettes
** testing if installed package can be loaded from temporary location
** testing if installed package can be loaded from final location
** testing if installed package keeps a record of temporary installation path
install for x64
* installing *source* package 'LiquidAssociation' ...
** testing if installed package can be loaded
* MD5 sums
packaged installation of 'LiquidAssociation' as LiquidAssociation_1.48.0.zip
* DONE (LiquidAssociation)
* installing to library 'C:/Users/biocbuild/bbs-3.14-bioc/R/library'
package 'LiquidAssociation' successfully unpacked and MD5 sums checked
| 
 LiquidAssociation.Rcheck/examples_i386/LiquidAssociation-Ex.timings 
  | 
 LiquidAssociation.Rcheck/examples_x64/LiquidAssociation-Ex.timings 
  |