| Back to Multiple platform build/check report for BioC 3.14 |
|
This page was generated on 2022-04-13 12:06:46 -0400 (Wed, 13 Apr 2022).
| Hostname | OS | Arch (*) | R version | Installed pkgs |
|---|---|---|---|---|
| nebbiolo2 | Linux (Ubuntu 20.04.4 LTS) | x86_64 | 4.1.3 (2022-03-10) -- "One Push-Up" | 4324 |
| tokay2 | Windows Server 2012 R2 Standard | x64 | 4.1.3 (2022-03-10) -- "One Push-Up" | 4077 |
| machv2 | macOS 10.14.6 Mojave | x86_64 | 4.1.3 (2022-03-10) -- "One Push-Up" | 4137 |
| Click on any hostname to see more info about the system (e.g. compilers) (*) as reported by 'uname -p', except on Windows and Mac OS X | ||||
|
To the developers/maintainers of the IsoformSwitchAnalyzeR package: - Please allow up to 24 hours (and sometimes 48 hours) for your latest push to git@git.bioconductor.org:packages/IsoformSwitchAnalyzeR.git to reflect on this report. See How and When does the builder pull? When will my changes propagate? for more information. - Make sure to use the following settings in order to reproduce any error or warning you see on this page. |
| Package 963/2083 | Hostname | OS / Arch | INSTALL | BUILD | CHECK | BUILD BIN | ||||||||
| IsoformSwitchAnalyzeR 1.16.0 (landing page) Kristoffer Vitting-Seerup
| nebbiolo2 | Linux (Ubuntu 20.04.4 LTS) / x86_64 | OK | OK | OK | |||||||||
| tokay2 | Windows Server 2012 R2 Standard / x64 | OK | OK | OK | OK | |||||||||
| machv2 | macOS 10.14.6 Mojave / x86_64 | OK | OK | OK | OK | |||||||||
| Package: IsoformSwitchAnalyzeR |
| Version: 1.16.0 |
| Command: rm -rf IsoformSwitchAnalyzeR.buildbin-libdir && mkdir IsoformSwitchAnalyzeR.buildbin-libdir && C:\Users\biocbuild\bbs-3.14-bioc\R\bin\R.exe CMD INSTALL --merge-multiarch --build --library=IsoformSwitchAnalyzeR.buildbin-libdir IsoformSwitchAnalyzeR_1.16.0.tar.gz |
| StartedAt: 2022-04-13 06:28:17 -0400 (Wed, 13 Apr 2022) |
| EndedAt: 2022-04-13 06:29:57 -0400 (Wed, 13 Apr 2022) |
| EllapsedTime: 99.9 seconds |
| RetCode: 0 |
| Status: OK |
| PackageFile: IsoformSwitchAnalyzeR_1.16.0.zip |
| PackageFileSize: 4.848 MiB |
##############################################################################
##############################################################################
###
### Running command:
###
### rm -rf IsoformSwitchAnalyzeR.buildbin-libdir && mkdir IsoformSwitchAnalyzeR.buildbin-libdir && C:\Users\biocbuild\bbs-3.14-bioc\R\bin\R.exe CMD INSTALL --merge-multiarch --build --library=IsoformSwitchAnalyzeR.buildbin-libdir IsoformSwitchAnalyzeR_1.16.0.tar.gz
###
##############################################################################
##############################################################################
install for i386
* installing *source* package 'IsoformSwitchAnalyzeR' ...
** using staged installation
** libs
"C:/rtools40/mingw32/bin/"gcc -I"C:/Users/BIOCBU~1/BBS-3~1.14-/R/include" -DNDEBUG -I"C:/extsoft/include" -O2 -Wall -std=gnu99 -mfpmath=sse -msse2 -mstackrealign -c utils.c -o utils.o
C:/rtools40/mingw32/bin/gcc -shared -s -static-libgcc -o IsoformSwitchAnalyzeR.dll tmp.def utils.o -LC:/extsoft/lib/i386 -LC:/extsoft/lib -LC:/Users/BIOCBU~1/BBS-3~1.14-/R/bin/i386 -lR
installing to C:/Users/biocbuild/bbs-3.14-bioc/meat/IsoformSwitchAnalyzeR.buildbin-libdir/00LOCK-IsoformSwitchAnalyzeR/00new/IsoformSwitchAnalyzeR/libs/i386
** R
** data
** inst
** byte-compile and prepare package for lazy loading
** help
*** installing help indices
converting help for package 'IsoformSwitchAnalyzeR'
finding HTML links ... done
CDSSet html
IsoformSwitchTestDEXSeq html
IsoformSwitchTestDRIMSeq html
finding level-2 HTML links ... done
addORFfromGTF html
analyzeAlternativSplicing html
analyzeCPAT html
analyzeCPC2 html
analyzeIUPred2A html
analyzeNetSurf2 html
analyzeNovelIsoformORF html
analyzeORF html
analyzePFAM html
analyzeSignalP html
analyzeSwitchConsequences html
expressionAnalysisPlots html
extractConsequenceEnrichment html
extractConsequenceEnrichmentComparison
html
extractConsequenceSummary html
extractGeneExpression html
extractGenomeWideAnalysis html
extractGenomeWideSplicingAnalysis html
extractSequence html
extractSplicingEnrichment html
extractSplicingEnrichmentComparison html
extractSplicingSummary html
extractSwitchOverlap html
extractSwitchSummary html
extractTopSwitches html
getCDS html
importCufflinksGalaxyData html
importGTF html
importIsoformExpression html
importRdata html
importSalmonData html
isoformSwitchAnalysisCombined html
isoformSwitchAnalysisPart1 html
isoformSwitchAnalysisPart2 html
isoformToGeneExp html
isoformToIsoformFraction html
preFilter html
prepareSalmonFilesDataFrame html
subsetSwitchAnalyzeRlist html
switchAnalyzeRlist html
switchPlot html
switchPlotTopSwitches html
switchPlotTranscript html
testData html
** building package indices
** installing vignettes
** testing if installed package can be loaded from temporary location
** testing if installed package can be loaded from final location
** testing if installed package keeps a record of temporary installation path
install for x64
* installing *source* package 'IsoformSwitchAnalyzeR' ...
** libs
"C:/rtools40/mingw64/bin/"gcc -I"C:/Users/BIOCBU~1/BBS-3~1.14-/R/include" -DNDEBUG -I"C:/extsoft/include" -O2 -Wall -std=gnu99 -mfpmath=sse -msse2 -mstackrealign -c utils.c -o utils.o
C:/rtools40/mingw64/bin/gcc -shared -s -static-libgcc -o IsoformSwitchAnalyzeR.dll tmp.def utils.o -LC:/extsoft/lib/x64 -LC:/extsoft/lib -LC:/Users/BIOCBU~1/BBS-3~1.14-/R/bin/x64 -lR
installing to C:/Users/biocbuild/bbs-3.14-bioc/meat/IsoformSwitchAnalyzeR.buildbin-libdir/IsoformSwitchAnalyzeR/libs/x64
** testing if installed package can be loaded
* MD5 sums
packaged installation of 'IsoformSwitchAnalyzeR' as IsoformSwitchAnalyzeR_1.16.0.zip
* DONE (IsoformSwitchAnalyzeR)