| Back to Multiple platform build/check report for BioC 3.14 |
|
This page was generated on 2022-04-13 12:06:44 -0400 (Wed, 13 Apr 2022).
| Hostname | OS | Arch (*) | R version | Installed pkgs |
|---|---|---|---|---|
| nebbiolo2 | Linux (Ubuntu 20.04.4 LTS) | x86_64 | 4.1.3 (2022-03-10) -- "One Push-Up" | 4324 |
| tokay2 | Windows Server 2012 R2 Standard | x64 | 4.1.3 (2022-03-10) -- "One Push-Up" | 4077 |
| machv2 | macOS 10.14.6 Mojave | x86_64 | 4.1.3 (2022-03-10) -- "One Push-Up" | 4137 |
| Click on any hostname to see more info about the system (e.g. compilers) (*) as reported by 'uname -p', except on Windows and Mac OS X | ||||
|
To the developers/maintainers of the InPAS package: - Please allow up to 24 hours (and sometimes 48 hours) for your latest push to git@git.bioconductor.org:packages/InPAS.git to reflect on this report. See How and When does the builder pull? When will my changes propagate? for more information. - Make sure to use the following settings in order to reproduce any error or warning you see on this page. |
| Package 934/2083 | Hostname | OS / Arch | INSTALL | BUILD | CHECK | BUILD BIN | ||||||||
| InPAS 2.2.0 (landing page) Jianhong Ou
| nebbiolo2 | Linux (Ubuntu 20.04.4 LTS) / x86_64 | OK | OK | OK | |||||||||
| tokay2 | Windows Server 2012 R2 Standard / x64 | OK | OK | OK | OK | |||||||||
| machv2 | macOS 10.14.6 Mojave / x86_64 | OK | OK | OK | OK | |||||||||
| Package: InPAS |
| Version: 2.2.0 |
| Command: rm -rf InPAS.buildbin-libdir && mkdir InPAS.buildbin-libdir && C:\Users\biocbuild\bbs-3.14-bioc\R\bin\R.exe CMD INSTALL --merge-multiarch --build --library=InPAS.buildbin-libdir InPAS_2.2.0.tar.gz |
| StartedAt: 2022-04-13 06:26:58 -0400 (Wed, 13 Apr 2022) |
| EndedAt: 2022-04-13 06:28:13 -0400 (Wed, 13 Apr 2022) |
| EllapsedTime: 74.7 seconds |
| RetCode: 0 |
| Status: OK |
| PackageFile: InPAS_2.2.0.zip |
| PackageFileSize: 3.401 MiB |
##############################################################################
##############################################################################
###
### Running command:
###
### rm -rf InPAS.buildbin-libdir && mkdir InPAS.buildbin-libdir && C:\Users\biocbuild\bbs-3.14-bioc\R\bin\R.exe CMD INSTALL --merge-multiarch --build --library=InPAS.buildbin-libdir InPAS_2.2.0.tar.gz
###
##############################################################################
##############################################################################
install for i386
* installing *source* package 'InPAS' ...
** using staged installation
** R
** data
*** moving datasets to lazyload DB
** inst
** byte-compile and prepare package for lazy loading
** help
*** installing help indices
converting help for package 'InPAS'
finding HTML links ... done
InPAS html
UTR3eSet-class html
finding level-2 HTML links ... done
adjust_distalCPs html
adjust_proximalCPs html
adjust_proximalCPsByNBC html
adjust_proximalCPsByPWM html
assemble_allCov html
assign_feature html
compensation html
extract_UTR3Anno html
fft.smooth html
filter_testOut html
find_segmentationSites html
find_valley html
fix_dbLockError html
gcComp html
gcContents html
get_PAscore html
get_PAscore2 html
get_UTR3CDS html
get_UTR3TotalCov html
get_UTR3eSet html
get_UTR3region html
get_depthWeight html
get_regionCov html
get_seqLen html
get_ssRleCov html
get_totalCov html
get_usage4plot html
get_zScoreCutoff html
mapComp html
parse_TxDb html
plot_utr3Usage html
polish_CPs html
remove_convergentUTR3s html
run_coverageQC html
run_fisherExactTest html
run_limmaAnalysis html
run_singleGroupAnalysis html
run_singleSampleAnalysis html
search_CPs html
search_distalCPs html
search_proximalCPs html
setup_CPsSearch html
setup_GSEA html
setup_sqlitedb html
test_dPDUI html
trim_seqnames html
utr3.mm10 html
** building package indices
** installing vignettes
** testing if installed package can be loaded from temporary location
** testing if installed package can be loaded from final location
** testing if installed package keeps a record of temporary installation path
install for x64
* installing *source* package 'InPAS' ...
** testing if installed package can be loaded
* MD5 sums
packaged installation of 'InPAS' as InPAS_2.2.0.zip
* DONE (InPAS)