| Back to Multiple platform build/check report for BioC 3.14 |
|
This page was generated on 2022-04-13 12:06:45 -0400 (Wed, 13 Apr 2022).
| Hostname | OS | Arch (*) | R version | Installed pkgs |
|---|---|---|---|---|
| nebbiolo2 | Linux (Ubuntu 20.04.4 LTS) | x86_64 | 4.1.3 (2022-03-10) -- "One Push-Up" | 4324 |
| tokay2 | Windows Server 2012 R2 Standard | x64 | 4.1.3 (2022-03-10) -- "One Push-Up" | 4077 |
| machv2 | macOS 10.14.6 Mojave | x86_64 | 4.1.3 (2022-03-10) -- "One Push-Up" | 4137 |
| Click on any hostname to see more info about the system (e.g. compilers) (*) as reported by 'uname -p', except on Windows and Mac OS X | ||||
|
To the developers/maintainers of the INSPEcT package: - Please allow up to 24 hours (and sometimes 48 hours) for your latest push to git@git.bioconductor.org:packages/INSPEcT.git to reflect on this report. See How and When does the builder pull? When will my changes propagate? for more information. - Make sure to use the following settings in order to reproduce any error or warning you see on this page. |
| Package 936/2083 | Hostname | OS / Arch | INSTALL | BUILD | CHECK | BUILD BIN | ||||||||
| INSPEcT 1.24.0 (landing page) Stefano de Pretis
| nebbiolo2 | Linux (Ubuntu 20.04.4 LTS) / x86_64 | OK | OK | OK | |||||||||
| tokay2 | Windows Server 2012 R2 Standard / x64 | OK | OK | OK | OK | |||||||||
| machv2 | macOS 10.14.6 Mojave / x86_64 | OK | OK | OK | OK | |||||||||
| Package: INSPEcT |
| Version: 1.24.0 |
| Command: C:\Users\biocbuild\bbs-3.14-bioc\R\bin\R.exe CMD check --force-multiarch --install=check:INSPEcT.install-out.txt --library=C:\Users\biocbuild\bbs-3.14-bioc\R\library --no-vignettes --timings INSPEcT_1.24.0.tar.gz |
| StartedAt: 2022-04-12 21:29:39 -0400 (Tue, 12 Apr 2022) |
| EndedAt: 2022-04-12 21:42:26 -0400 (Tue, 12 Apr 2022) |
| EllapsedTime: 766.7 seconds |
| RetCode: 0 |
| Status: OK |
| CheckDir: INSPEcT.Rcheck |
| Warnings: 0 |
##############################################################################
##############################################################################
###
### Running command:
###
### C:\Users\biocbuild\bbs-3.14-bioc\R\bin\R.exe CMD check --force-multiarch --install=check:INSPEcT.install-out.txt --library=C:\Users\biocbuild\bbs-3.14-bioc\R\library --no-vignettes --timings INSPEcT_1.24.0.tar.gz
###
##############################################################################
##############################################################################
* using log directory 'C:/Users/biocbuild/bbs-3.14-bioc/meat/INSPEcT.Rcheck'
* using R version 4.1.3 (2022-03-10)
* using platform: x86_64-w64-mingw32 (64-bit)
* using session charset: ISO8859-1
* using option '--no-vignettes'
* checking for file 'INSPEcT/DESCRIPTION' ... OK
* checking extension type ... Package
* this is package 'INSPEcT' version '1.24.0'
* checking package namespace information ... OK
* checking package dependencies ... OK
* checking if this is a source package ... OK
* checking if there is a namespace ... OK
* checking for hidden files and directories ... OK
* checking for portable file names ... OK
* checking whether package 'INSPEcT' can be installed ... OK
* checking installed package size ... NOTE
installed size is 7.6Mb
sub-directories of 1Mb or more:
R 1.8Mb
data 2.8Mb
* checking package directory ... OK
* checking 'build' directory ... OK
* checking DESCRIPTION meta-information ... OK
* checking top-level files ... OK
* checking for left-over files ... OK
* checking index information ... OK
* checking package subdirectories ... OK
* checking R files for non-ASCII characters ... OK
* checking R files for syntax errors ... OK
* loading checks for arch 'i386'
** checking whether the package can be loaded ... OK
** checking whether the package can be loaded with stated dependencies ... OK
** checking whether the package can be unloaded cleanly ... OK
** checking whether the namespace can be loaded with stated dependencies ... OK
** checking whether the namespace can be unloaded cleanly ... OK
* loading checks for arch 'x64'
** checking whether the package can be loaded ... OK
** checking whether the package can be loaded with stated dependencies ... OK
** checking whether the package can be unloaded cleanly ... OK
** checking whether the namespace can be loaded with stated dependencies ... OK
** checking whether the namespace can be unloaded cleanly ... OK
* checking dependencies in R code ... OK
* checking S3 generic/method consistency ... OK
* checking replacement functions ... OK
* checking foreign function calls ... OK
* checking R code for possible problems ... NOTE
output_pars: no visible global function definition for 'plot.new'
plotSingleRNADynamic: no visible global function definition for 'lines'
Undefined global functions or variables:
lines plot.new
Consider adding
importFrom("graphics", "lines", "plot.new")
to your NAMESPACE file.
* checking Rd files ... OK
* checking Rd metadata ... OK
* checking Rd cross-references ... OK
* checking for missing documentation entries ... OK
* checking for code/documentation mismatches ... OK
* checking Rd \usage sections ... OK
* checking Rd contents ... OK
* checking for unstated dependencies in examples ... OK
* checking contents of 'data' directory ... OK
* checking data for non-ASCII characters ... OK
* checking data for ASCII and uncompressed saves ... OK
* checking files in 'vignettes' ... OK
* checking examples ...
** running examples for arch 'i386' ... OK
Examples with CPU (user + system) or elapsed time > 5s
user system elapsed
makeSimModel 23.48 0.04 23.54
processingDelay 20.55 0.09 20.64
quantifyExpressionsFromTrCounts 19.94 0.00 19.93
newINSPEcT 18.58 0.04 18.61
compareSteadyNoNascent 9.64 0.56 10.20
makeOscillatorySimModel 6.60 0.16 7.71
** running examples for arch 'x64' ... OK
Examples with CPU (user + system) or elapsed time > 5s
user system elapsed
makeSimModel 27.67 0.05 27.72
processingDelay 21.94 0.00 21.94
quantifyExpressionsFromTrCounts 21.80 0.02 21.81
newINSPEcT 20.28 0.01 20.30
compareSteadyNoNascent 10.61 0.13 10.77
makeOscillatorySimModel 6.67 0.03 13.08
* checking for unstated dependencies in vignettes ... OK
* checking package vignettes in 'inst/doc' ... OK
* checking running R code from vignettes ... SKIPPED
* checking re-building of vignette outputs ... SKIPPED
* checking PDF version of manual ... OK
* DONE
Status: 2 NOTEs
See
'C:/Users/biocbuild/bbs-3.14-bioc/meat/INSPEcT.Rcheck/00check.log'
for details.
INSPEcT.Rcheck/00install.out
##############################################################################
##############################################################################
###
### Running command:
###
### C:\cygwin\bin\curl.exe -O http://155.52.207.166/BBS/3.14/bioc/src/contrib/INSPEcT_1.24.0.tar.gz && rm -rf INSPEcT.buildbin-libdir && mkdir INSPEcT.buildbin-libdir && C:\Users\biocbuild\bbs-3.14-bioc\R\bin\R.exe CMD INSTALL --merge-multiarch --build --library=INSPEcT.buildbin-libdir INSPEcT_1.24.0.tar.gz && C:\Users\biocbuild\bbs-3.14-bioc\R\bin\R.exe CMD INSTALL INSPEcT_1.24.0.zip && rm INSPEcT_1.24.0.tar.gz INSPEcT_1.24.0.zip
###
##############################################################################
##############################################################################
% Total % Received % Xferd Average Speed Time Time Time Current
Dload Upload Total Spent Left Speed
0 0 0 0 0 0 0 0 --:--:-- --:--:-- --:--:-- 0
9 5873k 9 536k 0 0 843k 0 0:00:06 --:--:-- 0:00:06 843k
37 5873k 37 2221k 0 0 1358k 0 0:00:04 0:00:01 0:00:03 1358k
82 5873k 82 4861k 0 0 1844k 0 0:00:03 0:00:02 0:00:01 1844k
100 5873k 100 5873k 0 0 2001k 0 0:00:02 0:00:02 --:--:-- 2001k
install for i386
* installing *source* package 'INSPEcT' ...
** using staged installation
** R
** data
** inst
** byte-compile and prepare package for lazy loading
** help
*** installing help indices
converting help for package 'INSPEcT'
finding HTML links ... done
AIC-INSPEcT-method html
Extract html
INSPEcT-class html
finding level-2 HTML links ... done
INSPEcT-shinyApps html
INSPEcT html
INSPEcT_diffsteady-class html
INSPEcT_model-class html
INSPEcT_steadyNoNascent-class html
PTratio html
PTreg html
allcounts html
calculateRatePvals html
chisqmodel html
chisqtest html
combine html
compareSteady html
compareSteadyNoNascent html
computeConfidenceIntervals html
convergence html
correlationPlot html
dim-INSPEcT-method html
featureNames-INSPEcT-method html
featureWidths html
geneClass html
inHeatmap html
inspectFromBAM html
inspectFromPCR html
labeledSF html
libsizes html
logLik html
makeModelRates html
makeOscillatorySimModel html
makeSimDataset html
makeSimModel html
mature html
matureVar html
modelRates html
modelRatesNF html
modelSelection html
modelingParams html
nGenes html
nTpts html
newINSPEcT html
plotGene html
plotMA html
plotPMgene html
plotPMtrend html
premature html
prematureVar html
processingDelay html
quantifyExpressionsFromBAMs html
quantifyExpressionsFromBWs html
quantifyExpressionsFromTrAbundance html
quantifyExpressionsFromTrCounts html
ratePvals html
ratesFirstGuess html
ratesFirstGuessVar html
removeModel html
rocCurve html
rocThresholds html
setConfidenceIntervals html
simData3rep_Nascent html
simData3rep_NoNascent html
simData4rep_Nascent html
simData4rep_NoNascent html
split html
tpts html
viewConfidenceIntervals html
viewModelRates html
** building package indices
** installing vignettes
** testing if installed package can be loaded from temporary location
** testing if installed package can be loaded from final location
** testing if installed package keeps a record of temporary installation path
install for x64
* installing *source* package 'INSPEcT' ...
** testing if installed package can be loaded
* MD5 sums
packaged installation of 'INSPEcT' as INSPEcT_1.24.0.zip
* DONE (INSPEcT)
* installing to library 'C:/Users/biocbuild/bbs-3.14-bioc/R/library'
package 'INSPEcT' successfully unpacked and MD5 sums checked
|
INSPEcT.Rcheck/examples_i386/INSPEcT-Ex.timings
|
INSPEcT.Rcheck/examples_x64/INSPEcT-Ex.timings
|