| Back to Multiple platform build/check report for BioC 3.14 |
|
This page was generated on 2022-04-13 12:06:44 -0400 (Wed, 13 Apr 2022).
| Hostname | OS | Arch (*) | R version | Installed pkgs |
|---|---|---|---|---|
| nebbiolo2 | Linux (Ubuntu 20.04.4 LTS) | x86_64 | 4.1.3 (2022-03-10) -- "One Push-Up" | 4324 |
| tokay2 | Windows Server 2012 R2 Standard | x64 | 4.1.3 (2022-03-10) -- "One Push-Up" | 4077 |
| machv2 | macOS 10.14.6 Mojave | x86_64 | 4.1.3 (2022-03-10) -- "One Push-Up" | 4137 |
| Click on any hostname to see more info about the system (e.g. compilers) (*) as reported by 'uname -p', except on Windows and Mac OS X | ||||
|
To the developers/maintainers of the IMPCdata package: - Please allow up to 24 hours (and sometimes 48 hours) for your latest push to git@git.bioconductor.org:packages/IMPCdata.git to reflect on this report. See How and When does the builder pull? When will my changes propagate? for more information. - Make sure to use the following settings in order to reproduce any error or warning you see on this page. |
| Package 928/2083 | Hostname | OS / Arch | INSTALL | BUILD | CHECK | BUILD BIN | ||||||||
| IMPCdata 1.30.0 (landing page) Jeremy Mason
| nebbiolo2 | Linux (Ubuntu 20.04.4 LTS) / x86_64 | OK | OK | OK | |||||||||
| tokay2 | Windows Server 2012 R2 Standard / x64 | OK | OK | OK | OK | |||||||||
| machv2 | macOS 10.14.6 Mojave / x86_64 | OK | OK | OK | OK | |||||||||
| Package: IMPCdata |
| Version: 1.30.0 |
| Command: rm -rf IMPCdata.buildbin-libdir && mkdir IMPCdata.buildbin-libdir && C:\Users\biocbuild\bbs-3.14-bioc\R\bin\R.exe CMD INSTALL --merge-multiarch --build --library=IMPCdata.buildbin-libdir IMPCdata_1.30.0.tar.gz |
| StartedAt: 2022-04-13 06:26:46 -0400 (Wed, 13 Apr 2022) |
| EndedAt: 2022-04-13 06:26:51 -0400 (Wed, 13 Apr 2022) |
| EllapsedTime: 5.1 seconds |
| RetCode: 0 |
| Status: OK |
| PackageFile: IMPCdata_1.30.0.zip |
| PackageFileSize: 231.8 KiB |
##############################################################################
##############################################################################
###
### Running command:
###
### rm -rf IMPCdata.buildbin-libdir && mkdir IMPCdata.buildbin-libdir && C:\Users\biocbuild\bbs-3.14-bioc\R\bin\R.exe CMD INSTALL --merge-multiarch --build --library=IMPCdata.buildbin-libdir IMPCdata_1.30.0.tar.gz
###
##############################################################################
##############################################################################
install for i386
* installing *source* package 'IMPCdata' ...
** using staged installation
** R
** inst
** byte-compile and prepare package for lazy loading
** help
*** installing help indices
converting help for package 'IMPCdata'
finding HTML links ... done
getAlleles html
getGenes html
getIMPCDataset html
getIMPCTable html
getName html
getParameters html
getPhenCenters html
getPipelines html
getProcedures html
getStrains html
getZygosities html
printAlleles html
printGenes html
printParameters html
printPhenCenters html
printPipelines html
printProcedures html
printStrains html
** building package indices
** installing vignettes
** testing if installed package can be loaded from temporary location
** testing if installed package can be loaded from final location
** testing if installed package keeps a record of temporary installation path
install for x64
* installing *source* package 'IMPCdata' ...
** testing if installed package can be loaded
* MD5 sums
packaged installation of 'IMPCdata' as IMPCdata_1.30.0.zip
* DONE (IMPCdata)