| Back to Multiple platform build/check report for BioC 3.14 |
|
This page was generated on 2022-04-13 12:06:44 -0400 (Wed, 13 Apr 2022).
| Hostname | OS | Arch (*) | R version | Installed pkgs |
|---|---|---|---|---|
| nebbiolo2 | Linux (Ubuntu 20.04.4 LTS) | x86_64 | 4.1.3 (2022-03-10) -- "One Push-Up" | 4324 |
| tokay2 | Windows Server 2012 R2 Standard | x64 | 4.1.3 (2022-03-10) -- "One Push-Up" | 4077 |
| machv2 | macOS 10.14.6 Mojave | x86_64 | 4.1.3 (2022-03-10) -- "One Push-Up" | 4137 |
| Click on any hostname to see more info about the system (e.g. compilers) (*) as reported by 'uname -p', except on Windows and Mac OS X | ||||
|
To the developers/maintainers of the IMMAN package: - Please allow up to 24 hours (and sometimes 48 hours) for your latest push to git@git.bioconductor.org:packages/IMMAN.git to reflect on this report. See How and When does the builder pull? When will my changes propagate? for more information. - Make sure to use the following settings in order to reproduce any error or warning you see on this page. |
| Package 924/2083 | Hostname | OS / Arch | INSTALL | BUILD | CHECK | BUILD BIN | ||||||||
| IMMAN 1.14.0 (landing page) Minoo Ashtiani
| nebbiolo2 | Linux (Ubuntu 20.04.4 LTS) / x86_64 | OK | OK | OK | |||||||||
| tokay2 | Windows Server 2012 R2 Standard / x64 | OK | OK | OK | OK | |||||||||
| machv2 | macOS 10.14.6 Mojave / x86_64 | OK | OK | OK | OK | |||||||||
| Package: IMMAN |
| Version: 1.14.0 |
| Command: C:\Users\biocbuild\bbs-3.14-bioc\R\bin\R.exe CMD check --force-multiarch --install=check:IMMAN.install-out.txt --library=C:\Users\biocbuild\bbs-3.14-bioc\R\library --no-vignettes --timings IMMAN_1.14.0.tar.gz |
| StartedAt: 2022-04-12 21:23:53 -0400 (Tue, 12 Apr 2022) |
| EndedAt: 2022-04-12 21:33:45 -0400 (Tue, 12 Apr 2022) |
| EllapsedTime: 591.3 seconds |
| RetCode: 0 |
| Status: OK |
| CheckDir: IMMAN.Rcheck |
| Warnings: 0 |
##############################################################################
##############################################################################
###
### Running command:
###
### C:\Users\biocbuild\bbs-3.14-bioc\R\bin\R.exe CMD check --force-multiarch --install=check:IMMAN.install-out.txt --library=C:\Users\biocbuild\bbs-3.14-bioc\R\library --no-vignettes --timings IMMAN_1.14.0.tar.gz
###
##############################################################################
##############################################################################
* using log directory 'C:/Users/biocbuild/bbs-3.14-bioc/meat/IMMAN.Rcheck'
* using R version 4.1.3 (2022-03-10)
* using platform: x86_64-w64-mingw32 (64-bit)
* using session charset: ISO8859-1
* using option '--no-vignettes'
* checking for file 'IMMAN/DESCRIPTION' ... OK
* this is package 'IMMAN' version '1.14.0'
* package encoding: UTF-8
* checking package namespace information ... OK
* checking package dependencies ... OK
* checking if this is a source package ... OK
* checking if there is a namespace ... OK
* checking for hidden files and directories ... OK
* checking for portable file names ... OK
* checking whether package 'IMMAN' can be installed ... OK
* checking installed package size ... OK
* checking package directory ... OK
* checking 'build' directory ... OK
* checking DESCRIPTION meta-information ... OK
* checking top-level files ... OK
* checking for left-over files ... OK
* checking index information ... OK
* checking package subdirectories ... OK
* checking R files for non-ASCII characters ... OK
* checking R files for syntax errors ... OK
* loading checks for arch 'i386'
** checking whether the package can be loaded ... OK
** checking whether the package can be loaded with stated dependencies ... OK
** checking whether the package can be unloaded cleanly ... OK
** checking whether the namespace can be loaded with stated dependencies ... OK
** checking whether the namespace can be unloaded cleanly ... OK
* loading checks for arch 'x64'
** checking whether the package can be loaded ... OK
** checking whether the package can be loaded with stated dependencies ... OK
** checking whether the package can be unloaded cleanly ... OK
** checking whether the namespace can be loaded with stated dependencies ... OK
** checking whether the namespace can be unloaded cleanly ... OK
* checking dependencies in R code ... OK
* checking S3 generic/method consistency ... OK
* checking replacement functions ... OK
* checking foreign function calls ... OK
* checking R code for possible problems ... NOTE
IMMAN: no visible binding for global variable 'tem'
IMMAN : <anonymous>: no visible binding for global variable 'tem'
Undefined global functions or variables:
tem
* checking Rd files ... OK
* checking Rd metadata ... OK
* checking Rd cross-references ... OK
* checking for missing documentation entries ... OK
* checking for code/documentation mismatches ... OK
* checking Rd \usage sections ... OK
* checking Rd contents ... OK
* checking for unstated dependencies in examples ... OK
* checking contents of 'data' directory ... OK
* checking data for non-ASCII characters ... OK
* checking LazyData ... OK
* checking data for ASCII and uncompressed saves ... OK
* checking files in 'vignettes' ... OK
* checking examples ...
** running examples for arch 'i386' ... OK
Examples with CPU (user + system) or elapsed time > 5s
user system elapsed
IMMAN 45.86 1.59 72.59
** running examples for arch 'x64' ... OK
Examples with CPU (user + system) or elapsed time > 5s
user system elapsed
IMMAN 46.85 1.32 183.71
* checking for unstated dependencies in 'tests' ... OK
* checking tests ...
** running tests for arch 'i386' ...
Running 'testthat.R'
OK
** running tests for arch 'x64' ...
Running 'testthat.R'
OK
* checking for unstated dependencies in vignettes ... OK
* checking package vignettes in 'inst/doc' ... OK
* checking running R code from vignettes ... SKIPPED
* checking re-building of vignette outputs ... SKIPPED
* checking PDF version of manual ... OK
* DONE
Status: 1 NOTE
See
'C:/Users/biocbuild/bbs-3.14-bioc/meat/IMMAN.Rcheck/00check.log'
for details.
IMMAN.Rcheck/00install.out
##############################################################################
##############################################################################
###
### Running command:
###
### C:\cygwin\bin\curl.exe -O http://155.52.207.166/BBS/3.14/bioc/src/contrib/IMMAN_1.14.0.tar.gz && rm -rf IMMAN.buildbin-libdir && mkdir IMMAN.buildbin-libdir && C:\Users\biocbuild\bbs-3.14-bioc\R\bin\R.exe CMD INSTALL --merge-multiarch --build --library=IMMAN.buildbin-libdir IMMAN_1.14.0.tar.gz && C:\Users\biocbuild\bbs-3.14-bioc\R\bin\R.exe CMD INSTALL IMMAN_1.14.0.zip && rm IMMAN_1.14.0.tar.gz IMMAN_1.14.0.zip
###
##############################################################################
##############################################################################
% Total % Received % Xferd Average Speed Time Time Time Current
Dload Upload Total Spent Left Speed
0 0 0 0 0 0 0 0 --:--:-- --:--:-- --:--:-- 0
100 13649 100 13649 0 0 69361 0 --:--:-- --:--:-- --:--:-- 69637
install for i386
* installing *source* package 'IMMAN' ...
** using staged installation
** R
** data
*** moving datasets to lazyload DB
** byte-compile and prepare package for lazy loading
** help
*** installing help indices
converting help for package 'IMMAN'
finding HTML links ... done
Celegance html
FruitFly html
H.sapiens html
IMMAN html
R.norvegicus html
** building package indices
** installing vignettes
** testing if installed package can be loaded from temporary location
** testing if installed package can be loaded from final location
** testing if installed package keeps a record of temporary installation path
install for x64
* installing *source* package 'IMMAN' ...
** testing if installed package can be loaded
* MD5 sums
packaged installation of 'IMMAN' as IMMAN_1.14.0.zip
* DONE (IMMAN)
* installing to library 'C:/Users/biocbuild/bbs-3.14-bioc/R/library'
package 'IMMAN' successfully unpacked and MD5 sums checked
|
IMMAN.Rcheck/tests_i386/testthat.Rout
R version 4.1.3 (2022-03-10) -- "One Push-Up"
Copyright (C) 2022 The R Foundation for Statistical Computing
Platform: i386-w64-mingw32/i386 (32-bit)
R is free software and comes with ABSOLUTELY NO WARRANTY.
You are welcome to redistribute it under certain conditions.
Type 'license()' or 'licence()' for distribution details.
R is a collaborative project with many contributors.
Type 'contributors()' for more information and
'citation()' on how to cite R or R packages in publications.
Type 'demo()' for some demos, 'help()' for on-line help, or
'help.start()' for an HTML browser interface to help.
Type 'q()' to quit R.
> library(testthat)
> library(IMMAN)
>
> test_check("IMMAN")
trying URL 'https://stringdb-static.org/download/protein.aliases.v11.0/6239.protein.aliases.v11.0.txt.gz'
Content type 'application/octet-stream' length 2902021 bytes (2.8 MB)
==================================================
downloaded 2.8 MB
trying URL 'https://stringdb-static.org/download/protein.info.v11.0/6239.protein.info.v11.0.txt.gz'
Content type 'application/octet-stream' length 675823 bytes (659 KB)
==================================================
downloaded 659 KB
trying URL 'https://stringdb-static.org/download/protein.aliases.v11.0/7227.protein.aliases.v11.0.txt.gz'
Content type 'application/octet-stream' length 4188915 bytes (4.0 MB)
==================================================
downloaded 4.0 MB
trying URL 'https://stringdb-static.org/download/protein.info.v11.0/7227.protein.info.v11.0.txt.gz'
Content type 'application/octet-stream' length 687988 bytes (671 KB)
==================================================
downloaded 671 KB
trying URL 'https://stringdb-static.org/download/protein.links.v11.0/6239.protein.links.v11.0.txt.gz'
Content type 'application/octet-stream' length 48132415 bytes (45.9 MB)
==================================================
downloaded 45.9 MB
trying URL 'https://stringdb-static.org/download/protein.links.v11.0/7227.protein.links.v11.0.txt.gz'
Content type 'application/octet-stream' length 22010066 bytes (21.0 MB)
==================================================
downloaded 21.0 MB
[ FAIL 0 | WARN 0 | SKIP 0 | PASS 2 ]
>
> proc.time()
user system elapsed
60.64 1.76 94.61
|
IMMAN.Rcheck/tests_x64/testthat.Rout
R version 4.1.3 (2022-03-10) -- "One Push-Up"
Copyright (C) 2022 The R Foundation for Statistical Computing
Platform: x86_64-w64-mingw32/x64 (64-bit)
R is free software and comes with ABSOLUTELY NO WARRANTY.
You are welcome to redistribute it under certain conditions.
Type 'license()' or 'licence()' for distribution details.
R is a collaborative project with many contributors.
Type 'contributors()' for more information and
'citation()' on how to cite R or R packages in publications.
Type 'demo()' for some demos, 'help()' for on-line help, or
'help.start()' for an HTML browser interface to help.
Type 'q()' to quit R.
> library(testthat)
> library(IMMAN)
>
> test_check("IMMAN")
trying URL 'https://stringdb-static.org/download/protein.aliases.v11.0/6239.protein.aliases.v11.0.txt.gz'
Content type 'application/octet-stream' length 2902021 bytes (2.8 MB)
==================================================
downloaded 2.8 MB
trying URL 'https://stringdb-static.org/download/protein.info.v11.0/6239.protein.info.v11.0.txt.gz'
Content type 'application/octet-stream' length 675823 bytes (659 KB)
==================================================
downloaded 659 KB
trying URL 'https://stringdb-static.org/download/protein.aliases.v11.0/7227.protein.aliases.v11.0.txt.gz'
Content type 'application/octet-stream' length 4188915 bytes (4.0 MB)
==================================================
downloaded 4.0 MB
trying URL 'https://stringdb-static.org/download/protein.info.v11.0/7227.protein.info.v11.0.txt.gz'
Content type 'application/octet-stream' length 687988 bytes (671 KB)
==================================================
downloaded 671 KB
trying URL 'https://stringdb-static.org/download/protein.links.v11.0/6239.protein.links.v11.0.txt.gz'
Content type 'application/octet-stream' length 48132415 bytes (45.9 MB)
==================================================
downloaded 45.9 MB
trying URL 'https://stringdb-static.org/download/protein.links.v11.0/7227.protein.links.v11.0.txt.gz'
Content type 'application/octet-stream' length 22010066 bytes (21.0 MB)
==================================================
downloaded 21.0 MB
[ FAIL 0 | WARN 0 | SKIP 0 | PASS 2 ]
>
> proc.time()
user system elapsed
61.40 1.81 96.26
|
|
IMMAN.Rcheck/examples_i386/IMMAN-Ex.timings
|
IMMAN.Rcheck/examples_x64/IMMAN-Ex.timings
|